BEGIN:VCALENDAR
VERSION:2.0
PRODID:-//Beaverhead County - ECPv6.15.20//NONSGML v1.0//EN
CALSCALE:GREGORIAN
METHOD:PUBLISH
X-ORIGINAL-URL:https://beaverheadcountymt.gov
X-WR-CALDESC:Events for Beaverhead County
REFRESH-INTERVAL;VALUE=DURATION:PT1H
X-Robots-Tag:noindex
X-PUBLISHED-TTL:PT1H
BEGIN:VTIMEZONE
TZID:America/Denver
BEGIN:DAYLIGHT
TZOFFSETFROM:-0700
TZOFFSETTO:-0600
TZNAME:MDT
DTSTART:20230312T090000
END:DAYLIGHT
BEGIN:STANDARD
TZOFFSETFROM:-0600
TZOFFSETTO:-0700
TZNAME:MST
DTSTART:20231105T080000
END:STANDARD
BEGIN:DAYLIGHT
TZOFFSETFROM:-0700
TZOFFSETTO:-0600
TZNAME:MDT
DTSTART:20240310T090000
END:DAYLIGHT
BEGIN:STANDARD
TZOFFSETFROM:-0600
TZOFFSETTO:-0700
TZNAME:MST
DTSTART:20241103T080000
END:STANDARD
BEGIN:DAYLIGHT
TZOFFSETFROM:-0700
TZOFFSETTO:-0600
TZNAME:MDT
DTSTART:20250309T090000
END:DAYLIGHT
BEGIN:STANDARD
TZOFFSETFROM:-0600
TZOFFSETTO:-0700
TZNAME:MST
DTSTART:20251102T080000
END:STANDARD
END:VTIMEZONE
BEGIN:VEVENT
DTSTART;TZID=America/Denver:20240923T090000
DTEND;TZID=America/Denver:20240923T170000
DTSTAMP:20260421T144344
CREATED:20240919T164331Z
LAST-MODIFIED:20240920T170820Z
UID:15613-1727082000-1727110800@beaverheadcountymt.gov
SUMMARY:Beaverhead County Commissioners' Meeting
DESCRIPTION:Meetings will be livestreamed on YouTube live @BeaverheadcountyCommissioner \nAgenda \n\n9:00 A.M.\nPledge of Allegiance\nUpdate on County Projects\nPublic Comment\nCommissioners Report\nPublic Comment \n\n9:30 A.M.\nDiscussion ~ Clark Creek Road ~ Beaverhead Deerlodge National Forest – Dillon Ranger District\nPublic Comment \n\n10:30 A.M.\nDiscussion & Action~ Fire Restrictions\nPublic Comment \n\n11:00 A.M.\nDiscussion & Action ~ Extension County Agreement\nPublic Comment \n\n11:30 A.M.\nDiscussion & Action ~ Axes’ Canyon Estates Minor Subdivision – Preliminary Plat Approval\nPublic Comment \n\n12:00 P.M.\nRecess for lunch \n\n1:30 P.M.\nDiscussion ~ Speed Study for Highway 91 S.\nPublic Comment \n\n4:15 P.M.\nUnfinished Business / Other Topics of Discussion\nPublic Comment \n\n4:30 P.M.\nPublic Comments Under County Jurisdiction Not on Agenda\nPublic Comment \n\n4:45 P.M.\nPayment of Invoices\nPublic Comment\nAction on Previous Meeting Minutes\nPublic Comment \n\n5:00 P.M.\nAdjourn
URL:https://beaverheadcountymt.gov/event/beaverhead-county-commissioners-meeting-194/
LOCATION:Commissioners’ Meeting Room\, 2 S. Pacific St\, Dillon\, MT\, 59725\, United States
CATEGORIES:Event
END:VEVENT
END:VCALENDAR