BEGIN:VCALENDAR
VERSION:2.0
PRODID:-//Beaverhead County - ECPv6.15.20//NONSGML v1.0//EN
CALSCALE:GREGORIAN
METHOD:PUBLISH
X-WR-CALNAME:Beaverhead County
X-ORIGINAL-URL:https://beaverheadcountymt.gov
X-WR-CALDESC:Events for Beaverhead County
REFRESH-INTERVAL;VALUE=DURATION:PT1H
X-Robots-Tag:noindex
X-PUBLISHED-TTL:PT1H
BEGIN:VTIMEZONE
TZID:America/Denver
BEGIN:DAYLIGHT
TZOFFSETFROM:-0700
TZOFFSETTO:-0600
TZNAME:MDT
DTSTART:20210314T090000
END:DAYLIGHT
BEGIN:STANDARD
TZOFFSETFROM:-0600
TZOFFSETTO:-0700
TZNAME:MST
DTSTART:20211107T080000
END:STANDARD
BEGIN:DAYLIGHT
TZOFFSETFROM:-0700
TZOFFSETTO:-0600
TZNAME:MDT
DTSTART:20220313T090000
END:DAYLIGHT
BEGIN:STANDARD
TZOFFSETFROM:-0600
TZOFFSETTO:-0700
TZNAME:MST
DTSTART:20221106T080000
END:STANDARD
BEGIN:DAYLIGHT
TZOFFSETFROM:-0700
TZOFFSETTO:-0600
TZNAME:MDT
DTSTART:20230312T090000
END:DAYLIGHT
BEGIN:STANDARD
TZOFFSETFROM:-0600
TZOFFSETTO:-0700
TZNAME:MST
DTSTART:20231105T080000
END:STANDARD
END:VTIMEZONE
BEGIN:VEVENT
DTSTART;TZID=America/Denver:20221003T090000
DTEND;TZID=America/Denver:20221003T170000
DTSTAMP:20260423T190722
CREATED:20220929T203843Z
LAST-MODIFIED:20220929T203843Z
UID:8748-1664787600-1664816400@beaverheadcountymt.gov
SUMMARY:Beaverhead County Commissioners' Meeting
DESCRIPTION:Agenda \n\n9:00 A.M.\nPledge of Allegiance\nUpdates on County Projects\nPublic Comment\nAction on Previous Meeting Minutes\nPublic Comment\nPublic Comments Under County Jurisdiction Not on Agenda \n\n9:15 A.M.\nDiscussion & Action ~ Emergency Resolution for Backup Generator\nPublic Comment \n\n10:30 A.M.\nDiscussion ~ Planning Board & Growth Policy work Session\nPublic Comment \n\n12:00 P.M.\nRECESS for lunch \n\n1:30 P.M.\nPayment of Invoices\nPublic Comment \n\n5:00 P.M\nAdjourn
URL:https://beaverheadcountymt.gov/event/beaverhead-county-commissioners-meeting-93/
LOCATION:Commissioners’ Meeting Room\, 2 S. Pacific St\, Dillon\, MT\, 59725\, United States
CATEGORIES:Meeting
END:VEVENT
BEGIN:VEVENT
DTSTART;TZID=America/Denver:20221011T090000
DTEND;TZID=America/Denver:20221011T170000
DTSTAMP:20260423T190722
CREATED:20221006T154714Z
LAST-MODIFIED:20221006T154714Z
UID:8784-1665478800-1665507600@beaverheadcountymt.gov
SUMMARY:Beaverhead County Commissioners' Meeting
DESCRIPTION:Agenda \n\n9:00 A.M.\nPledge of Allegiance\nUpdates on County Projects\nPublic Comment\nAction on Previous Meeting Minutes\nPublic Comment\nPublic Comments Under County Jurisdiction Not on Agenda \n\n10:00 A.M.\nDiscussion ~ City & County Business/Update\nPublic Comment \n\n10:30 A.M.\nDiscussion & Action ~ Emergency Resolution 2022-30 to Install Back-up Generator at Courthouse Which Includes A 1000Gal Underground Propane Supply Tank\nPublic Comment \n\n11:00 A.M.\nDrought Task Force\nPublic Comment \n\n12:00 P.M.\nRECESS for lunch \n\n1:30 P.M.\nPayment of Invoices\nPublic Comment \n\n5:00 P.M\nAdjourn
URL:https://beaverheadcountymt.gov/event/beaverhead-county-commissioners-meeting-94/
LOCATION:Commissioners’ Meeting Room\, 2 S. Pacific St\, Dillon\, MT\, 59725\, United States
CATEGORIES:Meeting
END:VEVENT
BEGIN:VEVENT
DTSTART;TZID=America/Denver:20221012T120000
DTEND;TZID=America/Denver:20221012T130000
DTSTAMP:20260423T190722
CREATED:20221005T221909Z
LAST-MODIFIED:20221005T221909Z
UID:8782-1665576000-1665579600@beaverheadcountymt.gov
SUMMARY:Beaverhead County DUI Task Force Meeting
DESCRIPTION:Agenda Topics \n\n1. Welcome/Introductions/scribe – Pledge of Allegiance \n2. Approve of August 10\, 2022 meeting minutes \n3. Budget Report Update – Larry \n4. Labor Day Sober Ride Presentation – Maria \n5. Reconciliation of Labor Day Expenses MIDAC/Sober \n6. Discussion of upcoming Holiday Advertising – radio and print ads? \n7. Other: Suggestions/Comments \nAdjourn \nMark your calendars – next meeting December14\, 2022\nThank you very much Shannon for providing lunch!!\nLunch on Dec. 14th will be provided by ______________________
URL:https://beaverheadcountymt.gov/event/beaverhead-county-dui-task-force-meeting-4/
LOCATION:Courthouse Break Room\, 2 S. Pacific St\, Dillon\, MT\, 59725\, United States
CATEGORIES:Meeting
END:VEVENT
BEGIN:VEVENT
DTSTART;TZID=America/Denver:20221013T173000
DTEND;TZID=America/Denver:20221013T183000
DTSTAMP:20260423T190722
CREATED:20221011T165444Z
LAST-MODIFIED:20221011T165444Z
UID:8804-1665682200-1665685800@beaverheadcountymt.gov
SUMMARY:Beaverhead-Jackson Water & Sewer District Meeting
DESCRIPTION:Agenda \n\n1. Call to Order \n2. Reading\, Correction\, and Approval of Previous Minutes from 9/8/22 \n3. Treasurer’s Report: \nAccount Balance \nAccounts Payable \n4. Sewer Update – Bob Lewis \na. Log dates – sewer check \nb. Sewer pumping/repairs \nc. Cost/Invoices DNRC Grant $10\,000 \nd. APE Invoice of $6\,195 \n5. Water Update – Bob Lewis \na. Minor purchases \ni. CL pump \nb. Upcoming copper and lead service line inventory for all connections \n6. Old Business \na. INTERCAP LOAN – October 5\, 2022 – Meeting with Beaverhead County Commissioners-(Susan Olsen & Frances Royer) \ni. ARPA Commitment Letter/ARPA Application deadline 11/1/2022 \nii. WWC Shawn Higley – work with JWSD to acquire “grants” to help pay Intercap Loan \nb. State Revolving Fund (SRF) or CBDG – Grant \nc. Application for UEI Number \nd. Committee Report to Update JWSD By-Laws – \ne. Committer Report on raising water/sewer rates- \ni. Re-evaluation of how commercial properties are being billed \nf. Letter to “Yellowstone” Film Crew – Unmetered water usage – \n7. New Business \na. Consent Decree – 18 months complete end of October – January 2023 Appeal to dissolve \n8. Public Comment \n9. Adjournment
URL:https://beaverheadcountymt.gov/event/beaverhead-jackson-water-sewer-district-meeting-3/
LOCATION:Jackson School\, 415 Jardine Ave\, Jackson\, 59736\, United States
CATEGORIES:Meeting
END:VEVENT
BEGIN:VEVENT
DTSTART;TZID=America/Denver:20221017T090000
DTEND;TZID=America/Denver:20221017T170000
DTSTAMP:20260423T190722
CREATED:20221013T152326Z
LAST-MODIFIED:20221013T152326Z
UID:8819-1665997200-1666026000@beaverheadcountymt.gov
SUMMARY:Beaverhead County Commissioners’ Meeting
DESCRIPTION:Agenda \n\n9:00 A.M.\nPledge of Allegiance\nUpdates on County Projects\nPublic Comment\nAction on Previous Meeting Minutes\nPublic Comment\nPublic Comments Under County Jurisdiction Not on Agenda \n\n9:30 A.M.\nDiscussion & Action- Resolution 2022-32: Supporting Operation Green Light for Veterans\nPublic Comment \n\n10:00 A.M.\nDiscussion & Action: Western Montana Mental Health\nPublic Comment \n\n11:00 A.M.\n911 Communications Board Meeting\nPublic Comment \n\n12:00 P.M.\nRECESS for lunch \n\n1:30 P.M.\nSafety & Wellness Team Meeting\nPublic Comment \n\n2:30 P.M.\nDiscussion ~ Unfinished Business / Other Topics of Discussion\nPublic Comment \n\n4:00 P.M.\nPayment of Invoices\nPublic Comment \n\n5:00 P.M.\nADJOURN
URL:https://beaverheadcountymt.gov/event/beaverhead-county-commissioners-meeting-95/
LOCATION:Commissioners’ Meeting Room\, 2 S. Pacific St\, Dillon\, MT\, 59725\, United States
CATEGORIES:Meeting
END:VEVENT
BEGIN:VEVENT
DTSTART;TZID=America/Denver:20221019T170000
DTEND;TZID=America/Denver:20221019T190000
DTSTAMP:20260423T190722
CREATED:20221019T200624Z
LAST-MODIFIED:20221019T200624Z
UID:8829-1666198800-1666206000@beaverheadcountymt.gov
SUMMARY:Beaverhead County Museum Board of Trustees Meeting
DESCRIPTION:Agenda \n\n1. Introduction of Guests: \n2. Approval of consent Minutes: \n3. Trustees (7): \nJohn Breen\, John Garry\, Lee Graves\, Aggie Helle\, Donna Jones\, Lorraine King\, Neal Straus \nDirector\, Present: Candi Whitworth \n4. Trustees Excused Absent: \n5. Treasurer’s Report: Neal Straus \na. Financial Report \n6. Association Report: Lynn Giles \na. Association updates \n7. Old Business: \na. Coverage for the museum \nb. Painting of the buildings \nc. Exhibit/Event Committee Report\, Railroad Exhibit \n8. New Business: \na. Security/ Alarm System \nb. Fall Maintenance/Snow Removal \nc. Depot Programs \nd. TBD \n9. Other Business: \n10. Public Discussion:\nPublic comment on items of significant public interest not on the agenda and within the jurisdiction of the Beaverhead County Museum Board of Trustees. \n11. Set date of the next meeting: \n12. Adjournment
URL:https://beaverheadcountymt.gov/event/beaverhead-county-museum-board-of-trustees-meeting-20/
LOCATION:Museum\, 15 S. Montana St\, Dillon\, MT\, 59725\, United States
CATEGORIES:Meeting
ORGANIZER;CN="Candi Whitworth":MAILTO:bvhdmuseum@hotmail.com
END:VEVENT
BEGIN:VEVENT
DTSTART;TZID=America/Denver:20221024T090000
DTEND;TZID=America/Denver:20221024T170000
DTSTAMP:20260423T190722
CREATED:20221020T152813Z
LAST-MODIFIED:20221020T152813Z
UID:8833-1666602000-1666630800@beaverheadcountymt.gov
SUMMARY:Beaverhead County Commissioners’ Meeting
DESCRIPTION:Agenda \n\n9:00 A.M.\nPledge of Allegiance\nUpdates on County Projects\nPublic Comment\nAction on Previous Meeting Minutes\nPublic Comment\nPublic Comments Under County Jurisdiction Not on Agenda \n\n9:30 A.M.\nDiscussion & Action- Resolution 2022-33: A Resolution Requesting Authority for Distribution of County Minimum Allocation Grants for Water and Sewer Infrastructure Projects- Dillon\nPublic Comment\nDiscussion & Action- Resolution 2022-34: A Resolution Requesting Authority for Distribution of County Minimum Allocation Grants for Water and Sewer Infrastructure Projects- Lima\nPublic Comment \n\n12:00 P.M.\nRecess for lunch \n\n1:30 P.M.\nDepartment Head Meeting\nPublic Comment \n\n2:30 P.M.\nDiscussion ~ Unfinished Business / Other Topics of Discussion\nPublic Comment \n\n4:00 P.M.\nPayment of Invoices\nPublic Comment \n\n5:00 P.M.\nAdjourn
URL:https://beaverheadcountymt.gov/event/beaverhead-county-commissioners-meeting-96/
LOCATION:Commissioners’ Meeting Room\, 2 S. Pacific St\, Dillon\, MT\, 59725\, United States
CATEGORIES:Meeting
END:VEVENT
BEGIN:VEVENT
DTSTART;TZID=America/Denver:20221031T090000
DTEND;TZID=America/Denver:20221031T170000
DTSTAMP:20260423T190722
CREATED:20221027T155654Z
LAST-MODIFIED:20221027T161109Z
UID:8845-1667206800-1667235600@beaverheadcountymt.gov
SUMMARY:Beaverhead County Commissioners’ Meeting
DESCRIPTION:Agenda \n\n9:00 A.M.\nPledge of Allegiance\nUpdates on County Projects\nPublic Comment\nAction on Previous Meeting Minutes\nPublic Comment\nPublic Comments Under County Jurisdiction Not on Agenda \n\n  \n12:00 P.M.\nRECESS for lunch \n\n1:30 P.M.\nDiscussion- Growth Policy Review & Comment\nPublic Comment \n\n2:30 P.M.\nDiscussion ~ Unfinished Business / Other Topics of Discussion\nPublic Comment \n\n4:00 P.M.\nPayment of Invoices\nPublic Comment \n\n5:00 P.M.\nRecess Until November 2\, 2022
URL:https://beaverheadcountymt.gov/event/beaverhead-county-commissioners-meeting-97/
LOCATION:Commissioners’ Meeting Room\, 2 S. Pacific St\, Dillon\, MT\, 59725\, United States
CATEGORIES:Meeting
END:VEVENT
BEGIN:VEVENT
DTSTART;TZID=America/Denver:20221031T110000
DTEND;TZID=America/Denver:20221031T120000
DTSTAMP:20260423T190722
CREATED:20221017T162524Z
LAST-MODIFIED:20221017T162524Z
UID:8824-1667214000-1667217600@beaverheadcountymt.gov
SUMMARY:Beaverhead County Planning Board Special Meeting
DESCRIPTION:Agenda\n**All times are approximate** \n\n11:00 A.M.\nDiscussion on County Growth Policy – Final Edits\, Commissioner Edits \n\n11:45 A.M.\nPublic Comments & Questions \n\n12:00 P.M.\nAdjourn
URL:https://beaverheadcountymt.gov/event/beaverhead-county-planning-board-special-meeting/
LOCATION:Law Enforcement Multi-Purpose Room\, Tendoy St\, Dillon\, MT\, 59725\, United States
CATEGORIES:Meeting
ORGANIZER;CN="Rochelle Hoerning":MAILTO:rhoerning@beaverheadcountymt.gov
END:VEVENT
END:VCALENDAR