BEGIN:VCALENDAR
VERSION:2.0
PRODID:-//Beaverhead County - ECPv6.15.20//NONSGML v1.0//EN
CALSCALE:GREGORIAN
METHOD:PUBLISH
X-ORIGINAL-URL:https://beaverheadcountymt.gov
X-WR-CALDESC:Events for Beaverhead County
REFRESH-INTERVAL;VALUE=DURATION:PT1H
X-Robots-Tag:noindex
X-PUBLISHED-TTL:PT1H
BEGIN:VTIMEZONE
TZID:America/Denver
BEGIN:DAYLIGHT
TZOFFSETFROM:-0700
TZOFFSETTO:-0600
TZNAME:MDT
DTSTART:20210314T090000
END:DAYLIGHT
BEGIN:STANDARD
TZOFFSETFROM:-0600
TZOFFSETTO:-0700
TZNAME:MST
DTSTART:20211107T080000
END:STANDARD
BEGIN:DAYLIGHT
TZOFFSETFROM:-0700
TZOFFSETTO:-0600
TZNAME:MDT
DTSTART:20220313T090000
END:DAYLIGHT
BEGIN:STANDARD
TZOFFSETFROM:-0600
TZOFFSETTO:-0700
TZNAME:MST
DTSTART:20221106T080000
END:STANDARD
BEGIN:DAYLIGHT
TZOFFSETFROM:-0700
TZOFFSETTO:-0600
TZNAME:MDT
DTSTART:20230312T090000
END:DAYLIGHT
BEGIN:STANDARD
TZOFFSETFROM:-0600
TZOFFSETTO:-0700
TZNAME:MST
DTSTART:20231105T080000
END:STANDARD
END:VTIMEZONE
BEGIN:VEVENT
DTSTART;TZID=America/Denver:20221102T111500
DTEND;TZID=America/Denver:20221102T120000
DTSTAMP:20260423T173720
CREATED:20221027T155903Z
LAST-MODIFIED:20221027T160539Z
UID:8847-1667387700-1667390400@beaverheadcountymt.gov
SUMMARY:Beaverhead County Commissioners’ Meeting
DESCRIPTION:Agenda \n\n11:15 A.M.\nDiscussion ~ Senator Steve Daines Representative’s – Cindy Perdue-Dolan and Regional Director Ron Catlett\nPublic Comment \n\n12:00 P.M\nAdjourn
URL:https://beaverheadcountymt.gov/event/beaverhead-county-commissioners-meeting-98/
LOCATION:Commissioners’ Meeting Room\, 2 S. Pacific St\, Dillon\, MT\, 59725\, United States
CATEGORIES:Meeting
END:VEVENT
BEGIN:VEVENT
DTSTART;TZID=America/Denver:20221107T090000
DTEND;TZID=America/Denver:20221107T170000
DTSTAMP:20260423T173720
CREATED:20221104T154344Z
LAST-MODIFIED:20221104T154344Z
UID:8872-1667811600-1667840400@beaverheadcountymt.gov
SUMMARY:Beaverhead County Commissioners' Meeting
DESCRIPTION:AGENDA \n\n9:00 A.M.\nPledge of Allegiance\nUpdates on County Projects\nPublic Comment\nAction on Previous Meeting Minutes\nPublic Comment\nPublic Comments Under County Jurisdiction Not on Agenda \n\n9:30 A.M.\nDiscussion ~ Chamber Update\nPublic Comment \n\n10:00 A.M.\nDiscussion~ City & County Business/ Update\nPublic Comment \n\n10:30 A.M.\nDiscussion~ Mental Commitment Costs\nPublic Comment \n\n11:00 A.M.\nDiscussion & Action~ Adopt Growth Policy\nPublic Comment \n\n12:00 P.M.\nRECESS for lunch \n\n1:30 P.M.\nDiscussion~ Chad Bauer- Republic Services Recycling Center\nPublic Comment \n\n2:00 P.M.\nDiscussion~ Pioneer Services LLC & Forest Service Travel Management\nPublic Comment \n\n3:00 P.M.\nUnfinished Business / Other Topics of Discussion\nPublic Comment \n\n3:30 P.M.\nPublic Comments Under County Jurisdiction Not on Agenda\nPublic Comment \n\n4:00 P.M.\nPayment of Invoices\nPublic Comment \n\n5:00 P.M.\nAdjourn
URL:https://beaverheadcountymt.gov/event/beaverhead-county-commissioners-meeting-99/
LOCATION:Courthouse Break Room\, 2 S. Pacific St\, Dillon\, MT\, 59725\, United States
CATEGORIES:Meeting
END:VEVENT
BEGIN:VEVENT
DTSTART;TZID=America/Denver:20221114T090000
DTEND;TZID=America/Denver:20221114T170000
DTSTAMP:20260423T173720
CREATED:20221110T214919Z
LAST-MODIFIED:20221110T214919Z
UID:8886-1668416400-1668445200@beaverheadcountymt.gov
SUMMARY:Beaverhead County Commissioners’ Meeting
DESCRIPTION:AGENDA \n\n9:00 A.M.\nPledge of Allegiance\nUpdates on County Projects\nPublic Comment\nAction on Previous Meeting Minutes\nPublic Comment\nPublic Comments Under County Jurisdiction Not on Agenda \n\n9:30 A.M.\nDiscussion & Action ~ Badger Hill Minor Subdivision Final Plat Approval\nPublic Comment \n\n10:00 A.M.\nDiscussion & Action~ Resolution 2022-36: Inmate Boarding Rates\nPublic Comment \n\n10:30 A.M.\nDiscussion& Action~ Meadowlark Acres Subsequent Minor Subdivision Final Plat Approval\nPublic Comment \n\n11:00 A.M.\nDiscussion ~ Lease on Public Health Building\nPublic Comment \n\n11:30 A.M.\nDiscussion & Action~ Southwind HOA Covenant Amendment\nPublic Comment \n\n12:00 P.M.\nRECESS for lunch \n\n1:30 P.M.\nUnfinished Business / Other Topics of Discussion\nPublic Comment \n\n2:00 P.M.\nPublic Comments Under County Jurisdiction Not on Agenda\nPublic Comment \n\n4:00 P.M.\nPayment of Invoices\nPublic Comment \n\n5:00 P.M.\nAdjourn
URL:https://beaverheadcountymt.gov/event/beaverhead-county-commissioners-meeting-100/
LOCATION:Commissioners’ Meeting Room\, 2 S. Pacific St\, Dillon\, MT\, 59725\, United States
CATEGORIES:Meeting
END:VEVENT
BEGIN:VEVENT
DTSTART;TZID=America/Denver:20221116T170000
DTEND;TZID=America/Denver:20221116T180000
DTSTAMP:20260423T173720
CREATED:20221114T235718Z
LAST-MODIFIED:20221114T235718Z
UID:8891-1668618000-1668621600@beaverheadcountymt.gov
SUMMARY:Beaverhead County Museum Board of Trustees Meeting
DESCRIPTION:Agenda \n\n1. Introduction of Guests: \n2. Moment of Silence in Remembrance of John Garry \n3. Approval of consent agenda: \n4. Trustees (7): \nJohn Breen\, Lee Graves\, Aggie Helle\, Donna Jones\, Lorraine King\, Neal Straus (vacant seat) Discussion on John Garry Memorial \nDirector\, Present: Candi Whitworth \n5. Trustees Excused Absent: \n6. Treasurer’s Report: Neal Straus \n7. Association Report: Lynn Giles \n8. Old Business: \na. Train Exhibit – Donna Jones \nb. Hiring of an Assistant Director – Lorraine King \nc. Security/Alarm System – John Breen & Candi Whitworth \n9. New Business: \na. Theatre Programs – Lee Graves \nb. Christmas Stroll – Lynn Giles\, Lorraine King\, Candi Whitworth \n10. Director’s Report: Candi Whitworth \n11. Other Business: \na. Snow Removal and other maintenance \n12. Public Discussion: \nPublic comment on items of significant public interest not on the agenda and within the jurisdiction of the Beaverhead County Museum Board of Trustees. \n13. Set date of the next meeting: Discussion of Meeting Day for Dec. 2022 \n14. Adjournment: \n(The above minutes are from written notes taken by the Museum Director or an assigned individual during the meeting. These minutes are not a transcript\, but rather a summary of the proceedings of the meeting.)
URL:https://beaverheadcountymt.gov/event/beaverhead-county-museum-board-of-trustees-meeting-21/
LOCATION:Museum\, 15 S. Montana St\, Dillon\, MT\, 59725\, United States
CATEGORIES:Meeting
ORGANIZER;CN="Candi Whitworth":MAILTO:bvhdmuseum@hotmail.com
END:VEVENT
BEGIN:VEVENT
DTSTART;TZID=America/Denver:20221116T180000
DTEND;TZID=America/Denver:20221116T190000
DTSTAMP:20260423T173720
CREATED:20221110T150530Z
LAST-MODIFIED:20221110T150530Z
UID:8879-1668621600-1668625200@beaverheadcountymt.gov
SUMMARY:Beaverhead County Weed Board Meeting
DESCRIPTION:AGENDA \n\nPublic Comment: Items on the Agenda \nApproval of Minutes from August 25\, 2022 meeting \nFinancial Report \nNon-Compliance \nSubdivision Weed Plan Review \nProposed Action: Approve\, Amend\, or Reject: Jones Family  Minor Subdivision Noxious Week Management and Revegetation Plan \nCounty Management Plan \nProposed Action: Approve\, Amend\, or Reject: Updated Beaverhead County Weed Management Plan \nCoordinator/Assistant Coordinator Report \nPublic Comment: Items not on the Agenda \nAdjourn
URL:https://beaverheadcountymt.gov/event/beaverhead-county-weed-board-meeting-13/
LOCATION:Commissioners’ Meeting Room\, 2 S. Pacific St\, Dillon\, MT\, 59725\, United States
CATEGORIES:Meeting
ORGANIZER;CN="Amber Burch":MAILTO:aburch@beaverheadcountymt.gov
END:VEVENT
BEGIN:VEVENT
DTSTART;TZID=America/Denver:20221117T130000
DTEND;TZID=America/Denver:20221117T150000
DTSTAMP:20260423T173720
CREATED:20221104T154746Z
LAST-MODIFIED:20221104T154746Z
UID:8874-1668690000-1668697200@beaverheadcountymt.gov
SUMMARY:Beaverhead County Planning Board Meeting
DESCRIPTION:Agenda\n**All times are approximate. \n\n1:00 P.M.\nMinutes and Reports\n• Minutes of October 31st meeting\n• Planning Board Member Reports\n• Planner’s Report\n• Public Comments & Questions \n\n1:30 P.M.\nAlexander Conservation Easement \n\n2:00 P.M.\nJones Family Minor Sub.\n• Discussion and Action on the preliminary plat\n• Public Comments and Questions \n\n2:30 P.M.\nGrowth Policy/Subdivision Regulations Update Discussion\nPublic Comments & Questions of Non-Agenda Items \n\n3:00 P.M.\nAdjourn
URL:https://beaverheadcountymt.gov/event/beaverhead-county-planning-board-meeting-14/
LOCATION:Commissioners’ Meeting Room\, 2 S. Pacific St\, Dillon\, MT\, 59725\, United States
CATEGORIES:Meeting
END:VEVENT
BEGIN:VEVENT
DTSTART;TZID=America/Denver:20221121T090000
DTEND;TZID=America/Denver:20221121T170000
DTSTAMP:20260423T173720
CREATED:20221117T194210Z
LAST-MODIFIED:20221117T194210Z
UID:8896-1669021200-1669050000@beaverheadcountymt.gov
SUMMARY:Beaverhead County Commissioners' Meeting
DESCRIPTION:Agenda \n\n9:00 A.M.\nPledge of Allegiance\nUpdates on County Projects\nPublic Comment\nAction on Previous Meeting Minutes\nPublic Comment\nPublic Comments Under County Jurisdiction Not on Agenda \n\n9:30 A.M.\nDiscussion & Action ~ Marijuana Tax\nPublic Comment \n\n10:00 A.M.\nDiscussion & Action~ Resolution 2022-35: Appointment of Special Deputy\nPublic Comment \n\n11:00 A.M.\nDiscussion & Action~ General Election Canvas\nPublic Comment \n\n11:30 A.M.\nDiscussion & Action~ New Public Health Building\nPublic Comment \n\n12:00 P.M.\nRECESS for lunch \n\n1:30 P.M.\nDiscussion~ Mental Health Crisis Response Update\nPublic Comment \n\n2:00 P.M.\nPublic Comments Under County Jurisdiction Not on Agenda\nPublic Comment \n\n4:00 P.M.\nPayment of Invoices\nPublic Comment \n\n5:00 P.M.\nAdjourn
URL:https://beaverheadcountymt.gov/event/beaverhead-county-commissioners-meeting-101/
LOCATION:Commissioners’ Meeting Room\, 2 S. Pacific St\, Dillon\, MT\, 59725\, United States
CATEGORIES:Meeting
END:VEVENT
BEGIN:VEVENT
DTSTART;TZID=America/Denver:20221123T110000
DTEND;TZID=America/Denver:20221123T120000
DTSTAMP:20260423T173720
CREATED:20221117T194443Z
LAST-MODIFIED:20221117T194443Z
UID:8898-1669201200-1669204800@beaverheadcountymt.gov
SUMMARY:Fox Run Special District Meeting
DESCRIPTION:• The sole purpose of this project is to plan\, implement\, and oversee the hard surfacing of said road and administer the process and repayment of said bond kids \n• The purpose of this proposed district shall not include ongoing road maintenance. \n1. Call Meeting to Order \n2. Secretary’s Report \na. Approve minutes from 8/3/2022 \n3. Old Business \na. Engineering Update \n4. New Business \na. None \n5. Other Items for Discussion \na. Resolution to run an election \n—Deadline in February \n6. Public Comment \n7. Set next meeting/ 12/7/2022 \n8. Adjournment
URL:https://beaverheadcountymt.gov/event/fox-run-special-district-meeting-17/
LOCATION:Tom Welch Room\, 102 N Washington St\, Dillon\, MT\, 59725\, United States
CATEGORIES:Meeting
END:VEVENT
BEGIN:VEVENT
DTSTART;TZID=America/Denver:20221128T090000
DTEND;TZID=America/Denver:20221128T170000
DTSTAMP:20260423T173720
CREATED:20221123T225019Z
LAST-MODIFIED:20221123T225019Z
UID:8920-1669626000-1669654800@beaverheadcountymt.gov
SUMMARY:Beaverhead County Commissioners' Meeting
DESCRIPTION:Agenda \n\n9:00 A.M.\nPledge of Allegiance\nUpdates on County Projects\nPublic Comment\nAction on Previous Meeting Minutes\nPublic Comment\nPublic Comments Under County Jurisdiction Not on Agenda \n\n9:30 A.M.\nDiscussion & Action ~ Beaverhead County Weed Management Plan Update\nPublic Comment \n\n10:00 A.M.\nDiscussion & Action~ Airport Grant Application\nPublic Comment \n\n10:30 A.M.\nDiscussion & Action~ Jones Family Minor Sub Preliminary Platt Approval\nPublic Comment \n\n12:00 P.M.\nRECESS for lunch \n\n2:00P.M.\nDiscussion & Action~ Justice Court Clerk New Hire\nPublic Comment \n\n2:30 P.M.\nClosed Meeting- Litigation Consultation with Defense Lawyers \n\n3:30 P.M.\nPublic Comments Under County Jurisdiction Not on Agenda\nPublic Comment \n\n4:00 P.M.\nPayment of Invoices\nPublic Comment \n\n5:00 P.M.\nAdjourn
URL:https://beaverheadcountymt.gov/event/beaverhead-county-commissioners-meeting-102/
LOCATION:Commissioners’ Meeting Room\, 2 S. Pacific St\, Dillon\, MT\, 59725\, United States
CATEGORIES:Meeting
END:VEVENT
END:VCALENDAR