BEGIN:VCALENDAR
VERSION:2.0
PRODID:-//Beaverhead County - ECPv6.15.20//NONSGML v1.0//EN
CALSCALE:GREGORIAN
METHOD:PUBLISH
X-ORIGINAL-URL:https://beaverheadcountymt.gov
X-WR-CALDESC:Events for Beaverhead County
REFRESH-INTERVAL;VALUE=DURATION:PT1H
X-Robots-Tag:noindex
X-PUBLISHED-TTL:PT1H
BEGIN:VTIMEZONE
TZID:America/Denver
BEGIN:DAYLIGHT
TZOFFSETFROM:-0700
TZOFFSETTO:-0600
TZNAME:MDT
DTSTART:20220313T090000
END:DAYLIGHT
BEGIN:STANDARD
TZOFFSETFROM:-0600
TZOFFSETTO:-0700
TZNAME:MST
DTSTART:20221106T080000
END:STANDARD
BEGIN:DAYLIGHT
TZOFFSETFROM:-0700
TZOFFSETTO:-0600
TZNAME:MDT
DTSTART:20230312T090000
END:DAYLIGHT
BEGIN:STANDARD
TZOFFSETFROM:-0600
TZOFFSETTO:-0700
TZNAME:MST
DTSTART:20231105T080000
END:STANDARD
BEGIN:DAYLIGHT
TZOFFSETFROM:-0700
TZOFFSETTO:-0600
TZNAME:MDT
DTSTART:20240310T090000
END:DAYLIGHT
BEGIN:STANDARD
TZOFFSETFROM:-0600
TZOFFSETTO:-0700
TZNAME:MST
DTSTART:20241103T080000
END:STANDARD
END:VTIMEZONE
BEGIN:VEVENT
DTSTART;TZID=America/Denver:20230103T090000
DTEND;TZID=America/Denver:20230103T170000
DTSTAMP:20260423T141936
CREATED:20221229T174629Z
LAST-MODIFIED:20221229T174629Z
UID:9004-1672736400-1672765200@beaverheadcountymt.gov
SUMMARY:Beaverhead County Commissioners’ Meeting
DESCRIPTION:Agenda \n\n9:00 A.M.\nReorganization Of Board\nUpdates on County Projects\nPublic Comment\nAction on Previous Meeting Minutes\nPublic Comment \n\n9:15 A.M.\nChamber of Commerce Update\nPublic Comment \n\n9:30 A.M.\n*Discussion & Action – Resolution 2021-01 ~ Set Commission Meeting Dates\n*Discussion & Action – Resolution 2021-02 ~ Adopt Mileage and Per Diem Rates\n*Discussion & Action – Resolution 2021-03 ~ Establish Fire Season\nPublic Comment \n\n10:00 A.M.\nDiscussion ~ City & County Business/Update\nPublic Comment \n\n10:30 A.M.\nDiscussion & Action~ Resolution 2023-04- Purchase of Building & Naming Signer\nPublic Comment \n\n10:45 A.M\nDiscussion & Action~ Resolution 2023-05- Establishing a Reserve Account to Secure the Beaverhead Jackson Water and Sewer District Sewer Revenue Bond Series 2023\nPublic Comment \n\n12:00 P.M.\nRecess for lunch \n\n1:30 P.M.\nDiscussion & Action ~ Appointments to Various County Boards\nPublic Comment \n\n2:00 P.M.\nPublic Comments on Subjects Under County Jurisdiction Not on Agenda \n\n3:00 P.M.\nUnfinished Business / Other Topics of Discussion \n\n4:00 P.M.\nPayment of Invoices\nPublic Comment \n\n5:00 P.M.\nAdjourn
URL:https://beaverheadcountymt.gov/event/beaverhead-county-commissioners-meeting-105/
LOCATION:Commissioners’ Meeting Room\, 2 S. Pacific St\, Dillon\, MT\, 59725\, United States
CATEGORIES:Meeting
END:VEVENT
BEGIN:VEVENT
DTSTART;TZID=America/Denver:20230109T090000
DTEND;TZID=America/Denver:20230109T170000
DTSTAMP:20260423T141936
CREATED:20230105T201607Z
LAST-MODIFIED:20230105T201607Z
UID:9029-1673254800-1673283600@beaverheadcountymt.gov
SUMMARY:Beaverhead County Commissioners' Meeting
DESCRIPTION:Agenda \n\n9:00 A.M.\nPledge of Allegiance\nUpdates on County Projects\nPublic Comment\nAction on Previous Meeting Minutes\nPublic Comment \n\n9:30 A.M.\nCommissioners’ Report\nPublic Comment \n\n10:00 A.M.\nDiscussion ~ County Planner Year End Report\nPublic Comment \n\n12:00 P.M.\nRecess for lunch \n\n1:30 P.M.\nDiscussion ~ Potential FLAP project- Scenic Byway\nPublic Comment \n\n3:00 P.M.\nDiscussion ~ HB 11 Hearing in Helena- Anderson Lane Bridge\nPublic Comment \n\n4:00 P.M.\nPublic Comments on Subjects Under County Jurisdiction Not on Agenda \n\n4:30 P.M.\nUnfinished Business / Other Topics of Discussion \n\n4:45 P.M.\nPayment of Invoices\nPublic Comment \n\n5:00 P.M.\nAdjourn
URL:https://beaverheadcountymt.gov/event/beaverhead-county-commissioners-meeting-106/
LOCATION:Commissioners’ Meeting Room\, 2 S. Pacific St\, Dillon\, MT\, 59725\, United States
CATEGORIES:Meeting
END:VEVENT
BEGIN:VEVENT
DTSTART;TZID=America/Denver:20230111T190000
DTEND;TZID=America/Denver:20230111T200000
DTSTAMP:20260423T141936
CREATED:20230109T195042Z
LAST-MODIFIED:20230110T153457Z
UID:9035-1673463600-1673467200@beaverheadcountymt.gov
SUMMARY:Beaverhead County Fair Board
DESCRIPTION:Call to order \nIntroduction of guests \nAmendments or changes to agenda \nFinancial Report \nFair Manager Report \nExecutive Director Report \nBoard Member Reports \nOld Business \n1. Electric Project \n2. \nNew Business \n1. \nCorrespondence \nAdjournment
URL:https://beaverheadcountymt.gov/event/beaverhead-county-fair-board-3/
LOCATION:Commissioners’ Meeting Room\, 2 S. Pacific St\, Dillon\, MT\, 59725\, United States
CATEGORIES:Meeting
END:VEVENT
BEGIN:VEVENT
DTSTART;TZID=America/Denver:20230112T130000
DTEND;TZID=America/Denver:20230112T150000
DTSTAMP:20260423T141936
CREATED:20221229T174852Z
LAST-MODIFIED:20221229T174852Z
UID:9006-1673528400-1673535600@beaverheadcountymt.gov
SUMMARY:Beaverhead County Planning Board Meeting
DESCRIPTION:Agenda\n**All times are approximate** \n\n1:00 P.M.\nMinutes and Reports\n• Minutes of November 17th meeting\n• Planning Board Member Reports\n• Planner’s Report\n• Public Comments & Questions \n\n1:30 P.M.\nElection of Board Chairman\, Co-Chairman \n\n2:00 P.M.\nDiscussion on updating County Subdivision Regulations (Jerry Grebenc\, Cody Marxer – Great West Engineering) \n\n2:30 P.M.\nPublic Comments & Questions of Non-Agenda Items \n\n3:00 P.M.\nAdjourn
URL:https://beaverheadcountymt.gov/event/beaverhead-county-planning-board-meeting-15/
LOCATION:Commissioners’ Meeting Room\, 2 S. Pacific St\, Dillon\, MT\, 59725\, United States
CATEGORIES:Meeting
ORGANIZER;CN="Rochelle Hoerning":MAILTO:rhoerning@beaverheadcountymt.gov
END:VEVENT
BEGIN:VEVENT
DTSTART;TZID=America/Denver:20230117T090000
DTEND;TZID=America/Denver:20230117T170000
DTSTAMP:20260423T141936
CREATED:20230112T233944Z
LAST-MODIFIED:20230112T233944Z
UID:9041-1673946000-1673974800@beaverheadcountymt.gov
SUMMARY:Beaverhead County Commissioners' Meeting
DESCRIPTION:Agenda \n\n9:00 A.M.\nPledge of Allegiance\nUpdates on County Projects\nPublic Comment\nAction on Previous Meeting Minutes\nPublic Comment\nCommissioners’ Report\nPublic Comment \n\n10:00 A.M.\nDiscussion & Action~ Budget Amendment\nPublic Comment \n\n11:00 A.M.\n911 Communications Board Meeting\nPublic Comment \n\n12:00 P.M.\nRecess for lunch \n\n1:30 P.M.\nDiscussion ~ Colin W/Trout Unlimited- Refuge Rev Sharing (RRS)\nPublic Comment \n\n2:30 P.M.\nDiscussion ~ Legislative Update\nPublic Comment \n\n4:00 P.M.\nPublic Comments on Subjects Under County Jurisdiction Not on Agenda \n\n4:30 P.M.\nUnfinished Business / Other Topics of Discussion \n\n4:45 P.M.\nPayment of Invoices\nPublic Comment \n\n5:00 P.M.\nAdjourn
URL:https://beaverheadcountymt.gov/event/beaverhead-county-commissioners-meeting-107/
LOCATION:Commissioners’ Meeting Room\, 2 S. Pacific St\, Dillon\, MT\, 59725\, United States
CATEGORIES:Meeting
END:VEVENT
BEGIN:VEVENT
DTSTART;TZID=America/Denver:20230117T180000
DTEND;TZID=America/Denver:20230117T190000
DTSTAMP:20260423T141936
CREATED:20230111T212505Z
LAST-MODIFIED:20230111T212550Z
UID:9038-1673978400-1673982000@beaverheadcountymt.gov
SUMMARY:Beaverhead County Weed Board Meeting
DESCRIPTION:AGENDA \n\nPublic Comment: Items on the Agenda \nRe-organization of the Board \nProposed Action: Elect Chair and Vice Chair \nApproval of Minutes from November 16\, 2022 meeting \nFinancial Report \nNon-Compliance \nSubdivision Weed Plan Review \nProposed Action: Approve\, Amend\, or Reject: Jones Family Minor Subdivision Noxious Week Management and Revegetation Plan \n2022 Project/Grant Review \nCoordinator/Assistant Coordinator Report \nPublic Comment: Items not on the Agenda \nAdjourn
URL:https://beaverheadcountymt.gov/event/beaverhead-county-weed-board-meeting-14/
LOCATION:Commissioners’ Meeting Room\, 2 S. Pacific St\, Dillon\, MT\, 59725\, United States
CATEGORIES:Meeting
ORGANIZER;CN="Amber Burch":MAILTO:aburch@beaverheadcountymt.gov
END:VEVENT
BEGIN:VEVENT
DTSTART;TZID=America/Denver:20230118T170000
DTEND;TZID=America/Denver:20230118T180000
DTSTAMP:20260423T141936
CREATED:20230113T174215Z
LAST-MODIFIED:20230113T174215Z
UID:9045-1674061200-1674064800@beaverheadcountymt.gov
SUMMARY:Beaverhead County Museum Board of Trustees Meeting
DESCRIPTION:Agenda \n\n1. Introduction of Guests: \n2. Approval of consent agenda and minutes: \n3. Trustees (7): \nJohn Breen\, Lee Graves\, Aggie Helle\, Donna Jones\, Lorraine King\, Neal Straus \nDirector\, Present: Candi Whitworth \n4. Trustees Excused Absent: Aggie Helle \n5. Treasurer’s Report: Neal Straus \na. Budget \nb. Money given by the county (Neal will ask for $3\,500) \nc. Infrastructure money – John Breen \n6. Association Report: Lynn Giles \na. Grants \n7. Old Business: \na. New Hire \nb. Train Exhibit – Donna Jones \nc. Program/Events – Lorraine & Lee \nd. Refinish the floors in the depot \ne. Webpage \n8. New Business: \na. Update on Furnaces and Security – John Breen \nb. Opening for upcoming season hours and days \n9. Director’s Report: Candi Whitworth \na. Attached \n10. Other Business: \n11. Public Discussion: \nPublic comment on items of significant public interest not on the agenda and within the jurisdiction of the Beaverhead County Museum Board of Trustees. \n12. Set date of the next meeting: Wednesday February 15th @ 5pm Research Room \n13. Adjournment:
URL:https://beaverheadcountymt.gov/event/beaverhead-county-museum-board-of-trustees-meeting-22/
LOCATION:Museum\, 15 S. Montana St\, Dillon\, MT\, 59725\, United States
CATEGORIES:Meeting
ORGANIZER;CN="Candi Whitworth":MAILTO:bvhdmuseum@hotmail.com
END:VEVENT
BEGIN:VEVENT
DTSTART;TZID=America/Denver:20230119T120000
DTEND;TZID=America/Denver:20230119T130000
DTSTAMP:20260423T141936
CREATED:20230117T155335Z
LAST-MODIFIED:20230117T155335Z
UID:9057-1674129600-1674133200@beaverheadcountymt.gov
SUMMARY:Beaverhead County/City Board of Health Meeting
DESCRIPTION:Agenda \n\nCall meeting to order Establish Quorum \n1. Public Health Update \n2. Board of Health Authority Discussion/Update \na. Interlocal Agreement – Review & Edit Draft \n3. DES Update \n4. Sanitarian Report \n5. Covid 19 Report/Update \n6. Public Comment \nDISCUSSION and/or ACTION ITEMS \nA. Old Business ~ Approval of October 20 2022 Minutes \nB. Public Discussion/Comments on Subjects Under BOH Jurisdiction Not on Agenda \nC. New business \nD. Public Discussion/Comments on Subjects Under BOH Jurisdiction Not on Agenda \nE. Meeting Schedule ~ Next meeting April 20\, 2023 \nF. Adjourn the meeting
URL:https://beaverheadcountymt.gov/event/beaverhead-county-city-board-of-health-meeting-5/
LOCATION:Barrett Hospital Board Room\, 600 MT Hwy 91 S\, Dillon\, MT\, 59725\, United States
CATEGORIES:Meeting
END:VEVENT
BEGIN:VEVENT
DTSTART;TZID=America/Denver:20230119T173000
DTEND;TZID=America/Denver:20230119T190000
DTSTAMP:20260423T141936
CREATED:20230117T164836Z
LAST-MODIFIED:20230117T164836Z
UID:9062-1674149400-1674154800@beaverheadcountymt.gov
SUMMARY:Beaverhead-Jackson Water & Sewer District Meeting
DESCRIPTION:Agenda \n\n1. Call To Order \n2. Reading\, Correction\, And Approval Of Previous Minutes from 12/08/22 meeting \n3. Treasurer’s report: \nAccount Balance \nAccounts Payable \n4. Sewer Update -Bob Lewis \na. Sewer pumping/repairs/daily checking \ni. Pumps now in Spokane \nii. Rocky Mountain Drain Rescue to do work \n1. On manhole near road – leakage \n5. Water Update – Bob Lewis \na. Jackson Bible Church remote reader to be replaced 1/28/23 \nb. GIS Mapping of JWSD system/ Chad Thompson \n6. Old Business \na. WWC Contract with JWSD – \ni. Signed 1/12/23 \n1. Bob Nelson and Susan Olsen signed for JWSD \n2. Shawn Higley signed for WWC Engineering \nii. InterCap Loan Resolution – \n1. Draw on Intercap Loan when Construction starts \n2. 4-weeks lead time for Final Loan Documents \n3. The Louise Welch sent a rough draft to the Beaverhead County Attorney \na. Regarding Reserve Requirement (12/13/22) to review \nb. Rates Committee Recommendations to The JWSD Board \ni. School and Churches categorized as “Institutions” not Residential nor Commercial \nii. Review “Housing Units”\, ie. “BunkHouse” \niii. \niv. Establish Bulk Rates for Commercial uses \nv. Overage rates increase to 32% or remain the same \nc. Application for UEI Number – as of 1/11/23 JWSD UEW number CVDPFWP1KLS2 \nd. Committee Report to Update JWSD By-Laws \ne. “Zoom” usage for monthly meetings \nf. MACo Insurance dropping Special Districts from coverage a/f June 30\, 2023 \ng. Consent Decree-18 month-Push to get Consent Decree removed by May ultimately year end. \n7. New Business: \na. Board Member Election 2023 \nb. Board needs to advertise for a new District Clerk \n8. Public Comment: \n9. Adjournment
URL:https://beaverheadcountymt.gov/event/beaverhead-jackson-water-sewer-district-meeting-6/
LOCATION:Jackson School\, 415 Jardine Ave\, Jackson\, 59736\, United States
CATEGORIES:Meeting
END:VEVENT
BEGIN:VEVENT
DTSTART;TZID=America/Denver:20230119T180000
DTEND;TZID=America/Denver:20230119T190000
DTSTAMP:20260423T141936
CREATED:20230117T163111Z
LAST-MODIFIED:20230117T163111Z
UID:9060-1674151200-1674154800@beaverheadcountymt.gov
SUMMARY:Beaverhead Conservation District Meeting
DESCRIPTION:The meeting will be in-person\, but we can open a conference call line if anyone is interested\, please let us know by noon the day of the meeting if you would like to call into the meeting. \n• Call meeting to order \n• Approval of December 8\, 2022\, minutes \n• Financial report \n• NRCS Report – MOU \n• Range Committee Report \n• Old 310 business \n• New 310 Business \no BCD 2223 JB Anderson\, Emergency Flooding\, Blacktail Creek \no BCD 2224 Hren Ranches\, Fencing Removal to stop flooding\, Blacktail Creek \no BCD 2301 Red Rock Springs Ranch\, Kidd Creek (UT RRR)\, Stream Restoration \n• Administrator’s Report \no AIS Night Inspections Grant \no MACD Technology Grant \n• Beaverhead Watershed Committee Grant Reports \n• Old Business \no Montana Stockgrowers Association letter \n• New Business \no Election of associate supervisors and officers \no Savings Account Options \n• Upcoming Events \no Next meeting date – February 16th\, 2023 \no Youth Conservation Days – April 27th\, 2023 \n• Public Comment \n• Adjournment \n**Please note the deadline for 310 permits is the 2nd Thursday of the month. Permits will be reviewed at the meeting on the third Thursday. Any work in streams or on streambanks requires a 310 permit per Montana Law. This includes emergency work for flood control\, etc. If you have questions\, please call 683-3802.
URL:https://beaverheadcountymt.gov/event/beaverhead-conservation-district-meeting-3/
LOCATION:NRCS\, 420 Barrett St\, Dillon\, MT\, 59725\, United States
CATEGORIES:Meeting
ORGANIZER;CN="Jessica Fields":MAILTO:beaverheadcd@gmail.com
END:VEVENT
BEGIN:VEVENT
DTSTART;TZID=America/Denver:20230120T100000
DTEND;TZID=America/Denver:20230120T110000
DTSTAMP:20260423T141936
CREATED:20230117T144546Z
LAST-MODIFIED:20230117T144546Z
UID:9055-1674208800-1674212400@beaverheadcountymt.gov
SUMMARY:Beaverhead Ambulance Services Special District Meeting
DESCRIPTION:Agenda \n\nA. Call to Order \nB. Review and approve minutes of July\, 2022 meeting. \nC. Announcements \nD. Old Business \na. Collection of funds. \nb. Report on manager job descriptions\, applications and interviewing. \nc. Report on medical providers\, applications and interviewing. \nE. New Business \na. Board member re-elections – Resolution calling for election \nb. Discussion of status of payment of employer payroll taxes\, liability insurance coverage and worker’s compensation coverage. \nc. Discussion of policies\, rules and regulations to ensure funding for personnel for ambulance medical services (Sec 10(a). \nd. Discussion of annual budget to provide financial basis for employment of personnel. \ne. Status of district/issues \ni. Commissioner Mike McGinley \nii. Sheriff David Went \niii. Cathe Hucke \nf. Next Meeting \nF. Public Comment – Public comment on items of significant public interest\, not on the Agenda and within the jurisdiction of the Beaverhead Ambulance Services Special District Board.
URL:https://beaverheadcountymt.gov/event/beaverhead-ambulance-services-special-district-meeting-5/
LOCATION:Commissioners’ Meeting Room\, 2 S. Pacific St\, Dillon\, MT\, 59725\, United States
CATEGORIES:Meeting
ORGANIZER;CN="Jean Bergeson":MAILTO:jbergeson@swmtlaw.com
END:VEVENT
BEGIN:VEVENT
DTSTART;TZID=America/Denver:20230123T090000
DTEND;TZID=America/Denver:20230123T170000
DTSTAMP:20260423T141936
CREATED:20230119T224747Z
LAST-MODIFIED:20230119T224747Z
UID:9069-1674464400-1674493200@beaverheadcountymt.gov
SUMMARY:Beaverhead County Commissioners' Meeting
DESCRIPTION:Agenda \n\n9:00 A.M.\nPledge of Allegiance\nDepartment Head Meeting/Updates on County Projects\nPublic Comment\nDiscussion~ Garrett from DIS – Paper Vision Scanning Program\nPublic Comment\nCommissioners’ Report\nPublic Comment \n\n10:30 A.M.\nDiscussion & Action~ County Appointment to City Planning Board\nPublic Comment \n\n11:00 A.M\nDiscussion & Action~ Sealed Bid for 2010 Chevrolet Silverado\nPublic Comment \n\n11:00 A.M.\nDiscussion & Action~ Review & Sign Airport Appendix A. Documented Catex\nPublic Comment \n\n12:00 P.M.\nRecess for lunch \n\n1:30 P.M.\nDiscussion ~ Karl Yakawich from Great West- FLAP (Scenic Byway)\nPublic Comment \n\n3:00 P.M.\nDiscussion ~ Legislative Update\nPublic Comment \n\n4:00 P.M.\nPublic Comments on Subjects Under County Jurisdiction Not on Agenda \n\n4:30 P.M.\nUnfinished Business / Other Topics of Discussion \n\n4:45 P.M.\nPayment of Invoices\nPublic Comment\nAction on Previous Meeting Minutes\nPublic Comment \n\n5:00 P.M.\nAdjourn
URL:https://beaverheadcountymt.gov/event/beaverhead-county-commissioners-meeting-108/
LOCATION:Commissioners’ Meeting Room\, 2 S. Pacific St\, Dillon\, MT\, 59725\, United States
CATEGORIES:Meeting
END:VEVENT
BEGIN:VEVENT
DTSTART;TZID=America/Denver:20230123T100000
DTEND;TZID=America/Denver:20230123T103000
DTSTAMP:20260423T141936
CREATED:20230120T223332Z
LAST-MODIFIED:20230120T223332Z
UID:9088-1674468000-1674469800@beaverheadcountymt.gov
SUMMARY:Beaverhead Ambulance Services Special District Special Meeting
DESCRIPTION:Agenda \n\nA. Call to Order \nB. Business \na. Resolution calling for election of three (3) trustees \nC. Public comment – Public comment on items of significant public interest not on the Agenda and within the jurisdiction of the Beaverhead Ambulance Services Special District Board.
URL:https://beaverheadcountymt.gov/event/beaverhead-ambulance-services-special-district-special-meeting/
LOCATION:Beaverhead County Court Room\, 2 S. Pacific St\, Dillon\, MT\, 59725\, United States
CATEGORIES:Meeting
END:VEVENT
BEGIN:VEVENT
DTSTART;TZID=America/Denver:20230130T090000
DTEND;TZID=America/Denver:20230130T170000
DTSTAMP:20260423T141936
CREATED:20230126T162135Z
LAST-MODIFIED:20230126T162135Z
UID:9098-1675069200-1675098000@beaverheadcountymt.gov
SUMMARY:Beaverhead County Commissioners’ Meeting
DESCRIPTION:Agenda \n\n9:00 A.M.\nPledge of Allegiance\nUpdates on County Projects\nPublic Comment\nCommissioners’ Report\nPublic Comment\nAction on Previous Meeting Minutes\nPublic Comment \n\n9:30 A.M.\nDiscussion & Action~ Resolution 2023-06 Appointing Special Deputy County Attorney\nPublic Comment \n\n10:00 A.M\nDiscussion & Action~ Tulley Springs Response to Letter from Developer\nPublic Comment \n\n12:00 P.M.\nRecess for lunch \n\n1:30 P.M.\nDiscussion ~ Legislative Update\nPublic Comment \n\n4:00 P.M.\nPublic Comments on Subjects Under County Jurisdiction Not on Agenda \n\n4:30 P.M.\nUnfinished Business / Other Topics of Discussion\nPublic Comment \n\n4:45 P.M.\nPayment of Invoices\nPublic Comment\nAction on Previous Meeting Minutes\nPublic Comment \n\n5:00 P.M.\nAdjourn
URL:https://beaverheadcountymt.gov/event/beaverhead-county-commissioners-meeting-109/
LOCATION:Commissioners’ Meeting Room\, 2 S. Pacific St\, Dillon\, MT\, 59725\, United States
CATEGORIES:Meeting
END:VEVENT
END:VCALENDAR