BEGIN:VCALENDAR
VERSION:2.0
PRODID:-//Beaverhead County - ECPv6.15.20//NONSGML v1.0//EN
CALSCALE:GREGORIAN
METHOD:PUBLISH
X-ORIGINAL-URL:https://beaverheadcountymt.gov
X-WR-CALDESC:Events for Beaverhead County
REFRESH-INTERVAL;VALUE=DURATION:PT1H
X-Robots-Tag:noindex
X-PUBLISHED-TTL:PT1H
BEGIN:VTIMEZONE
TZID:America/Denver
BEGIN:DAYLIGHT
TZOFFSETFROM:-0700
TZOFFSETTO:-0600
TZNAME:MDT
DTSTART:20220313T090000
END:DAYLIGHT
BEGIN:STANDARD
TZOFFSETFROM:-0600
TZOFFSETTO:-0700
TZNAME:MST
DTSTART:20221106T080000
END:STANDARD
BEGIN:DAYLIGHT
TZOFFSETFROM:-0700
TZOFFSETTO:-0600
TZNAME:MDT
DTSTART:20230312T090000
END:DAYLIGHT
BEGIN:STANDARD
TZOFFSETFROM:-0600
TZOFFSETTO:-0700
TZNAME:MST
DTSTART:20231105T080000
END:STANDARD
BEGIN:DAYLIGHT
TZOFFSETFROM:-0700
TZOFFSETTO:-0600
TZNAME:MDT
DTSTART:20240310T090000
END:DAYLIGHT
BEGIN:STANDARD
TZOFFSETFROM:-0600
TZOFFSETTO:-0700
TZNAME:MST
DTSTART:20241103T080000
END:STANDARD
END:VTIMEZONE
BEGIN:VEVENT
DTSTART;TZID=America/Denver:20230201T110000
DTEND;TZID=America/Denver:20230201T120000
DTSTAMP:20260423T123321
CREATED:20230125T214758Z
LAST-MODIFIED:20230125T214758Z
UID:9094-1675249200-1675252800@beaverheadcountymt.gov
SUMMARY:Fox Run Special District Meeting
DESCRIPTION:1. Call Meeting to Order \n2. Secretary’s Report \na. Approve December 14\, 2022 minutes \n3. Old Business \na. Engineer’s update \nb. Estimate for Project \n4. New Business \na. Resolution for an Election \nb. Other Items for Action \n5. Public Comment \n6. Set Date for next meeting \n7. Adjournment
URL:https://beaverheadcountymt.gov/event/fox-run-special-district-meeting-19/
LOCATION:Commissioners’ Meeting Room\, 2 S. Pacific St\, Dillon\, MT\, 59725\, United States
CATEGORIES:Meeting
END:VEVENT
BEGIN:VEVENT
DTSTART;TZID=America/Denver:20230206T090000
DTEND;TZID=America/Denver:20230206T170000
DTSTAMP:20260423T123321
CREATED:20230202T212512Z
LAST-MODIFIED:20230202T212512Z
UID:9137-1675674000-1675702800@beaverheadcountymt.gov
SUMMARY:Beaverhead County Commissioners' Meeting
DESCRIPTION:Agenda \n\n9:00 A.M.\nPledge of Allegiance\nUpdates on County Projects\nPublic Comment\nCommissioners’ Report\nPublic Comment \n\n9:30 A.M.\nDiscussion: Beaverhead Chamber of Commerce Update\nPublic Comment \n\n10:00 A.M\nDiscussion: City of Dillon & Beaverhead County Update\nPublic Comment \n\n12:00 P.M.\nRecess for lunch \n\n1:30 P.M.\nPublic Comments on Subjects Under County Jurisdiction Not on Agenda \n\n2:00 P.M.\nPayment of Invoices\nPublic Comment\nAction on Previous Meeting Minutes\nPublic Comment \n\n2:30 P.M.\nUnfinished Business / Other Topics of Discussion\nPublic Comment \n\n5:00 P.M.\nAdjourn
URL:https://beaverheadcountymt.gov/event/beaverhead-county-commissioners-meeting-110/
LOCATION:Commissioners’ Meeting Room\, 2 S. Pacific St\, Dillon\, MT\, 59725\, United States
CATEGORIES:Meeting
END:VEVENT
BEGIN:VEVENT
DTSTART;TZID=America/Denver:20230209T173000
DTEND;TZID=America/Denver:20230209T183000
DTSTAMP:20260423T123321
CREATED:20230206T171727Z
LAST-MODIFIED:20230206T171727Z
UID:9152-1675963800-1675967400@beaverheadcountymt.gov
SUMMARY:Beaverhead-Jackson Water & Sewer District Meeting
DESCRIPTION:Agenda \n\n1. Call To Order \n2. Reading\, Correction\, And Approval Of Previous Minutes from 1/19/23 meeting \n3. Treasurer’s report: \nAccount Balance \nAccounts Payable \n4. Sewer Update -Bob Lewis \na. Sewer pumping/repairs/daily checking \ni. Pumps are here \n1. Cost $11\,056 \nii. West Electric has been notified \n5. Water Update – Bob Lewis \na. 40\,000 gallon Water leak 2/2-2/5 \ni. Emergency Response System \nb. GIS Mapping of JWSD system/ Chad Thompson \nc. DEQ violation 1/25/23 \nd. Bible Church remote reader \n6. Old Business \na. Rates Committee Recommendations to The JWSD Board \ni. School and Churches categorized as “Institutions” not Residential nor Commercial \nii. Review “Housing Units”\, ie. “BunkHouse”\, Jackson Ranch Apts\, Jackson Vacation \nb. Registration of JWSD with UEI Number – processing \nc. JWSD By-Laws Update \nd. “Zoom” usage for monthly meetings \ne. Consent Decree-Status \nf. Board needs to advertise for new District Clerk \ni. Qualifications \nii. Salary \n7. New Business: \na. Jackson School request for Liability Insurance \ni. Contract \nii. Rent/Fee \n8. Public Comment: \n9. Adjournment
URL:https://beaverheadcountymt.gov/event/beaverhead-jackson-water-sewer-district-meeting-7/
LOCATION:Jackson School\, 415 Jardine Ave\, Jackson\, 59736\, United States
CATEGORIES:Meeting
END:VEVENT
BEGIN:VEVENT
DTSTART;TZID=America/Denver:20230209T180000
DTEND;TZID=America/Denver:20230209T190000
DTSTAMP:20260423T123321
CREATED:20230206T150504Z
LAST-MODIFIED:20230206T150504Z
UID:9150-1675965600-1675969200@beaverheadcountymt.gov
SUMMARY:Beaverhead County LEPC Meeting
DESCRIPTION:1. Meeting Call to Order\n2. Introductions\n3. Committee Reports\n4. Shelter Sites\, Red Cross\n5. University of Montana Western\, Siren\n6. Continuity of Government\, Review Annex\n7. Homeland Security Grant\, Generator for Lima\n8. Public Comments & Questions\n9. Adjournment \n\nJoin by Zoom\nhttps://us06web.zoom.us/j/87960550816?pwd=VFlHcXJwUFdNNVdJTXRNYTlqQWhEZz09 \nMeeting ID: 879 6055 0816\nPasscode: 7ujfrw
URL:https://beaverheadcountymt.gov/event/beaverhead-county-lepc-meeting/
LOCATION:Commissioners’ Meeting Room\, 2 S. Pacific St\, Dillon\, MT\, 59725\, United States
CATEGORIES:Meeting
ORGANIZER;CN="Rochelle Hoerning":MAILTO:rhoerning@beaverheadcountymt.gov
END:VEVENT
BEGIN:VEVENT
DTSTART;TZID=America/Denver:20230213T090000
DTEND;TZID=America/Denver:20230213T170000
DTSTAMP:20260423T123321
CREATED:20230209T184356Z
LAST-MODIFIED:20230209T184356Z
UID:9154-1676278800-1676307600@beaverheadcountymt.gov
SUMMARY:Beaverhead County Commissioners' Meeting
DESCRIPTION:Agenda \n\n9:00 A.M.\nPledge of Allegiance\nUpdates on County Projects\nPublic Comment\nCommissioners’ Report\nPublic Comment \n\n9:30 A.M\nDiscussion ~ Demolition Derby\nPublic Comment \n\n10:00 A.M\nDiscussion ~ Scenic Byway Resurfacing- FLAP\nPublic Comment \n\n12:00 P.M.\nRecess for lunch \n\n1:30 P.M.\nSafety and Wellness Team Meeting\nPublic Comment \n\n4:00 P.M.\nPublic Comments on Subjects Under County Jurisdiction Not on Agenda \n\n4:30 P.M.\nUnfinished Business / Other Topics of Discussion\nPublic Comment \n\n4:45 P.M.\nPayment of Invoices\nPublic Comment\nAction on Previous Meeting Minutes\nPublic Comment \n\n5:00 P.M.\nAdjourn
URL:https://beaverheadcountymt.gov/event/beaverhead-county-commissioners-meeting-111/
LOCATION:Commissioners’ Meeting Room\, 2 S. Pacific St\, Dillon\, MT\, 59725\, United States
CATEGORIES:Meeting
END:VEVENT
BEGIN:VEVENT
DTSTART;TZID=America/Denver:20230215T170000
DTEND;TZID=America/Denver:20230215T180000
DTSTAMP:20260423T123321
CREATED:20230213T174813Z
LAST-MODIFIED:20230213T174813Z
UID:9163-1676480400-1676484000@beaverheadcountymt.gov
SUMMARY:Beaverhead County Museum Board of Trustees Meeting
DESCRIPTION:Agenda \n\n1. Introduction of Guests: \n2. Approval of consent agenda: January 18\, 2023 \n3. Trustees (7): \nJohn Breen\, Lorraine King\, Neal Straus\, Lee Graves\, Aggie Helle\, Donna Jones\, Mark McGinley \n4. Director\, Present: Candi Whitworth \n5. Trustees Excused Absent: Aggie Helle \n6. Treasurer’s Report: Neal Straus \na. Budget \n7. Association Report: Lynn Giles \na. Grants \n8. Old Business: \na. Infrastructure Money – John Breen \nb. Update on Furnace and Security System \nc. Old Depot Theatre Policy – Donna Jones\, Lorraine King Neal Straus \nd. Train Exhibit – Donna Jones \n9. New Business: \na. Programs – Lorraine King\, Lee Graves\, Lynn Giles\, Candi Whitworth \nb. Main Museum Exhibits – Lynn Giles\, Lorraine King \n10. Director’s Report: Candi Whitworth \n11. Other Business: \n12. Public Discussion: \nPublic comment on items of significant public interest not on the agenda and within the jurisdiction of the Beaverhead County Museum Board of Trustees. \n13. Set date of the next meeting: Wednesday March 15\, 2023 @ 5pm \n14. Adjournment: \n(The above minutes are from written notes taken by the Museum Director or an assigned individual during the meeting. These minutes are not a transcript\, but rather a summary of the proceedings of the meeting.)
URL:https://beaverheadcountymt.gov/event/beaverhead-county-museum-board-of-trustees-meeting-23/
LOCATION:Museum\, 15 S. Montana St\, Dillon\, MT\, 59725\, United States
CATEGORIES:Meeting
ORGANIZER;CN="Candi Whitworth":MAILTO:bvhdmuseum@hotmail.com
END:VEVENT
BEGIN:VEVENT
DTSTART;TZID=America/Denver:20230216T180000
DTEND;TZID=America/Denver:20230216T190000
DTSTAMP:20260423T123321
CREATED:20230214T202617Z
LAST-MODIFIED:20230214T202617Z
UID:9166-1676570400-1676574000@beaverheadcountymt.gov
SUMMARY:Beaverhead Conservation District Meeting
DESCRIPTION:Public attendance encouraged \nThe meeting will be in-person\, but we can open a conference call line if anyone is interested\, please let us know by noon the day of the meeting if you would like to call into the meeting. \n• Call meeting to order \n• Approval of January 19\, 2022\, minutes \n• Financial report \n• NRCS Report \n• Range Committee Report \n• Old 310 business \n• New 310 Business \no BCD 2301 Red Rock Springs Ranch\, Kidd Creek\, Stream Restoration with removal of 1 mile of borrow ditch at Kidd \no BCD 2302 Tom Miller\, Bank Stabilization\, Poindexter Slough \n• Administrator’s Report \no Hiring Inspectors for the Watercraft Inspection Station \n• Beaverhead Watershed Committee Grant Reports \n• Old Business \n• New Business \n• Upcoming Events \no Next meeting date – March 16th\, 2023 \no Youth Conservation Day – April 27th\, 2023 \n• Public Comment \n• Adjournment \n**Please note the deadline for 310 permits is the 2nd Thursday of the month. Permits will be reviewed at the meeting on the third Thursday. Any work in streams or on streambanks requires a 310 permit per Montana Law. This includes emergency work for flood control\, etc. If you have questions\, please call 683-3802.
URL:https://beaverheadcountymt.gov/event/beaverhead-conservation-district-meeting-4/
LOCATION:NRCS\, 420 Barrett St\, Dillon\, MT\, 59725\, United States
CATEGORIES:Meeting
ORGANIZER;CN="Jessica Fields":MAILTO:beaverheadcd@gmail.com
END:VEVENT
BEGIN:VEVENT
DTSTART;TZID=America/Denver:20230220T090000
DTEND;TZID=America/Denver:20230220T170000
DTSTAMP:20260423T123321
CREATED:20230216T152248Z
LAST-MODIFIED:20230216T152632Z
UID:9172-1676883600-1676912400@beaverheadcountymt.gov
SUMMARY:Beaverhead County Commissioners' Meeting
DESCRIPTION:Monday February 20\, 2023 is Presidents’ Day holiday and the Courthouse is closed. \nCommissioners’ Meeting will be canceled so Commissioners can attend the MACo Midwinter Conference. \nFor more information click here.
URL:https://beaverheadcountymt.gov/event/cancelled-beaverhead-county-commissioners-meeting-3/
LOCATION:Commissioners’ Meeting Room\, 2 S. Pacific St\, Dillon\, MT\, 59725\, United States
CATEGORIES:Meeting
END:VEVENT
BEGIN:VEVENT
DTSTART;TZID=America/Denver:20230227T090000
DTEND;TZID=America/Denver:20230227T170000
DTSTAMP:20260423T123321
CREATED:20230223T171248Z
LAST-MODIFIED:20230224T230458Z
UID:9264-1677488400-1677517200@beaverheadcountymt.gov
SUMMARY:Beaverhead County Commissioners' Meeting
DESCRIPTION:Agenda \n\n9:00 A.M.\nPledge of Allegiance\nUpdates on County Projects\nPublic Comment\nCommissioners’ Report\nPublic Comment \n\n  \n10:30 A.M\nDiscussion & Action~ First Presbyterian Church/ BVHD Co Lease Renewal\nPublic Comment \n\n10:45 A. M\nDiscussion & Action~ USFS/Beaverhead County Coop Road Agreement\nPublic Comment \n\n12:00 P.M.\nRecess for lunch \n\n1:30 P.M.\nDiscussion-Legislative Update\nPublic Comment \n\n4:00 P.M.\nPublic Comments on Subjects Under County Jurisdiction Not on Agenda \n\n4:30 P.M.\nUnfinished Business / Other Topics of Discussion\nPublic Comment \n\n4:45 P.M.\nPayment of Invoices\nPublic Comment\nAction on Previous Meeting Minutes\nPublic Comment \n\n5:00 P.M.\nAdjourn
URL:https://beaverheadcountymt.gov/event/beaverhead-county-commissioners-meeting-112/
LOCATION:Commissioners’ Meeting Room\, 2 S. Pacific St\, Dillon\, MT\, 59725\, United States
CATEGORIES:Meeting
END:VEVENT
END:VCALENDAR