BEGIN:VCALENDAR
VERSION:2.0
PRODID:-//Beaverhead County - ECPv6.15.20//NONSGML v1.0//EN
CALSCALE:GREGORIAN
METHOD:PUBLISH
X-ORIGINAL-URL:https://beaverheadcountymt.gov
X-WR-CALDESC:Events for Beaverhead County
REFRESH-INTERVAL;VALUE=DURATION:PT1H
X-Robots-Tag:noindex
X-PUBLISHED-TTL:PT1H
BEGIN:VTIMEZONE
TZID:America/Denver
BEGIN:DAYLIGHT
TZOFFSETFROM:-0700
TZOFFSETTO:-0600
TZNAME:MDT
DTSTART:20220313T090000
END:DAYLIGHT
BEGIN:STANDARD
TZOFFSETFROM:-0600
TZOFFSETTO:-0700
TZNAME:MST
DTSTART:20221106T080000
END:STANDARD
BEGIN:DAYLIGHT
TZOFFSETFROM:-0700
TZOFFSETTO:-0600
TZNAME:MDT
DTSTART:20230312T090000
END:DAYLIGHT
BEGIN:STANDARD
TZOFFSETFROM:-0600
TZOFFSETTO:-0700
TZNAME:MST
DTSTART:20231105T080000
END:STANDARD
BEGIN:DAYLIGHT
TZOFFSETFROM:-0700
TZOFFSETTO:-0600
TZNAME:MDT
DTSTART:20240310T090000
END:DAYLIGHT
BEGIN:STANDARD
TZOFFSETFROM:-0600
TZOFFSETTO:-0700
TZNAME:MST
DTSTART:20241103T080000
END:STANDARD
END:VTIMEZONE
BEGIN:VEVENT
DTSTART;TZID=America/Denver:20230309T130000
DTEND;TZID=America/Denver:20230309T153000
DTSTAMP:20260423T105643
CREATED:20230307T164307Z
LAST-MODIFIED:20230307T164307Z
UID:9317-1678366800-1678375800@beaverheadcountymt.gov
SUMMARY:Beaverhead County Planning Board Meeting
DESCRIPTION:Agenda\n**All Times Are Approximate** \n\n1:00 P.M.\n• Minutes of February 16th meeting\n• Planning Board Member Reports\n• Planner’s Report\n• Public Comments & Questions \n\n1:30 P.M.\nBig Hole Grazing Association Conservation Easement \n\n2:00 P.M.\nDiscussion on updating County Subdivision Regulations – Jerry Grebenc\nPublic Comments & Questions of Non-Agenda Items \n\n3:30 P.M.\nAdjourn
URL:https://beaverheadcountymt.gov/event/beaverhead-county-planning-board-meeting-16/
LOCATION:Commissioners’ Meeting Room\, 2 S. Pacific St\, Dillon\, MT\, 59725\, United States
CATEGORIES:Meeting
ORGANIZER;CN="Rochelle Hoerning":MAILTO:rhoerning@beaverheadcountymt.gov
END:VEVENT
BEGIN:VEVENT
DTSTART;TZID=America/Denver:20230309T173000
DTEND;TZID=America/Denver:20230309T183000
DTSTAMP:20260423T105643
CREATED:20230307T163815Z
LAST-MODIFIED:20230307T163815Z
UID:9315-1678383000-1678386600@beaverheadcountymt.gov
SUMMARY:Beaverhead-Jackson Water & Sewer District Regular Meeting
DESCRIPTION:Agenda \n\n1. Call To Order \n2. Reading\, Correction\, And Approval Of Previous Minutes from 2/09/23 meeting \n3. Treasurer’s Report: \nAccount Balance Accounts Payable \n4. Sewer Update-Bob Lewis \na. Sewer repairs \ni. New Pumps Installation \n5. Water Update – Bob Lewis \na. Gallons being pumped vs. Gallons being billed \nb. Jackson Bible Church remote reader to be replaced \nc. GIS Mapping of JWSD system with Chad Thompson \n6. Old Business \na. WWC Engineering Inspection of Sewer Upgrade Site \nb. Rates Committee Recommendations to The JWSD Board \ni. Review “Housing Units”\, ie. “BunkHouse”\, Jackson Ranches Apts\, \nc. Committee Report to Update JWSD By-Laws \nd. “Zoom” usage for monthly meetings \ne. MACo Insurance dropping Special Districts from coverage as of June 30\,2023 \ni. District Clerk has completed an application for a new insurance company \nf. Consent Decree-18 month-Push to get Consent Decree removed by May ultimately year end. \n7. New Business: \na. Board needs to advertise for a new District Clerk \ni. New Clerk Job Description \nb. District Clerk to request permission to open a “Savings Account” for payments to the INTERCAP \n8. Public Comment: \n9. Adjournment
URL:https://beaverheadcountymt.gov/event/beaverhead-jackson-water-sewer-district-regular-meeting-5/
LOCATION:Jackson Fire Hall\, 220 W Lloyd St\, Jackson\, MT\, 59736\, United States
CATEGORIES:Meeting
END:VEVENT
BEGIN:VEVENT
DTSTART;TZID=America/Denver:20230313T090000
DTEND;TZID=America/Denver:20230313T170000
DTSTAMP:20260423T105643
CREATED:20230309T184819Z
LAST-MODIFIED:20230309T184819Z
UID:9331-1678698000-1678726800@beaverheadcountymt.gov
SUMMARY:Beaverhead County Commissioners' Meeting
DESCRIPTION:Agenda \n\n9:00 A.M.\nPledge of Allegiance\nUpdates on County Projects\nPublic Comment\nCommissioners’ Report\nPublic Comment \n\n9:30 A.M\nDiscussion & Action~ County Attorney Contract Services\nPublic Comment \n\n10:00 A.M\nDiscussion & Action~ Forest Service Schedule A\nPublic Comment \n\n10:15 A.M\nDiscussion~ Adams Lane/Rural Improvement District- Jessie Salix\nPublic Comment \n\n11:00 A.M\nDrought Task Force Meeting\nPublic Comment \n\n12:00 P.M.\nRecess for lunch \n\n1:30 P.M.\nPublic Hearing ~ Pioneer Mountain Scenic Byway Flap Project\nPublic Comment\nAdjourn Hearing\, Reconvene Commission Meeting \n\n4:00 P.M.\nPublic Comments on Subjects Under County Jurisdiction Not on Agenda \n\n4:30 P.M.\nUnfinished Business / Other Topics of Discussion\nPublic Comment \n\n4:45 P.M.\nPayment of Invoices\nPublic Comment\nAction on Previous Meeting Minutes\nPublic Comment \n\n5:00 P.M.\nAdjourn \n*The Commissioners will attend the Fair Board Meeting on March 15\, 2023 at 7:00pm at the Beaverhead County Courthouse in the Commissioners’ Room*
URL:https://beaverheadcountymt.gov/event/beaverhead-county-commissioners-meeting-114/
LOCATION:Commissioners’ Meeting Room\, 2 S. Pacific St\, Dillon\, MT\, 59725\, United States
CATEGORIES:Meeting
END:VEVENT
BEGIN:VEVENT
DTSTART;TZID=America/Denver:20230314T180000
DTEND;TZID=America/Denver:20230314T190000
DTSTAMP:20260423T105643
CREATED:20230310T194900Z
LAST-MODIFIED:20230310T194900Z
UID:9335-1678816800-1678820400@beaverheadcountymt.gov
SUMMARY:Beaverhead County Weed Board Meeting
DESCRIPTION:AGENDA \n\nPublic Comment: Items on the Agenda \nApproval of Minutes from January 17th\, 2023 meeting \nFinancial Report \nGravel Pit Weed Plan Review \nProposed Action: Approve\, Amend\, or Reject: Dillon Apex Gravel Pit Noxious Week Management and Revegetation Plan \nCoordinator/Assistant Coordinator Report \nPublic Comment: Items not on the Agenda \nAdjourn
URL:https://beaverheadcountymt.gov/event/beaverhead-county-weed-board-meeting-15/
LOCATION:Commissioners’ Meeting Room\, 2 S. Pacific St\, Dillon\, MT\, 59725\, United States
CATEGORIES:Meeting
ORGANIZER;CN="Amber Burch":MAILTO:aburch@beaverheadcountymt.gov
END:VEVENT
BEGIN:VEVENT
DTSTART;TZID=America/Denver:20230315T190000
DTEND;TZID=America/Denver:20230315T200000
DTSTAMP:20260423T105643
CREATED:20230301T162939Z
LAST-MODIFIED:20230301T162939Z
UID:9299-1678906800-1678910400@beaverheadcountymt.gov
SUMMARY:Beaverhead County Fair Board Meeting
DESCRIPTION:Agenda \n• Call to order \n• Roll \n• Financial Report \n• Guest Speakers \n• Fair Management and Board Member Reports \nOld Business \n1. Electrical project \n2. Mid-way milling project \nNew Business \n1. Upcoming events \n2. New projects \n3. Announcements \nAdjournment
URL:https://beaverheadcountymt.gov/event/beaverhead-county-fair-board-meeting-12/
LOCATION:Commissioners’ Meeting Room\, 2 S. Pacific St\, Dillon\, MT\, 59725\, United States
CATEGORIES:Meeting
END:VEVENT
BEGIN:VEVENT
DTSTART;TZID=America/Denver:20230316T180000
DTEND;TZID=America/Denver:20230316T190000
DTSTAMP:20260423T105643
CREATED:20230314T163241Z
LAST-MODIFIED:20230314T163241Z
UID:9344-1678989600-1678993200@beaverheadcountymt.gov
SUMMARY:Beaverhead Conservation District Meeting
DESCRIPTION:The meeting will be in-person\, but we can open a conference call line if anyone is interested\, please let us know by noon the day of the meeting if you would like to call into the meeting. \n• Call meeting to order \n• Approval of January 16\, 2023\, minutes \n• Financial report \n• NRCS Report \n• Range Committee Report \n• Old 310 business \n• New 310 Business \no Diamond O Headgate replacement \n• Administrator’s Report \no Inspection Station Opening \n• Beaverhead Watershed Committee Grant Reports \n• Old Business \n• New Business \no Employee Health Insurance Stipend \n• Upcoming Events \no Next meeting date – April 20th\, 2023 \no Youth Conservation Day – April 27th\, 2023 \n• Public Comment \n• Adjournment \n**Please note the deadline for 310 permits is the 2nd Thursday of the month. Permits will be reviewed at the meeting on the third Thursday. Any work in streams or on streambanks requires a 310 permit per Montana Law. This includes emergency work for flood control\, etc. If you have questions\, please call 683-3802.
URL:https://beaverheadcountymt.gov/event/beaverhead-conservation-district-meeting-5/
LOCATION:NRCS\, 420 Barrett St\, Dillon\, MT\, 59725\, United States
CATEGORIES:Meeting
END:VEVENT
BEGIN:VEVENT
DTSTART;TZID=America/Denver:20230320T090000
DTEND;TZID=America/Denver:20230320T170000
DTSTAMP:20260423T105643
CREATED:20230316T162838Z
LAST-MODIFIED:20230316T162838Z
UID:9349-1679302800-1679331600@beaverheadcountymt.gov
SUMMARY:Beaverhead County Commissioners' Meeting
DESCRIPTION:Agenda \n\n9:00 A.M.\nPledge of Allegiance\nUpdates on County Projects\nPublic Comment\nCommissioners’ Report\nPublic Comment \n\n9:30 A.M\nDiscussion & Action~ Resolution 23-07- Commission Districts\nPublic Comment \n\n9:45 A.M\nDiscussion & Action~ Resolution 23-08- Precinct Boundaries\nPublic Comment \n\n10:00 A.M\nDiscussion & Action~ Resolution 23-09- Redistricting House Districts & Resolution 23-10- Redistricting Senate Districts\nPublic Comment \n\n10:30 A.M\nDiscussion & Action~ Compensation Board Appointments\nPublic Comment \n\n12:00 P.M.\nRecess for lunch \n\n1:30 P.M.\nDiscussion & Action~ Forest Service/ Cooperating Agency on Travel Management \n\nRecess Commissioners Meeting\nConvene Solid Waste Board Meeting \n\n3:00 P.M\nSolid Waste Board Meeting \n\nAdjourn Solid Waste Board Meeting\nReconvene Commissioners Meeting \n\n4:00 P.M.\nPublic Comments on Subjects Under County Jurisdiction Not on Agenda \n\n4:30 P.M.\nUnfinished Business / Other Topics of Discussion\nPublic Comment \n\n4:45 P.M.\nPayment of Invoices\nPublic Comment\nAction on Previous Meeting Minutes\nPublic Comment \n\n5:00 P.M.\nAdjourn
URL:https://beaverheadcountymt.gov/event/beaverhead-county-commissioners-meeting-115/
LOCATION:Commissioners’ Meeting Room\, 2 S. Pacific St\, Dillon\, MT\, 59725\, United States
CATEGORIES:Meeting
END:VEVENT
BEGIN:VEVENT
DTSTART;TZID=America/Denver:20230322T170000
DTEND;TZID=America/Denver:20230322T180000
DTSTAMP:20260423T105643
CREATED:20230316T163223Z
LAST-MODIFIED:20230316T163638Z
UID:9351-1679504400-1679508000@beaverheadcountymt.gov
SUMMARY:Beaverhead County Museum Board of Trustees Meeting
DESCRIPTION:Agenda \n1. Introduction of Guests: \n2. Approval of consent of February 15\, 2023\, minutes: \n3. Trustees (7): \nJohn Breen\, Lee Graves\, Aggie Helle\, Donna Jones\, Lorraine King\, Neal Straus\, Mark McGinley \na. Director\, Present: Candi Whitworth \n4. Trustees Excused Absent: Aggie Helle\, Donna Jones \n5. Treasurer’s Report: Neal Straus \na. Financial Report \n6. Association Report: Lynn Giles \n7. Old Business: \na. Programs: Lee\, Lorraine\, Candi\, Lynn \nb. Exhibits: New Exhibits– Lorraine\, Lynn\, Train Exhibit: John & Neal \n8. New Business: \na. By-laws \nb. Accession and Deaccession items. \n9. Director’s Report: Candi Whitworth \na. MAM conference report \nb. Soft Opening for April \n10. Other Business: \n11. Public Discussion: \nPublic comment on items of significant public interest not on the agenda and within the jurisdiction of the Beaverhead County Museum Board of Trustees. \n12. Set date of the next meeting: Wednesday April 19\, 2023 @ 5 p.m. \n13. Adjournment: \n(The above minutes are from written notes taken by the Museum Director or an assigned individual during the meeting. These minutes are not a transcript\, but rather a summary of the proceedings of the meeting.)
URL:https://beaverheadcountymt.gov/event/beaverhead-county-museum-board-of-trustees-meeting-24/
LOCATION:Museum\, 15 S. Montana St\, Dillon\, MT\, 59725\, United States
CATEGORIES:Meeting
ORGANIZER;CN="Candi Whitworth":MAILTO:bvhdmuseum@hotmail.com
END:VEVENT
BEGIN:VEVENT
DTSTART;TZID=America/Denver:20230327T090000
DTEND;TZID=America/Denver:20230327T170000
DTSTAMP:20260423T105643
CREATED:20230323T142907Z
LAST-MODIFIED:20230323T143232Z
UID:9360-1679907600-1679936400@beaverheadcountymt.gov
SUMMARY:Beaverhead County Commissioners' Meeting
DESCRIPTION:There will not be a Commissioners’ Meeting Monday March 27\, 2023 Due to MACRS and Finalizing Annual Audit Reports. \nThe commissioners will have a working session all day Monday and will be available\, if needed.
URL:https://beaverheadcountymt.gov/event/beaverhead-county-commissioners-meeting-116/
LOCATION:MT
CATEGORIES:Meeting
END:VEVENT
END:VCALENDAR