BEGIN:VCALENDAR
VERSION:2.0
PRODID:-//Beaverhead County - ECPv6.15.20//NONSGML v1.0//EN
CALSCALE:GREGORIAN
METHOD:PUBLISH
X-WR-CALNAME:Beaverhead County
X-ORIGINAL-URL:https://beaverheadcountymt.gov
X-WR-CALDESC:Events for Beaverhead County
REFRESH-INTERVAL;VALUE=DURATION:PT1H
X-Robots-Tag:noindex
X-PUBLISHED-TTL:PT1H
BEGIN:VTIMEZONE
TZID:America/Denver
BEGIN:DAYLIGHT
TZOFFSETFROM:-0700
TZOFFSETTO:-0600
TZNAME:MDT
DTSTART:20220313T090000
END:DAYLIGHT
BEGIN:STANDARD
TZOFFSETFROM:-0600
TZOFFSETTO:-0700
TZNAME:MST
DTSTART:20221106T080000
END:STANDARD
BEGIN:DAYLIGHT
TZOFFSETFROM:-0700
TZOFFSETTO:-0600
TZNAME:MDT
DTSTART:20230312T090000
END:DAYLIGHT
BEGIN:STANDARD
TZOFFSETFROM:-0600
TZOFFSETTO:-0700
TZNAME:MST
DTSTART:20231105T080000
END:STANDARD
BEGIN:DAYLIGHT
TZOFFSETFROM:-0700
TZOFFSETTO:-0600
TZNAME:MDT
DTSTART:20240310T090000
END:DAYLIGHT
BEGIN:STANDARD
TZOFFSETFROM:-0600
TZOFFSETTO:-0700
TZNAME:MST
DTSTART:20241103T080000
END:STANDARD
END:VTIMEZONE
BEGIN:VEVENT
DTSTART;TZID=America/Denver:20230501T090000
DTEND;TZID=America/Denver:20230501T170000
DTSTAMP:20260423T074141
CREATED:20230427T184809Z
LAST-MODIFIED:20230427T184809Z
UID:9461-1682931600-1682960400@beaverheadcountymt.gov
SUMMARY:Beaverhead County Commissioners' Meeting
DESCRIPTION:Agenda \n\n9:00 A.M.\nPledge of Allegiance\nUpdates on County Projects\nPublic Comment\nCommissioners’ Report\nPublic Comment \n\n9:30 A.M\nBeaverhead County LEPC Meeting\nPublic Comment \n\n10:30 A.M\nDiscussion~ Chamber Update\nPublic Comment \n\n10:45 A.M\nDiscussion~ City / County Updates\nPublic Comment \n\n11:00 A.M\nDiscussion & Action~ Wisdom Airport\nPublic Comment \n\n12:00 P.M.\nRecess for lunch \n\n2:00 P.M.\nDiscussion & Action~ Resolution 2023-12 DUI Task Force & Report \n\n3:00 P.M.\nPublic Comments on Subjects Under County Jurisdiction Not on Agenda \n\n4:00 P.M.\nUnfinished Business / Other Topics of Discussion\nPublic Comment \n\n4:45 P.M.\nPayment of Invoices\nPublic Comment\nAction on Previous Meeting Minutes\nPublic Comment \n\n5:00 P.M.\nAdjourn
URL:https://beaverheadcountymt.gov/event/beaverhead-county-commissioners-meeting-122/
LOCATION:Commissioners’ Meeting Room\, 2 S. Pacific St\, Dillon\, MT\, 59725\, United States
CATEGORIES:Meeting
END:VEVENT
BEGIN:VEVENT
DTSTART;TZID=America/Denver:20230508T090000
DTEND;TZID=America/Denver:20230508T170000
DTSTAMP:20260423T074141
CREATED:20230504T193228Z
LAST-MODIFIED:20230504T193228Z
UID:9501-1683536400-1683565200@beaverheadcountymt.gov
SUMMARY:Beaverhead County Commissioners' Meeting
DESCRIPTION:Agenda \n\n9:00 A.M.\nPledge of Allegiance\nUpdates on County Projects\nPublic Comment\nCommissioners’ Report\nPublic Comment \n\n9:30 A.M\nDiscussion & Action~ Resolution 2023-14 Appointing Special County Attorney\nPublic Comment \n\n11:00 A.M\nDrought Task Force Meeting\nPublic Comment \n\n12:00 P.M.\nRecess for lunch \n\n1:30 P.M.\nDiscussion~ Legislative Recap\nPublic Comment \n\n4:00 P.M.\nPublic Comments on Subjects Under County Jurisdiction Not on Agenda \n\n4:30 P.M.\nUnfinished Business / Other Topics of Discussion\nPublic Comment \n\n4:45 P.M.\nPayment of Invoices\nPublic Comment\nAction on Previous Meeting Minutes\nPublic Comment \n\n5:00 P.M.\nAdjourn
URL:https://beaverheadcountymt.gov/event/beaverhead-county-commissioners-meeting-123/
LOCATION:Commissioners’ Meeting Room\, 2 S. Pacific St\, Dillon\, MT\, 59725\, United States
CATEGORIES:Meeting
END:VEVENT
BEGIN:VEVENT
DTSTART;TZID=America/Denver:20230510T190000
DTEND;TZID=America/Denver:20230510T200000
DTSTAMP:20260423T074141
CREATED:20230508T190803Z
LAST-MODIFIED:20230508T190803Z
UID:9515-1683745200-1683748800@beaverheadcountymt.gov
SUMMARY:Beaverhead County Fair Board Meeting
DESCRIPTION:Agenda \nCall to order \nIntroduction of guests \nAmendments or changes to agenda \nFinancial Report \nFair Manager Report \nExecutive Director Report \nBoard Member Reports \nOld Business \n1. Project updates (electric\, water\, midway) \n2. Event update \n3. \nNew Business \n1. \n2. \nCorrespondence \nAdjournment
URL:https://beaverheadcountymt.gov/event/beaverhead-county-fair-board-meeting-14/
LOCATION:Fairgrounds – Fair Office\, 795 S Railroad St\, Dillon\, MT\, 59725\, United States
CATEGORIES:Meeting
END:VEVENT
BEGIN:VEVENT
DTSTART;TZID=America/Denver:20230511T080000
DTEND;TZID=America/Denver:20230511T170000
DTSTAMP:20260423T074141
CREATED:20230427T202034Z
LAST-MODIFIED:20230427T202159Z
UID:9466-1683792000-1683824400@beaverheadcountymt.gov
SUMMARY:Beaverhead County Planning Board Meeting
DESCRIPTION:Agenda\n**All times are approximate** \n\n10:30 A.M.\nField Trip to Sweetwater View Minor Subdivision \n\n12:00 P.M.\nRecess for Lunch \n\n1:00 P.M.\nMinutes and Reports\n• Minutes of April 13th meeting\n• Planning Board Member Reports\n• Planner’s Report\n• Public Comments & Questions \n\n1:30 P.M.\nSweetwater View Minor Subdivision\n• Discussion and Action on the preliminary plat\n• Public Comments and Questions \n\n2:00 P.M.\nSubdivision Regulation Subcommittee report \n\n2:30 P.M.\nPublic Comments & Questions of Non-Agenda Items \n\n3:00 P.M.\nAdjourn
URL:https://beaverheadcountymt.gov/event/beaverhead-county-planning-board-meeting-17/
LOCATION:Commissioners’ Meeting Room\, 2 S. Pacific St\, Dillon\, MT\, 59725\, United States
CATEGORIES:Meeting
ORGANIZER;CN="Rochelle Hoerning":MAILTO:rhoerning@beaverheadcountymt.gov
END:VEVENT
BEGIN:VEVENT
DTSTART;TZID=America/Denver:20230511T173000
DTEND;TZID=America/Denver:20230511T183000
DTSTAMP:20260423T074141
CREATED:20230508T160536Z
LAST-MODIFIED:20230508T160536Z
UID:9513-1683826200-1683829800@beaverheadcountymt.gov
SUMMARY:Beaverhead-Jackson Water & Sewer District Meeting
DESCRIPTION:Agenda \n1. Call To Order \n2. Reading\, Correction\, And Approval Of Previous Minutes from 4/13/23 and 4/19/23 meeting \n3. Treasurer’s Report: \nAccount Balance \nAccounts Payable/Accounts Receivable \nWWC Engineering Invoice for April Expenses \n4. Sewer Update-Bob Lewis \na. WWC Engineer Peter Haun/Excavation of Drain Field \n5. Water Update – Bob Lewis \na. Jackson Bible Church remote reader to be replaced? \nb. GIS Mapping of JWSD system with Chad Thompson \n6. Old Business \na. WWC Engineering – Sewer Project Update – Peter Haun \nb. Wade Johnson Proposal from Special Meeting 4/19/2023 \nc. Committee Report JWSD By-Laws Update Results \nd. New Clerk – \ni. Resume Received(?) \nii. Clerk bond renewal \n7. New Business: \na. Moratoruim on new water/sewer connections \n8. Public Comment: \n9. Adjournment
URL:https://beaverheadcountymt.gov/event/beaverhead-jackson-water-sewer-district-meeting-8/
LOCATION:LDS Church – Jackson\, 212 Jardine Ave\, Jackson\, MT\, 59736\, United States
CATEGORIES:Meeting
END:VEVENT
BEGIN:VEVENT
DTSTART;TZID=America/Denver:20230515T090000
DTEND;TZID=America/Denver:20230515T170000
DTSTAMP:20260423T074141
CREATED:20230511T160957Z
LAST-MODIFIED:20230511T160957Z
UID:9520-1684141200-1684170000@beaverheadcountymt.gov
SUMMARY:Beaverhead County Commissioners' Meeting
DESCRIPTION:Agenda \n\n9:00 A.M.\nPledge of Allegiance\nUpdates on County Projects\nPublic Comment\nCommissioners’ Report\nPublic Comment \n\n12:00 P.M.\nRecess for lunch \n\n1:30 P.M.\nDiscussion & Action~ Insurance Renewal\nPublic Comment \n\n2:30 P.M.\nDiscussion & Action~ Workers Compensation Renewal\nPublic Comment \n\n3:30 P.M.\nDiscussion & Action~ Records Retention with Clerk & Recorder Stacey Reynolds\nPublic Comment \n\n4:00 P.M.\nPublic Comments on Subjects Under County Jurisdiction Not on Agenda \n\n4:30 P.M.\nUnfinished Business / Other Topics of Discussion\nPublic Comment \n\n4:45 P.M.\nPayment of Invoices\nPublic Comment\nAction on Previous Meeting Minutes\nPublic Comment \n\n5:00 P.M.\nAdjourn
URL:https://beaverheadcountymt.gov/event/beaverhead-county-commissioners-meeting-124/
LOCATION:Commissioners’ Meeting Room\, 2 S. Pacific St\, Dillon\, MT\, 59725\, United States
CATEGORIES:Meeting
END:VEVENT
BEGIN:VEVENT
DTSTART;TZID=America/Denver:20230515T180000
DTEND;TZID=America/Denver:20230515T190000
DTSTAMP:20260423T074141
CREATED:20230511T163014Z
LAST-MODIFIED:20230511T163014Z
UID:9524-1684173600-1684177200@beaverheadcountymt.gov
SUMMARY:Beaverhead County Weed Board Meeting
DESCRIPTION:AGENDA \n\nPublic Comment: Items on the Agenda \nApproval of Minutes from March 14\, 2023 meeting \nFinancial Report \nNon-Compliance \n2023 Project Awards \nReview bid packets and information from commercial applicators. Applicators that have bid on projects will have an opportunity to make a short presentation to the board. \nProposed action: Board to award Big Hole/Wise River\, Beaverhead River\, Blacktail WHIP (Brown\, Cottonwood\, & Upper Blacktail)\, Trail Creek BAER Weeds\, and Alder Creek BAER Weeds Projects \nWeed Plan Review \nProposed Action: Approve\, Amend\, or Reject Sweetwater Views Minor Subdivision Noxious Weed Management and Revegetation Plan \nProposed Action: Approve\, Amend\, or Reject Badger Pass Flats Minor Subdivision Noxious Weed Management and Revegetation Plan \nHiring \nProposed Action: Recommendation of seasonal weed crew hires. \nSagebrush Partnership Presentation – Sean Claffy Coordinator/Assistant Coordinator Report \nPublic Comment: Items not on the Agenda \nAdjourn
URL:https://beaverheadcountymt.gov/event/beaverhead-county-weed-board-meeting-16/
LOCATION:Commissioners’ Meeting Room\, 2 S. Pacific St\, Dillon\, MT\, 59725\, United States
CATEGORIES:Meeting
ORGANIZER;CN="Amber Burch":MAILTO:aburch@beaverheadcountymt.gov
END:VEVENT
BEGIN:VEVENT
DTSTART;TZID=America/Denver:20230517T170000
DTEND;TZID=America/Denver:20230517T180000
DTSTAMP:20260423T074141
CREATED:20230515T135329Z
LAST-MODIFIED:20230515T135329Z
UID:9530-1684342800-1684346400@beaverheadcountymt.gov
SUMMARY:Beaverhead County Museum Board of Trustees Meeting
DESCRIPTION:Agenda \n1. Introduction of Guests: \n2. Approval of consent agenda: \n3. Trustees (7): \nJohn Breen\, Donna Jones\, Aggie Helle\, Neal Straus\, Mark McGinley\nLorraine King\, Lee Graves \na. Director\, Present: Candi Whitworth \n4. Trustees Excused Absent: \n5. Treasurer’s Report: Neal Straus \na. Report on Budget to date \nb. 2023-2024 Budget \n6. Association Report: Lynn Giles \na. Snowplane \nb. Update \n7. Old Business: \na. Train Exhibit – Donna Jones \nb. By-laws \n8. New Business: \na. Outside facility – John Breen \nb. Accession/Deaccession \nc. Depot entry floor \n9. Director’s Report: Candi Whitworth \na. Opening \n10. Other Business: \na. \n11. Public Discussion:\nPublic comment on items of significant public interest not on the agenda and within the jurisdiction of the Beaverhead County Museum Board of Trustees. \n12. Set date of the next meeting: TBD \n13. Adjournment: \n(The above minutes are from written notes taken by the Museum Director or an assigned individual during the meeting. These minutes are not a transcript\, but rather a summary of the proceedings of the meeting.)
URL:https://beaverheadcountymt.gov/event/beaverhead-county-museum-board-of-trustees-meeting-26/
LOCATION:Museum\, 15 S. Montana St\, Dillon\, MT\, 59725\, United States
CATEGORIES:Meeting
ORGANIZER;CN="Candi Whitworth":MAILTO:bvhdmuseum@hotmail.com
END:VEVENT
BEGIN:VEVENT
DTSTART;TZID=America/Denver:20230518T180000
DTEND;TZID=America/Denver:20230518T190000
DTSTAMP:20260423T074141
CREATED:20230516T154658Z
LAST-MODIFIED:20230516T154658Z
UID:9541-1684432800-1684436400@beaverheadcountymt.gov
SUMMARY:Beaverhead Conservation District Meeting
DESCRIPTION:The meeting will be in-person\, but we can open a conference call line if anyone is interested\, please let us know by noon the day of the meeting if you would like to call into the meeting. \n• Call meeting to order \n• Approval of April 20\, 2023\, minutes \n• Financial report \n• NRCS Report \n• Range Committee Report \n• Old 310 business \n• New 310 Business \no BCD 2303 Tom Kambich\, Birch Creek\, Beaver Dam Removal \no BCD 2305 JB Anderson\, Blacktail Creek\, Violation Cleanup and willow replanting \n• Administrator’s Report \n• Beaverhead Watershed Committee Grant Reports \n• Old Business \no Insurance- Rocky Mountain \n• New Business \n• Upcoming Events \no Poindexter weed pull – May 16th 3:30 pm \no 5th Grade Outdoor School – May 26th \no Next meeting date – June 15th 6 pm \no Wildlife Speaker Series – July 27th 5:30pm \n• Public Comment \n• Adjournment \n**Please note the deadline for 310 permits is the 2nd Thursday of the month.  Permits will be reviewed at the meeting on the third Thursday.  Any work in streams or on streambanks requires a 310 permit per Montana Law. This includes emergency work for flood control\, etc.  If you have questions\, please call 683-3802.
URL:https://beaverheadcountymt.gov/event/beaverhead-conservation-district-meeting-7/
LOCATION:NRCS\, 420 Barrett St\, Dillon\, MT\, 59725\, United States
CATEGORIES:Meeting
ORGANIZER;CN="Jessica Fields":MAILTO:beaverheadcd@gmail.com
END:VEVENT
BEGIN:VEVENT
DTSTART;TZID=America/Denver:20230522T090000
DTEND;TZID=America/Denver:20230522T170000
DTSTAMP:20260423T074141
CREATED:20230518T154733Z
LAST-MODIFIED:20230518T154733Z
UID:9547-1684746000-1684774800@beaverheadcountymt.gov
SUMMARY:Beaverhead County Commissioners' Meeting
DESCRIPTION:Agenda \n\n9:00 A.M.\nPledge of Allegiance\nUpdates on County Projects\nPublic Comment\nCommissioners’ Report\nPublic Comment \n\n10:00 A.M\nDiscussion & Action~ Preliminary Plat Sweetwater View Minor Subdivision\nPublic Comment \n\n10:30 A.M.\nDiscussion & Action~ Hiring Recommendations from the Weed Board\nPublic Comment \n\n12:00 P.M.\nRecess for lunch \n\n1:30 P.M.\nDiscussion & Action~ Healthy Is Contract\nPublic Comment \n\n2:30 P.M\nPayment of Invoices\nPublic Comment\nAction on Previous Meeting Minutes\nPublic Comment \n\n3:00 P.M\nCompensation Board Meeting\nPublic Comment \n\n4:00 P.M.\nPublic Comments on Subjects Under County Jurisdiction Not on Agenda \n\n4:15 P.M.\nUnfinished Business / Other Topics of Discussion\nPublic Comment \n\n4:30 P.M\nDiscussion~ Legislative update with Cindy Perdue-Dolan\nPublic Comment \n\n5:00 P.M.\nAdjourn
URL:https://beaverheadcountymt.gov/event/beaverhead-county-commissioners-meeting-125/
LOCATION:Commissioners’ Meeting Room\, 2 S. Pacific St\, Dillon\, MT\, 59725\, United States
CATEGORIES:Meeting
END:VEVENT
BEGIN:VEVENT
DTSTART;TZID=America/Denver:20230530T090000
DTEND;TZID=America/Denver:20230530T170000
DTSTAMP:20260423T074141
CREATED:20230525T224606Z
LAST-MODIFIED:20230525T224606Z
UID:9579-1685437200-1685466000@beaverheadcountymt.gov
SUMMARY:Beaverhead County Commissioners' Meeting
DESCRIPTION:Agenda \n\n9:00 A.M.\nPledge of Allegiance\nUpdates on County Projects\nPublic Comment\nCommissioners’ Report\nPublic Comment \n\n9:30 A.M.\nDiscussion~ Legislative Update\nPublic Comment \n\n10:00 A.M\nDiscussion & Action~ BRAC Agreement\nPublic Comment \n\n10:30 A.M.\nDiscussion & Action~ Resolutions Appointing Special District Appointees\nPublic Comment \n\n11:00 A.M\nDiscussion~ Budget Update\nPublic Comment \n\n12:00 P.M.\nRecess for lunch \n\n2:00 P.M.\nDiscussion & Action~ Preliminary Platt of Sweetwater View Minor Subdivision\nPublic Comment \n\n3:00P.M\nPayment of Invoices\nPublic Comment\nAction on Previous Meeting Minutes\nPublic Comment \n\n4:00 P.M.\nPublic Comments on Subjects Under County Jurisdiction Not on Agenda \n\n4:15 P.M.\nUnfinished Business / Other Topics of Discussion\nPublic Comment \n\n5:00 P.M.\nAdjourn
URL:https://beaverheadcountymt.gov/event/beaverhead-county-commissioners-meeting-126/
LOCATION:Commissioners’ Meeting Room\, 2 S. Pacific St\, Dillon\, MT\, 59725\, United States
CATEGORIES:Meeting
END:VEVENT
END:VCALENDAR