BEGIN:VCALENDAR
VERSION:2.0
PRODID:-//Beaverhead County - ECPv6.15.20//NONSGML v1.0//EN
CALSCALE:GREGORIAN
METHOD:PUBLISH
X-ORIGINAL-URL:https://beaverheadcountymt.gov
X-WR-CALDESC:Events for Beaverhead County
REFRESH-INTERVAL;VALUE=DURATION:PT1H
X-Robots-Tag:noindex
X-PUBLISHED-TTL:PT1H
BEGIN:VTIMEZONE
TZID:America/Denver
BEGIN:DAYLIGHT
TZOFFSETFROM:-0700
TZOFFSETTO:-0600
TZNAME:MDT
DTSTART:20220313T090000
END:DAYLIGHT
BEGIN:STANDARD
TZOFFSETFROM:-0600
TZOFFSETTO:-0700
TZNAME:MST
DTSTART:20221106T080000
END:STANDARD
BEGIN:DAYLIGHT
TZOFFSETFROM:-0700
TZOFFSETTO:-0600
TZNAME:MDT
DTSTART:20230312T090000
END:DAYLIGHT
BEGIN:STANDARD
TZOFFSETFROM:-0600
TZOFFSETTO:-0700
TZNAME:MST
DTSTART:20231105T080000
END:STANDARD
BEGIN:DAYLIGHT
TZOFFSETFROM:-0700
TZOFFSETTO:-0600
TZNAME:MDT
DTSTART:20240310T090000
END:DAYLIGHT
BEGIN:STANDARD
TZOFFSETFROM:-0600
TZOFFSETTO:-0700
TZNAME:MST
DTSTART:20241103T080000
END:STANDARD
END:VTIMEZONE
BEGIN:VEVENT
DTSTART;TZID=America/Denver:20230601T170000
DTEND;TZID=America/Denver:20230601T180000
DTSTAMP:20260423T055604
CREATED:20230530T142922Z
LAST-MODIFIED:20230530T142922Z
UID:9593-1685638800-1685642400@beaverheadcountymt.gov
SUMMARY:Beaverhead County Museum Board of Trustees Special Meeting
DESCRIPTION:Agenda \n1. Introduction of Guests: \n2. Budget Review: Review 2023 – 2024 Budget of Beaverhead County Museum \n3. Grand Opening: Train Exhibit \n4. Other Business: \nPublic Discussion \n*Public comment on items of significant public interest not on the agenda and within the jurisdiction of the Beaverhead County Museum Board of Trustees \nAdjournment:
URL:https://beaverheadcountymt.gov/event/beaverhead-county-museum-board-of-trustees-special-meeting-2/
LOCATION:Museum\, 15 S. Montana St\, Dillon\, MT\, 59725\, United States
CATEGORIES:Meeting
ORGANIZER;CN="Candi Whitworth":MAILTO:bvhdmuseum@hotmail.com
END:VEVENT
BEGIN:VEVENT
DTSTART;TZID=America/Denver:20230605T090000
DTEND;TZID=America/Denver:20230605T170000
DTSTAMP:20260423T055604
CREATED:20230601T184550Z
LAST-MODIFIED:20230601T184550Z
UID:9596-1685955600-1685984400@beaverheadcountymt.gov
SUMMARY:Beaverhead County Commissioners' Meeting
DESCRIPTION:Agenda \n\n9:00 A.M.\nPledge of Allegiance\nUpdates on County Projects\nPublic Comment\nCommissioners’ Report\nPublic Comment \n\n9:30 A.M\n**Cancelled** Beaverhead County Local Emergency Planning Commitee Meeting\nDiscussion~ Chamber Update\nPublic Comment \n\n9:45 A.M\nDiscussion~ City / County Updates\nPublic Comment \n\n12:00 P.M.\nRecess for lunch \n\n2:00 P.M.\nDiscussion & Action~ Sealed Bids for Brick Pavers \n\n3:00 P.M.\nPublic Comments on Subjects Under County Jurisdiction Not on Agenda \n\n4:00 P.M.\nUnfinished Business / Other Topics of Discussion\nPublic Comment \n\n4:45 P.M.\nPayment of Invoices\nPublic Comment\nAction on Previous Meeting Minutes\nPublic Comment \n\n5:00 P.M.\nAdjourn
URL:https://beaverheadcountymt.gov/event/beaverhead-county-commissioners-meeting-127/
LOCATION:Commissioners’ Meeting Room\, 2 S. Pacific St\, Dillon\, MT\, 59725\, United States
CATEGORIES:Meeting
END:VEVENT
BEGIN:VEVENT
DTSTART;TZID=America/Denver:20230607T190000
DTEND;TZID=America/Denver:20230607T200000
DTSTAMP:20260423T055604
CREATED:20230605T164004Z
LAST-MODIFIED:20230605T164004Z
UID:9606-1686164400-1686168000@beaverheadcountymt.gov
SUMMARY:Beaverhead County Fair Board Meeting
DESCRIPTION:Agenda \n\nCall to Order \nIntroduction of guests \nAmendments or changes to agenda \nFinancial Report \nFair Manager Report \nExecutive Director Report \nBoard Member Reports \nOld Business \nProject updates (electric\, water\, midway) Event update \nNew Business \n2023/24 Budget \nCorrespondence \nAdjournment
URL:https://beaverheadcountymt.gov/event/beaverhead-county-fair-board-meeting-15/
LOCATION:Commissioners’ Meeting Room\, 2 S. Pacific St\, Dillon\, MT\, 59725\, United States
CATEGORIES:Meeting
END:VEVENT
BEGIN:VEVENT
DTSTART;TZID=America/Denver:20230608T103000
DTEND;TZID=America/Denver:20230608T150000
DTSTAMP:20260423T055604
CREATED:20230525T225252Z
LAST-MODIFIED:20230525T225252Z
UID:9585-1686220200-1686236400@beaverheadcountymt.gov
SUMMARY:Beaverhead County Planning Board Meeting
DESCRIPTION:Agenda\n**All times are approximate** \n\n10:30 A.M.\nField Trip to Birch Creek Flats Minor Sub. \n\n12:00 P.M.\nRecess for Lunch \n\n1:00 P.M.\nMinutes and Reports\n• Minutes of May 11th meeting\n• Planning Board Member Reports\n• Planner’s Report\n• Public Comments & Questions \n\n1:30 P.M.\nBirch Creek Flats Minor Subdivision\n• Discussion and Action on the preliminary plat\n• Public Comments and Questions \n\n2:00 P.M.\nSubdivision Regulation Subcommittee report \n\n2:30 P.M.\nPublic Comments & Questions of Non-Agenda Items \n\n3:00 P.M.\nAdjourn
URL:https://beaverheadcountymt.gov/event/beaverhead-county-planning-board-meeting-18/
LOCATION:Commissioners’ Meeting Room\, 2 S. Pacific St\, Dillon\, MT\, 59725\, United States
CATEGORIES:Meeting
ORGANIZER;CN="Rochelle Hoerning":MAILTO:rhoerning@beaverheadcountymt.gov
END:VEVENT
BEGIN:VEVENT
DTSTART;TZID=America/Denver:20230612T090000
DTEND;TZID=America/Denver:20230612T170000
DTSTAMP:20260423T055604
CREATED:20230608T225001Z
LAST-MODIFIED:20230608T225139Z
UID:9608-1686560400-1686589200@beaverheadcountymt.gov
SUMMARY:Beaverhead County Commissioners' Meeting
DESCRIPTION:Agenda \n\n9:00 A.M.\nPledge of Allegiance\nUpdates on County Projects\nPublic Comment\nCommissioners’ Report\nPublic Comment \n\n9:30 A.M\nDiscussion & Action~ Dillon Airport Task Orders #7- #12\nPublic Comment\nDiscussion & Action~ Dillon Airport Record of Engineering Selection & Contract Negotiations\nPublic Comment \n\n10:00 A.M.\nDiscussion~ Preliminary Budget\nPublic Comment \n\n11:00 A.M.\nDrought Task Force Meeting\nPublic Comment \n\n12:00 P.M.\nRecess for lunch \n\n1:30 P.M.\nSafety Team Meeting\nPublic Comment \n\nRecess Commissioners Meeting \n\n3:00 P.M.\nSolid Waste Board Meeting\nPublic comment \n\nReconvene Commissioners Meeting \n\n4:00 P.M\nPayment of Invoices\nPublic Comment\nAction on Previous Meeting Minutes\nPublic Comment \n\n4:15 P.M.\nPublic Comments on Subjects Under County Jurisdiction Not on Agenda \n\n4:30 P.M.\nUnfinished Business / Other Topics of Discussion\nPublic Comment \n\n5:00 P.M.\nAdjourn
URL:https://beaverheadcountymt.gov/event/beaverhead-county-commissioners-meeting-128/
LOCATION:Commissioners’ Meeting Room\, 2 S. Pacific St\, Dillon\, MT\, 59725\, United States
CATEGORIES:Meeting
END:VEVENT
BEGIN:VEVENT
DTSTART;TZID=America/Denver:20230619T090000
DTEND;TZID=America/Denver:20230619T170000
DTSTAMP:20260423T055604
CREATED:20230615T212324Z
LAST-MODIFIED:20230615T212730Z
UID:9625-1687165200-1687194000@beaverheadcountymt.gov
SUMMARY:Beaverhead County Commissioners' Meeting
DESCRIPTION:Agenda \n\n9:00 A.M.\nPledge of Allegiance\nUpdates on County Projects\nPublic Comment\nCommissioners’ Report\nPublic Comment \n\n9:30 A.M\nDiscussion ~ Starr Counseling/Chemical Dependency\nPublic Comment \n\n10:00 A.M.\nDiscussion & Action ~ Preliminary Plat: Birch Creek Flats Minor Subdivision\nPublic Comment \n\n11:00 A.M.\nDiscussion & Action ~ Dillon Airport Project- Bids & Funding with Robert Peccia & Assoc.\nPublic Comment \n\n12:00 P.M.\nRecess for lunch \n\n1:30 P.M.\nDiscussion ~ Preliminary Budget\nPublic Comment \n\n2:00 P.M.\nDiscussion ~ DNRC Update with Jay Lemon\nPublic comment \n\n4:00 P.M\nPayment of Invoices\nPublic Comment\nAction on Previous Meeting Minutes\nPublic Comment \n\n4:15 P.M.\nPublic Comments on Subjects Under County Jurisdiction Not on Agenda \n\n4:30 P.M.\nUnfinished Business / Other Topics of Discussion\nPublic Comment \n\n5:00 P.M.\nAdjourn
URL:https://beaverheadcountymt.gov/event/beaverhead-county-commissioners-meeting-129/
LOCATION:Commissioners’ Meeting Room\, 2 S. Pacific St\, Dillon\, MT\, 59725\, United States
CATEGORIES:Meeting
END:VEVENT
BEGIN:VEVENT
DTSTART;TZID=America/Denver:20230621T170000
DTEND;TZID=America/Denver:20230621T180000
DTSTAMP:20260423T055604
CREATED:20230616T224004Z
LAST-MODIFIED:20230616T224004Z
UID:9631-1687366800-1687370400@beaverheadcountymt.gov
SUMMARY:Beaverhead County Museum Board of Trustees Meeting
DESCRIPTION:Agenda \n1. Introduction of Guests: \n2. Approval of consent agenda: \n3. Trustees (7): \nJohn Breen\, Mark McGinley\, Lee Graves\, Aggie Helle\, Donna Jones\, Lorraine King \na. Director\, Present: Candi Whitworth \n4. Trustees Excused Absent: \n5. Treasurer’s Report: \na. FY 2023-2024 Budget \nb. Report from Special Board Meeting. \n6. Association Report: Lynn Giles \na. Update on the Train Exhibit Grand Opening. \n7. Old Business: \na. Train Grand Opening plan & cost. Committee Donna\, Aggie\, Lynn\, Mark \nb. Update on infrastructure\, Security System\, and facilities. \n8. New Business: \na. FY 2023 – 2024 Programs – Mark\, Lee\, Lorraine \nb. Trustee Board Member \n9. Director’s Report: Candi Whitworth \n10. Other Business: \n11. Public Discussion: \nPublic comment on items of significant public interest not on the agenda and within the jurisdiction of the Beaverhead County Museum Board of Trustees. \n12. Set date of the next meeting: \n13. Adjournment: \n(The above minutes are from written notes taken by the Museum Director or an assigned individual during the meeting. These minutes are not a transcript\, but rather a summary of the proceedings of the meeting.)
URL:https://beaverheadcountymt.gov/event/beaverhead-county-museum-board-of-trustees-meeting-27/
LOCATION:Museum\, 15 S. Montana St\, Dillon\, MT\, 59725\, United States
CATEGORIES:Meeting
ORGANIZER;CN="Candi Whitworth":MAILTO:bvhdmuseum@hotmail.com
END:VEVENT
BEGIN:VEVENT
DTSTART;TZID=America/Denver:20230626T090000
DTEND;TZID=America/Denver:20230626T110000
DTSTAMP:20260423T055604
CREATED:20230622T152044Z
LAST-MODIFIED:20230622T152044Z
UID:9636-1687770000-1687777200@beaverheadcountymt.gov
SUMMARY:Beaverhead County Commissioners' Meeting
DESCRIPTION:Agenda \n\n9:00 A.M.\nPledge of Allegiance\nUpdates on County Projects\nPublic Comment\nCommissioners’ Report\nPublic Comment \n\n9:30 A.M.\nDiscussion & Action ~ Museum Board Member Appointment\nPublic Comment \n\n9:45 A.M.\nDiscussion ~ Preliminary Budget Update\nPublic Comment \n\n10:00 P.M\nPayment of Invoices\nPublic Comment\nAction on Previous Meeting Minutes\nPublic Comment \n\n10:15 P.M.\nPublic Comments on Subjects Under County Jurisdiction Not on Agenda \n\n10:30 P.M.\nUnfinished Business / Other Topics of Discussion\nPublic Comment \n\n11:00 A. M.\nAdjourn– Commissioners will be traveling to Helena for MACo Board of Directors Meeting
URL:https://beaverheadcountymt.gov/event/beaverhead-county-commissioners-meeting-130/
LOCATION:Commissioners’ Meeting Room\, 2 S. Pacific St\, Dillon\, MT\, 59725\, United States
CATEGORIES:Meeting
END:VEVENT
BEGIN:VEVENT
DTSTART;TZID=America/Denver:20230630T100000
DTEND;TZID=America/Denver:20230630T120000
DTSTAMP:20260423T055604
CREATED:20230628T142538Z
LAST-MODIFIED:20230628T142538Z
UID:9662-1688119200-1688126400@beaverheadcountymt.gov
SUMMARY:Beaverhead County/City Board of Health Meeting
DESCRIPTION:(Breakfast at 9:30 A.M.) \n\nAgenda \nCall meeting to order Establish Quorum \n1. Public Health Update \n2. DES Update \n3. Sanitarian Report \n4. Regional TTX for Foodborne Illness and Food Related Injury \n5. Promulgation of Authorization \na. Communicable Disease Response Plan \nb. Pandemic Influenza Plan \n6. Board of Health Authority Discussion/Update \na. Interlocal Agreement \nb. Authorized Representatives of the Beaverhead County Health Officer (BCHO) Letter \nc. Members and Advisors List \n7. Public Comment \n\nDiscussion and/or Action Items \nA. Old Business ~ Approval of April 21\, 2023 Minutes \nB. Public Discussion/Comments on Subjects Under BOH Jurisdiction Not on Agenda \nC. New business \nD. Meeting Schedule ~ Next meeting tentatively Oct 19\, 2023 \nE. Adjourn the meeting
URL:https://beaverheadcountymt.gov/event/beaverhead-county-city-board-of-health-meeting-7/
LOCATION:Lima Community Hall\, 5 West Section Corner St\, Lima\, 59739\, United States
CATEGORIES:Meeting
END:VEVENT
END:VCALENDAR