BEGIN:VCALENDAR
VERSION:2.0
PRODID:-//Beaverhead County - ECPv6.15.20//NONSGML v1.0//EN
CALSCALE:GREGORIAN
METHOD:PUBLISH
X-WR-CALNAME:Beaverhead County
X-ORIGINAL-URL:https://beaverheadcountymt.gov
X-WR-CALDESC:Events for Beaverhead County
REFRESH-INTERVAL;VALUE=DURATION:PT1H
X-Robots-Tag:noindex
X-PUBLISHED-TTL:PT1H
BEGIN:VTIMEZONE
TZID:America/Denver
BEGIN:DAYLIGHT
TZOFFSETFROM:-0700
TZOFFSETTO:-0600
TZNAME:MDT
DTSTART:20240310T090000
END:DAYLIGHT
BEGIN:STANDARD
TZOFFSETFROM:-0600
TZOFFSETTO:-0700
TZNAME:MST
DTSTART:20241103T080000
END:STANDARD
BEGIN:DAYLIGHT
TZOFFSETFROM:-0700
TZOFFSETTO:-0600
TZNAME:MDT
DTSTART:20250309T090000
END:DAYLIGHT
BEGIN:STANDARD
TZOFFSETFROM:-0600
TZOFFSETTO:-0700
TZNAME:MST
DTSTART:20251102T080000
END:STANDARD
BEGIN:DAYLIGHT
TZOFFSETFROM:-0700
TZOFFSETTO:-0600
TZNAME:MDT
DTSTART:20260308T090000
END:DAYLIGHT
BEGIN:STANDARD
TZOFFSETFROM:-0600
TZOFFSETTO:-0700
TZNAME:MST
DTSTART:20261101T080000
END:STANDARD
END:VTIMEZONE
BEGIN:VEVENT
DTSTART;TZID=America/Denver:20250404T110000
DTEND;TZID=America/Denver:20250404T120000
DTSTAMP:20260419T073029
CREATED:20250402T153729Z
LAST-MODIFIED:20250402T153729Z
UID:16534-1743764400-1743768000@beaverheadcountymt.gov
SUMMARY:Beaverhead County Study Commission Meeting
DESCRIPTION:Agenda\n*all times are approximate*\n\n\n11:00 a.m.\n\nCall Meeting to Order\nRoll Call- Establish quorum\nDiscussion and Action- Review and Finalize Public Survey\nDiscussion- Presentation for the Public Hearings\nDiscussion- Refreshments for the Public Hearings\nPublic Comments and Any Items Not Listed on the Agenda\n\n\n12:00 p.m. \nAdjourn Meeting
URL:https://beaverheadcountymt.gov/event/beaverhead-county-study-commission-meeting-5/
LOCATION:Commissioners’ Meeting Room\, 2 S. Pacific St\, Dillon\, MT\, 59725\, United States
CATEGORIES:Meeting
ORGANIZER;CN="Dana Basile":MAILTO:dbasile@beaverheadcountymt.gov
END:VEVENT
BEGIN:VEVENT
DTSTART;TZID=America/Denver:20250407T090000
DTEND;TZID=America/Denver:20250407T170000
DTSTAMP:20260419T073029
CREATED:20250403T163853Z
LAST-MODIFIED:20250403T163937Z
UID:16536-1744016400-1744045200@beaverheadcountymt.gov
SUMMARY:Beaverhead County Commissioners' Meeting
DESCRIPTION:Meetings will be livestreamed on YouTube live @BeaverheadcountyCommissioner \nAgenda \n\n9:00 A.M.\nPledge of Allegiance\nUpdate on County Projects\nPublic Comment\nCommissioners Report\nPublic Comment \n\n9:30 A.M.\nLEPC Meeting\nPublic Comment \n\n12:00 P.M.\nRecess for lunch \n\n1:30 P.M.\nLegislative Update\nPublic Comment \n\n2:00 P.M.\nDiscussion- Axes Canyon Petition\nPublic Comment \n\n4:00 P.M.\nUnfinished Business / Other Topics of Discussion\nPublic Comment\nPublic Comments Under County Jurisdiction Not on Agenda\nPublic Comment\nPayment of Invoices\nPublic Comment\nAction on Previous Meeting Minutes\nPublic Comment \n\n5:00 P.M.\nAdjourn
URL:https://beaverheadcountymt.gov/event/beaverhead-county-commissioners-meeting-222/
LOCATION:Commissioners’ Meeting Room\, 2 S. Pacific St\, Dillon\, MT\, 59725\, United States
CATEGORIES:Meeting
ORGANIZER;CN="Dana Basile":MAILTO:dbasile@beaverheadcountymt.gov
END:VEVENT
BEGIN:VEVENT
DTSTART;TZID=America/Denver:20250408T160000
DTEND;TZID=America/Denver:20250408T170000
DTSTAMP:20260419T073029
CREATED:20250122T150512Z
LAST-MODIFIED:20250122T150512Z
UID:16147-1744128000-1744131600@beaverheadcountymt.gov
SUMMARY:Beaverhead County Resource Use Plan Update Meeting
DESCRIPTION:Discussion Topics: \nMitigation/ Habitat Improvement; Transportation; New Topics of Discussion Not Previously Mentioned
URL:https://beaverheadcountymt.gov/event/beaverhead-county-resource-use-plan-update-meeting-6/
LOCATION:Commissioners’ Meeting Room\, 2 S. Pacific St\, Dillon\, MT\, 59725\, United States
CATEGORIES:Meeting
END:VEVENT
BEGIN:VEVENT
DTSTART;TZID=America/Denver:20250410T120000
DTEND;TZID=America/Denver:20250410T140000
DTSTAMP:20260419T073029
CREATED:20250407T222110Z
LAST-MODIFIED:20250407T222312Z
UID:16565-1744286400-1744293600@beaverheadcountymt.gov
SUMMARY:Beaverhead County Mental Health Local Advisory Counsel
DESCRIPTION:Agenda \n\n\nIntroductions – Establish Quorum\nApproval of Minutes – March 13\, 2025\, meeting\nAction Items:\n\nProvider Social\n\n\nUpdate:\n\nLocal updates\nPublic Health Update (Crisis Diversion)\n\n\nNew Business:\n\nVibrant Lives Grief Group\n\n\nAdjourn\n\nThe next meeting will be held on Thursday\, May 8\, 2025
URL:https://beaverheadcountymt.gov/event/beaverhead-county-mental-health-local-advisory-counsel/
LOCATION:Tom Welch Room\, 102 N Washington St\, Dillon\, MT\, 59725\, United States
CATEGORIES:Meeting
ORGANIZER;CN="Dana Basile":MAILTO:dbasile@beaverheadcountymt.gov
END:VEVENT
BEGIN:VEVENT
DTSTART;TZID=America/Denver:20250411T090000
DTEND;TZID=America/Denver:20250411T110000
DTSTAMP:20260419T073029
CREATED:20250409T161745Z
LAST-MODIFIED:20250409T161745Z
UID:16569-1744362000-1744369200@beaverheadcountymt.gov
SUMMARY:Beaverhead County/City Board of Health Meeting
DESCRIPTION:Agenda\n(Breakfast AT 8 30 A.M.) \n\n9:00a.m.\nCall meeting to order Establish Quorum \n\nReorganization of Board\nBeaverhead County Tobacco Prevention Be The Change 406 Coalition Update\nPublic Health Update\nDES Update\nSanitarian Report\nPublic Comment\n\nDiscussion and/or Action Items \n\nOld Business Approval of January 17\, 2025 Minutes\nReview COOP Plan\nPublic Discussion/Comments on Subjects Under BOH Jurisdiction Not on Agenda\nNew Business\nMeeting Schedule~ Next meeting tentatively July 18\, 2025\nAdjourn the Meeting
URL:https://beaverheadcountymt.gov/event/beaverhead-county-city-board-of-health-meeting-14/
LOCATION:Barrett Hospital Board Room\, 600 MT Hwy 91 S\, Dillon\, MT\, 59725\, United States
CATEGORIES:Meeting
ORGANIZER;CN="Dana Basile":MAILTO:dbasile@beaverheadcountymt.gov
END:VEVENT
BEGIN:VEVENT
DTSTART;TZID=America/Denver:20250414T090000
DTEND;TZID=America/Denver:20250414T170000
DTSTAMP:20260419T073029
CREATED:20250410T162238Z
LAST-MODIFIED:20250410T162350Z
UID:16578-1744621200-1744650000@beaverheadcountymt.gov
SUMMARY:Beaverhead County Commissioners' Meeting
DESCRIPTION:Meetings will be livestreamed on YouTube live @BeaverheadcountyCommissioner \nAgenda \n\n9:00 A.M.\nPledge of Allegiance\nUpdate on County Projects\nPublic Comment\nCommissioners Report\nPublic Comment \n\n9:30 A.M.\nDiscussion and Action- Appointment of 2025 Counting Judges\nPublic Comment \n\n10:00 A.M.\nDiscussion and Action- Deputy Union Adding Dispatch\nPublic Comment \n\n11:00 A.M.\nDrought Task Force Meeting\nPublic Comment \n\n12:00 P.M.\nRecess for lunch \n\n1:30 P.M.\nSafety Team Meeting\nPublic Comment \n\n2:30 P.M.\nChamber Update/ City Update\nPublic Comment \n\n3:00 P.M.\nUnfinished Business / Other Topics of Discussion\nPublic Comment\nPublic Comments Under County Jurisdiction Not on Agenda\nPublic Comment\nPayment of Invoices\nPublic Comment\nAction on Previous Meeting Minutes\nPublic Comment \n\n5:00 P.M.\nAdjourn
URL:https://beaverheadcountymt.gov/event/beaverhead-county-commissioners-meeting-223/
LOCATION:Commissioners’ Meeting Room\, 2 S. Pacific St\, Dillon\, MT\, 59725\, United States
CATEGORIES:Meeting
ORGANIZER;CN="Dana Basile":MAILTO:dbasile@beaverheadcountymt.gov
END:VEVENT
BEGIN:VEVENT
DTSTART;TZID=America/Denver:20250415T173000
DTEND;TZID=America/Denver:20250415T183000
DTSTAMP:20260419T073029
CREATED:20250411T203010Z
LAST-MODIFIED:20250411T203049Z
UID:16601-1744738200-1744741800@beaverheadcountymt.gov
SUMMARY:Beaverhead County Airport Board Meeting
DESCRIPTION:Meeting Agenda \n\nEstablish a quorum\nAction on the previous meeting minutes – February 20\, 2025 meeting.\nFBO Transfer Discussion\nBoard Action- Approval of FBO Contract\nUpdate on Donations for Runway Project\nPublic Comment or New Business Not on Agenda\nAdjourn Meeting
URL:https://beaverheadcountymt.gov/event/beaverhead-county-airport-board-meeting-4/
LOCATION:Airport FBO\, 2400 Airport Rd\, Dillon\, MT\, 59725\, United States
CATEGORIES:Meeting
ORGANIZER;CN="Dana Basile":MAILTO:dbasile@beaverheadcountymt.gov
END:VEVENT
BEGIN:VEVENT
DTSTART;TZID=America/Denver:20250416T120000
DTEND;TZID=America/Denver:20250416T130000
DTSTAMP:20260419T073029
CREATED:20250415T140151Z
LAST-MODIFIED:20250415T140151Z
UID:16605-1744804800-1744808400@beaverheadcountymt.gov
SUMMARY:Beaverhead County DUI Task Force Meeting
DESCRIPTION:Agenda Topics \n\nWelcome/Introductions/scribe – Pledge of Allegiance\nApprove of February 13\, 2025\, meeting minutes\nBudget Report Update\nSober Rides Incentive Plan Proposal from Natalie\n2025 Beaverhead County DUI Task Report\, 2026 plan\, and budget\nBudget Outline Review and Decisions\nLaw enforcement compliance checks numbers for report\nElection of Officers in April\nOther: Suggestions/Comments\nAdjourn \n\nMark your calendars – next meeting June 11\, 2025
URL:https://beaverheadcountymt.gov/event/beaverhead-county-dui-task-force-meeting-12/
LOCATION:Commissioners’ Meeting Room\, 2 S. Pacific St\, Dillon\, MT\, 59725\, United States
CATEGORIES:Meeting
ORGANIZER;CN="Dana Basile":MAILTO:dbasile@beaverheadcountymt.gov
END:VEVENT
BEGIN:VEVENT
DTSTART;TZID=America/Denver:20250417T180000
DTEND;TZID=America/Denver:20250417T190000
DTSTAMP:20260419T073029
CREATED:20250411T202651Z
LAST-MODIFIED:20250411T202734Z
UID:16599-1744912800-1744916400@beaverheadcountymt.gov
SUMMARY:Beaverhead Conservation District Meeting
DESCRIPTION:The meeting will be in-person\, but we can open a conference call line if anyone is interested\, please let us know by noon the day of the meeting\, if you would like to call into the meeting. If you would like to submit written comment\, please do so by noon the day of the meeting to BeaverheadCD@gmail.com or in person at 420 Barrett St. \nCall meeting to order\nApproval of March 20\, 2025 minutes\nFinancial report\nPartner Reports: NRCS\, SMSP\, Extension\, Range Committee\nEducation and Outreach Report\nOld 310 business\nNew 310 Business\nBCD 2401 Diamond O Ranch\, Beaverhead River\, Stream Restoration\nBCD 2532 Travis Welborn\, Rattlesnake Creek\, Culvert and Bridge\nBCD 2533 Hansen Livestock Co.\, Medicine Lodge Creek\, Replace headgate\nBCD 2534 Draggin Y Cattle Company\, Branch of Horse Prairie Creek\, Replace headgate\nAdministrator’s Report\nAdmin Grant Review\nBeaverhead Watershed Committee Grant Reports\nOld Business\nNew Business\nDNRC report- Catey Bauer\nUpcoming Events\nNext meeting date – May 15th 6 pm\nPublic Comment\nAdjournment \n**Please note the deadline for 310 permits is the 2nd Thursday of the month. Permits will be reviewed at the meeting on the third Thursday. Any work in streams or on streambanks requires a 310 permit per Montana Law. This includes emergency work for flood control\, CLEANING OUT HEADGATES THAT ARE FED BY STREAMS\, etc. If you have questions\, please call 683-3802.
URL:https://beaverheadcountymt.gov/event/beaverhead-conservation-district-meeting-17/
LOCATION:NRCS\, 420 Barrett St\, Dillon\, MT\, 59725\, United States
CATEGORIES:Meeting
ORGANIZER;CN="Jessica Fields":MAILTO:beaverheadcd@gmail.com
END:VEVENT
BEGIN:VEVENT
DTSTART;TZID=America/Denver:20250421T090000
DTEND;TZID=America/Denver:20250421T170000
DTSTAMP:20260419T073029
CREATED:20250418T135818Z
LAST-MODIFIED:20250418T140218Z
UID:16610-1745226000-1745254800@beaverheadcountymt.gov
SUMMARY:Beaverhead County Commissioners' Meeting
DESCRIPTION:Meetings will be livestreamed on YouTube live @BeaverheadcountyCommissioner \nAgenda \n\n9:00 A.M.\nPledge of Allegiance\nUpdate on County Projects\nPublic Comment\nCommissioners Report\nPublic Comment \n\n9:30 A.M.\nDiscussion and Action- Service Provider Designation Form\nPublic Comment \n\n11:00 A.M.\n911 Committee Meeting\nPublic Comment \n\n12:00 P.M.\nRecess for lunch \n\n1:30 P.M\nLegislative Update\nPublic Comment \n\n3:00 P.M.\nSolid Waste Meeting\nPublic Comment \n\n4:00 P.M.\nUnfinished Business / Other Topics of Discussion\nPublic Comment\nPublic Comments Under County Jurisdiction Not on Agenda\nPublic Comment\nPayment of Invoices\nPublic Comment\nAction on Previous Meeting Minutes\nPublic Comment \n\n5:00 P.M.\nAdjourn
URL:https://beaverheadcountymt.gov/event/16610/
LOCATION:Commissioners’ Meeting Room\, 2 S. Pacific St\, Dillon\, MT\, 59725\, United States
CATEGORIES:Meeting
ORGANIZER;CN="Dana Basile":MAILTO:dbasile@beaverheadcountymt.gov
END:VEVENT
BEGIN:VEVENT
DTSTART;TZID=America/Denver:20250422T160000
DTEND;TZID=America/Denver:20250422T170000
DTSTAMP:20260419T073029
CREATED:20250122T150615Z
LAST-MODIFIED:20250122T150615Z
UID:16149-1745337600-1745341200@beaverheadcountymt.gov
SUMMARY:Beaverhead County Resource Use Plan Update Meeting
DESCRIPTION:Discussion Topics: \nNew Topics of Discussion Not Previously Mentioned; Finalize Plan
URL:https://beaverheadcountymt.gov/event/beaverhead-county-resource-use-plan-update-meeting-7/
LOCATION:Commissioners’ Meeting Room\, 2 S. Pacific St\, Dillon\, MT\, 59725\, United States
CATEGORIES:Meeting
END:VEVENT
BEGIN:VEVENT
DTSTART;TZID=America/Denver:20250423T171500
DTEND;TZID=America/Denver:20250423T190000
DTSTAMP:20260419T073029
CREATED:20250422T135555Z
LAST-MODIFIED:20250422T140139Z
UID:16625-1745428500-1745434800@beaverheadcountymt.gov
SUMMARY:Beaverhead County Study Commission Dillon Public Meeting
DESCRIPTION:Public Meeting to provide comment to the Study Commission for Local Government Review. \nFrequently Asked Questions*\n\nWhat is the Local Government Review election?\nA. Established as part of the 1972 Constitution\, the Local Government Review election is to be held by\neach city and county government every 10 years. If your city or county government has held a Local\nGovernment Review election any time after the 2024 general election until now\, you should consult\nwith your county attorney regarding your responsibility.\nWhere can I find the laws on the Local Government Review election?\nA. The applicable laws\, 7-3-171 through 7-3-193\, MCA\, are found here.\nDoes the Local Government Review election apply only to city governments?\nA. No\, local government have been defined to include both city and county governments.\nIs it a requirement that the governing body call for a local government review?\nA. Yes. As required under 7-3-173(2)\, MCA\, “The governing body shall call for an election on the question\nof conducting a local government review and establishing a study commission\, as required by Article XI\,\nsection 9(2)\, of the Montana constitution\, within 1 year after the 10-year period referred to in\nsubsection (1)(c).”\n\n*From https://sosmt.gov/wpfd_file/2024-local-government-review-information/
URL:https://beaverheadcountymt.gov/event/beaverhead-county-study-commission-dillon-public-meeting/
LOCATION:Commissioners’ Meeting Room\, 2 S. Pacific St\, Dillon\, MT\, 59725\, United States
CATEGORIES:Meeting
ORGANIZER;CN="Dana Basile":MAILTO:dbasile@beaverheadcountymt.gov
END:VEVENT
BEGIN:VEVENT
DTSTART;TZID=America/Denver:20250428T090000
DTEND;TZID=America/Denver:20250428T170000
DTSTAMP:20260419T073029
CREATED:20250424T213107Z
LAST-MODIFIED:20250424T213107Z
UID:16659-1745830800-1745859600@beaverheadcountymt.gov
SUMMARY:Beaverhead County Commissioners' Meeting
DESCRIPTION:Meetings will be livestreamed on YouTube live @BeaverheadcountyCommissioner \nAgenda \n\n9:00 A.M.\nPledge of Allegiance\nDepartment Head Meeting\nPublic Comment\nCommissioners Report\nPublic Comment \n\n12:00 P.M.\nRecess for lunch \n\n1:30 P.M\nLegislative Update\nPublic Comment \n\n3:00 P.M.\nUnfinished Business / Other Topics of Discussion\nPublic Comment\nPublic Comments Under County Jurisdiction Not on Agenda\nPublic Comment\nPayment of Invoices\nPublic Comment\nAction on Previous Meeting Minutes\nPublic Comment \n\n5:00 P.M.\nAdjourn
URL:https://beaverheadcountymt.gov/event/beaverhead-county-commissioners-meeting-224/
LOCATION:Commissioners’ Meeting Room\, 2 S. Pacific St\, Dillon\, MT\, 59725\, United States
CATEGORIES:Meeting
ORGANIZER;CN="Dana Basile":MAILTO:dbasile@beaverheadcountymt.gov
END:VEVENT
END:VCALENDAR