BEGIN:VCALENDAR
VERSION:2.0
PRODID:-//Beaverhead County - ECPv6.15.20//NONSGML v1.0//EN
CALSCALE:GREGORIAN
METHOD:PUBLISH
X-ORIGINAL-URL:https://beaverheadcountymt.gov
X-WR-CALDESC:Events for Beaverhead County
REFRESH-INTERVAL;VALUE=DURATION:PT1H
X-Robots-Tag:noindex
X-PUBLISHED-TTL:PT1H
BEGIN:VTIMEZONE
TZID:America/Denver
BEGIN:DAYLIGHT
TZOFFSETFROM:-0700
TZOFFSETTO:-0600
TZNAME:MDT
DTSTART:20240310T090000
END:DAYLIGHT
BEGIN:STANDARD
TZOFFSETFROM:-0600
TZOFFSETTO:-0700
TZNAME:MST
DTSTART:20241103T080000
END:STANDARD
BEGIN:DAYLIGHT
TZOFFSETFROM:-0700
TZOFFSETTO:-0600
TZNAME:MDT
DTSTART:20250309T090000
END:DAYLIGHT
BEGIN:STANDARD
TZOFFSETFROM:-0600
TZOFFSETTO:-0700
TZNAME:MST
DTSTART:20251102T080000
END:STANDARD
BEGIN:DAYLIGHT
TZOFFSETFROM:-0700
TZOFFSETTO:-0600
TZNAME:MDT
DTSTART:20260308T090000
END:DAYLIGHT
BEGIN:STANDARD
TZOFFSETFROM:-0600
TZOFFSETTO:-0700
TZNAME:MST
DTSTART:20261101T080000
END:STANDARD
END:VTIMEZONE
BEGIN:VEVENT
DTSTART;TZID=America/Denver:20250707T090000
DTEND;TZID=America/Denver:20250707T170000
DTSTAMP:20260422T164840
CREATED:20250702T222801Z
LAST-MODIFIED:20250702T222801Z
UID:17051-1751878800-1751907600@beaverheadcountymt.gov
SUMMARY:Beaverhead County Commissioners' Meeting
DESCRIPTION:Agenda \nMeetings will be livestreamed on YouTube live @BeaverheadcountyCommissioner \n\n9:00 A.M.\nPledge of Allegiance\nUpdate on County Projects\nPublic Comment\nCommissioners Report\nPublic Comment \n\n9:30 A.M.\nDiscussion- MDT Highway Safety Improvement Program via Teams\nPublic Comment \n\n10:30 A.M.\nChamber Update/ City Update\nPublic Comment \n\n12:00 P.M.\nRecess for lunch \n\n2:00 p.m.\nDiscussion and Action- Axes Canyon Road Petition Update\nPublic Comment \n\n2:30 P.M.\nNew Business / Other Topics of Discussion\nPublic Comment\nPublic Comments Under County Jurisdiction Not on Agenda\nPublic Comment\nPayment of Invoices\nPublic Comment\nAction on Previous Meeting Minutes\nPublic Comment \n\n5:00 P.M.\nAdjourn
URL:https://beaverheadcountymt.gov/event/beaverhead-county-commissioners-meeting-233/
LOCATION:Commissioners’ Meeting Room\, 2 S. Pacific St\, Dillon\, MT\, 59725\, United States
CATEGORIES:Meeting
ORGANIZER;CN="Dana Basile":MAILTO:dbasile@beaverheadcountymt.gov
END:VEVENT
BEGIN:VEVENT
DTSTART;TZID=America/Denver:20250710T120000
DTEND;TZID=America/Denver:20250710T130000
DTSTAMP:20260422T164840
CREATED:20250708T190547Z
LAST-MODIFIED:20250708T190547Z
UID:17107-1752148800-1752152400@beaverheadcountymt.gov
SUMMARY:Beaverhead County DUI Task Force Meeting
DESCRIPTION:Agenda Topics \n\nWelcome/Introductions/scribe – Pledge of Allegiance\nApprove of May 21\, 2025\, meeting minutes\nBar & Restaurant Incentive Program\nSober Rides Campaign\nChange meeting dates & times\nOther: Suggestions/Comments\nAdjourn\n\nMark your calendars – next meeting _____________
URL:https://beaverheadcountymt.gov/event/beaverhead-county-dui-task-force-meeting-14/
LOCATION:Commissioners’ Meeting Room\, 2 S. Pacific St\, Dillon\, MT\, 59725\, United States
CATEGORIES:Meeting
ORGANIZER;CN="Shannon Burkenpas":MAILTO:sburkenpas@beaverheadcountymt.gov
END:VEVENT
BEGIN:VEVENT
DTSTART;TZID=America/Denver:20250710T120000
DTEND;TZID=America/Denver:20250710T130000
DTSTAMP:20260422T164840
CREATED:20250708T190822Z
LAST-MODIFIED:20250708T190822Z
UID:17109-1752148800-1752152400@beaverheadcountymt.gov
SUMMARY:Beaverhead County Mental Health Local Advisory Counsel Meeting
DESCRIPTION:Agenda \n\nIntroductions – Establish Quorum\nApproval of Minutes – June 12\, 2025\, meeting\nACTION ITEMS \n\nNew member application\nBudget discussion\nDiscussion regarding a Donation for State of Mind\n\nUPDATES \n\nLocal updates\nPublic Health Update\nProvider List- Online Link\n\nNEW BUSINESS\nADJOURN
URL:https://beaverheadcountymt.gov/event/beaverhead-county-mental-health-local-advisory-counsel-meeting-3/
LOCATION:Tom Welch Room\, 102 N Washington St\, Dillon\, MT\, 59725\, United States
CATEGORIES:Meeting
ORGANIZER;CN="Dana Basile":MAILTO:dbasile@beaverheadcountymt.gov
END:VEVENT
BEGIN:VEVENT
DTSTART;TZID=America/Denver:20250710T130000
DTEND;TZID=America/Denver:20250710T150000
DTSTAMP:20260422T164840
CREATED:20250627T140903Z
LAST-MODIFIED:20250627T140903Z
UID:17020-1752152400-1752159600@beaverheadcountymt.gov
SUMMARY:Beaverhead County Planning Board Meeting
DESCRIPTION:Agenda\n**All times are approximate** \n\n1:00 P.M.\nMinutes and Reports\nIntroduction of New Planner\nMinutes of June 12\, 2025 meeting\nPlanning Board Member Reports\nPublic Comments & Questions \n\n1:30 P.M.\nDiscussion & Action- Resource Use Plan Update \n\n2:00 P.M.\nDiscussion- Legislative Update \n\n2:30 P.M.\nPublic Comments & Questions of Non-Agenda Items \n\n3:00 P.M.\nAdjourn
URL:https://beaverheadcountymt.gov/event/beaverhead-county-planning-board-meeting-32/
LOCATION:Commissioners’ Meeting Room\, 2 S. Pacific St\, Dillon\, MT\, 59725\, United States
CATEGORIES:Meeting
ORGANIZER;CN="Rochelle Hoerning":MAILTO:rhoerning@beaverheadcountymt.gov
END:VEVENT
BEGIN:VEVENT
DTSTART;TZID=America/Denver:20250711T090000
DTEND;TZID=America/Denver:20250711T100000
DTSTAMP:20260422T164840
CREATED:20250709T210543Z
LAST-MODIFIED:20250709T210543Z
UID:17115-1752224400-1752228000@beaverheadcountymt.gov
SUMMARY:Beaverhead County/City Board Of Health Meeting
DESCRIPTION:Agenda \n(Breakfast AT 8:30 A.M.) \n\nCall meeting to order ~ Establish Quorum \n\nNominations and Votes for Vice Chair Position\nBeaverhead County Tobacco Prevention & Be The Change 406 Coalition Update\nPublic Health Update\n\nLab Transport Plan\nMeasles Response Protocol\n\n\nDES Update\nSanitarian Report\nPublic Comment\n\nDiscussion and/or Action Items \n\nOld Business~ Approval of April 11\, 2025 Minutes\nPublic Discussion/Comments on Subjects Under BOH Jurisdiction Not on Agenda\nNew Business\nMeeting Schedule~ Next meeting tentatively October 17\, 2025\nAdjourn the Meeting
URL:https://beaverheadcountymt.gov/event/beaverhead-county-city-board-of-health-meeting-15/
LOCATION:Lima Community Hall\, 5 West Section Corner St\, Lima\, 59739\, United States
CATEGORIES:Meeting
ORGANIZER;CN="Dana Basile":MAILTO:dbasile@beaverheadcountymt.gov
END:VEVENT
BEGIN:VEVENT
DTSTART;TZID=America/Denver:20250714T090000
DTEND;TZID=America/Denver:20250714T170000
DTSTAMP:20260422T164840
CREATED:20250710T182805Z
LAST-MODIFIED:20250710T182805Z
UID:17118-1752483600-1752512400@beaverheadcountymt.gov
SUMMARY:Beaverhead County Commissioners' Meeting
DESCRIPTION:Agenda \nMeetings will be livestreamed on YouTube live @BeaverheadcountyCommissioner \n\n9:00 A.M.\nPledge of Allegiance\nUpdate on County Projects\nPublic Comment\nCommissioners Report\nPublic Comment \n\n9:30 A.M.\nDiscussion and Action- Appoint New Members to MHLAC and Board of Health\nPublic Comment \n\n10:30 A.M.\nDiscussion and Action- Speed Zone in Big Sheep Creek\nPublic Comment \n\n11:00 A.M\nDrought Task Force\nPublic Comment \n\n12:00 P.M.\nReces for lunch \n\n1:30 P.M.\nDiscussion and Action- Appoint Flood Plain Administrator\nPublic Comment \n\n1:45 P.M\nDiscussion and Action- Appoint Public Administrator\nPublic Comment \n\n2:30 P.M.\nNew Business / Other Topics of Discussion\nPublic Comment\nPublic Comments Under County Jurisdiction Not on Agenda\nPublic Comment\nPayment of Invoices\nPublic Comment\nAction on Previous Meeting Minutes\nPublic Comment \n\n5:00 P.M.\nAdjourn
URL:https://beaverheadcountymt.gov/event/beaverhead-county-commissioners-meeting-234/
LOCATION:Commissioners’ Meeting Room\, 2 S. Pacific St\, Dillon\, MT\, 59725\, United States
CATEGORIES:Meeting
ORGANIZER;CN="Dana Basile":MAILTO:dbasile@beaverheadcountymt.gov
END:VEVENT
BEGIN:VEVENT
DTSTART;TZID=America/Denver:20250717T180000
DTEND;TZID=America/Denver:20250717T190000
DTSTAMP:20260422T164840
CREATED:20250714T140147Z
LAST-MODIFIED:20250714T140403Z
UID:17127-1752775200-1752778800@beaverheadcountymt.gov
SUMMARY:Beaverhead Conservation District Meeting
DESCRIPTION:The meeting will be in-person\, but we can open a conference call line if anyone is interested\, please let us know by noon the day of the meeting\, if you would like to call into the meeting. If you would like to submit written comment\, please do so by noon the day of the meeting to BeaverheadCD@gmail.com or in person at 420 Barrett St.\n\n\n\nPublic Hearing: Permissive Mill Levy Health Insurance Benefits\nCall meeting to order\nApproval of June 19th\, 2025 minutes\nFinancial report\nPartner Reports: NRCS\, SMSP\, Extension\, Range Committee\nEducation and Outreach Report\nOld 310 business\nBCD 2418 Red Rock Springs Ranch\, Kidd Creek/Borrow Ditch\, Finish Inspection\nNew 310 Business\n• BCD 2541 Violation\, Boat Ramp\, Big Hole River\n• BCD 2542 Violation\, Irrigation Pipe buried in the road\, Alder Creek Administrator’s Report\n• BCD 2543 Southern Montana Telephone\, Lime Gulch\, Utilities Boring\n• BCD 2544 Southern Montana Telephone\, Farlin Gulch 1\, Utilities Boring\n• BCD 2545 Southern Montana Telephone\, Farlin Gulch 2\, Utilities Boring\n• BCD 2546 Southern Montana Telephone\, Birch Creek 1\, Utilities Boring\n• BCD 2547 Southern Montana Telephone\, Birch Creek 2\, Utilities Boring\n• BCD 2548 Southern Montana Telephone\, Meyers Gulch\, Utilities Boring\n• BCD 2549 Southern Montana Telephone\, Birch Creek 3\, Utilities Boring\n• BCD 2550 Joe Hartley Water Commissioner\, Rattlesnake Creek\, cleanout\nBeaverhead Watershed Committee Grant Reports\nOld Business\nNew Business\n• DNRC report- Catey Bauer\nUpcoming Events\n• Next meeting date – August 21st 6pm\nPublic Comment\nAdjournment\n\n**Please note the deadline for 310 permits is the 2nd Thursday of the month. Permits will be reviewed at the meeting on the third Thursday. Any work in streams or on streambanks requires a 310 permit per Montana Law. This includes emergency work for flood control\, CLEANING OUT HEADGATES THAT ARE FED BY STREAMS\, etc. If you have questions\, please call 683-3802.
URL:https://beaverheadcountymt.gov/event/beaverhead-conservation-district-meeting-20/
LOCATION:NRCS\, 420 Barrett St\, Dillon\, MT\, 59725\, United States
CATEGORIES:Meeting
ORGANIZER;CN="Jessica Fields":MAILTO:beaverheadcd@gmail.com
END:VEVENT
BEGIN:VEVENT
DTSTART;TZID=America/Denver:20250718T100000
DTEND;TZID=America/Denver:20250718T110000
DTSTAMP:20260422T164840
CREATED:20250715T193404Z
LAST-MODIFIED:20250716T161955Z
UID:17135-1752832800-1752836400@beaverheadcountymt.gov
SUMMARY:Beaverhead Ambulance Services Special District Meeting
DESCRIPTION:Agenda \n\nA. Call to Order\na. Review and approve minutes of April 18\, 2025\, meeting\nb. Review and approve Treasurer’s Report\nB. Announcements\nC. Old Business\na. Report on Beaverhead EMS regarding renewing the ambulance district and the process for receiving future tax revenues\nD. New Business\na. Certificates of Election by Acclamation for Mike Mooney and Sue Hansen\nb. Reorganization of the board\nc. Renewal of the Beaverhead Ambulance Services Special District process.\nd. Next meeting will be October 17\, 2025\, at 10:00 in the Beaverhead County courthouse.\nE. Public comment – Public comment on items of significant public interest not on the Agenda and within the jurisdiction of the Beaverhead Ambulance Services Special District Board.
URL:https://beaverheadcountymt.gov/event/beaverhead-ambulance-services-special-district-meeting-13/
LOCATION:Commissioners’ Meeting Room\, 2 S. Pacific St\, Dillon\, MT\, 59725\, United States
CATEGORIES:Meeting
END:VEVENT
BEGIN:VEVENT
DTSTART;TZID=America/Denver:20250721T090000
DTEND;TZID=America/Denver:20250721T170000
DTSTAMP:20260422T164840
CREATED:20250717T170737Z
LAST-MODIFIED:20250717T172845Z
UID:17137-1753088400-1753117200@beaverheadcountymt.gov
SUMMARY:Beaverhead County Commissioners' Meeting
DESCRIPTION:Agenda \nMeetings will be livestreamed on YouTube live @BeaverheadcountyCommissioner \n\n9:00 A.M.\nPledge of Allegiance\nUpdate on County Projects\nPublic Comment\nCommissioners Report\nPublic Comment \n\n9:30 A.M.\nDiscussion- Lima Town Council Planning Board\nPublic Comment \n\n10:00 A.M.\nDiscussion- C-PACE Headwaters with Kelly Sullivan\nPublic Comment \n\n11:00 A.M\n911 Committee Meeting\nPublic Comment \n\n12:00 P.M.\nRecess for lunch \n\n1:30 P.M\nDiscussion & Action- Axes Canyon Petition Update\nPublic Comment \n\n2:30 P.M.\nNew Business / Other Topics of Discussion\nPublic Comment\nPublic Comments Under County Jurisdiction Not on Agenda\nPublic Comment\nPayment of Invoices\nPublic Comment\nAction on Previous Meeting Minutes\nPublic Comment \n\n3:00 P.M.\nSolid Waste Board Meeting\nPublic Comment \n\n5:00 P.M.\nAdjourn
URL:https://beaverheadcountymt.gov/event/17137/
LOCATION:Commissioners’ Meeting Room\, 2 S. Pacific St\, Dillon\, MT\, 59725\, United States
CATEGORIES:Meeting
ORGANIZER;CN="Dana Basile":MAILTO:dbasile@beaverheadcountymt.gov
END:VEVENT
BEGIN:VEVENT
DTSTART;TZID=America/Denver:20250723T100000
DTEND;TZID=America/Denver:20250723T110000
DTSTAMP:20260422T164840
CREATED:20250718T221810Z
LAST-MODIFIED:20250718T221810Z
UID:17161-1753264800-1753268400@beaverheadcountymt.gov
SUMMARY:Beaverhead County Transportation Committee Meeting
DESCRIPTION:Agenda\n\n\nCall to Order\nRoll Call and Introduction of New Members and Guests Approval of July 17\, 2024 Meeting Minutes\nItems for Discussion\n\n\nA. MCA & ARM Laws regarding the County Transportation Committee\n1. Membership – MCA 20-10-131\n2. Duties-MCA 20-10-132\n3. Meeting Requirements-MCA 20-10-131(3) & ARM 10.7.101(2)(c)\n4. Reminders for submission of forms are attached – please share with District Clerk or Transportation Manager.\n\n\nB. Safety Concerns\n1.\n\n\nC. Road Maintenance\, which may affect transportation/bus routes for 2025-2026 \n1.\n\n\nItems for Action\n\n\nA. Approval/Disapproval of Bus Routes – maps and route changes/additions\n1. BCHS – Review 2025-2026 routes & agreements for Bus Route #1\ni. Agreement with Butte School District for Melrose Post Office Stop inside Butte’s Transportation Area\, if needed.\nii. Agreement with Melrose School District to allow Dillon Elementary students to ride BCHS bus\, if needed.\niii. Motion needed\n2. Reichle – Review 2025-2026 Route – Motion needed\n3. Lima-Review of 2025-2026 Routes 21-1\, 21-2\, 21-3\, 21-4\, – Motion needed\n\n\nB. Individual & Isolation Contracts – approval/disapproval/adjustments\n1. BCHS – – Motion needed\n2. Grant – – Motion needed\n3. Jackson- -Motion needed\n4. Lima – – Motion needed\n5. Polaris – – Motion needed\n6. Wisdom – – Motion needed\n7. Wise River – – Motion needed\n8. Additional Regular Individual Contracts during 2025-2026 school year – Motion needed\n\n\nItems for August Meeting\, if needed\n\n\nA. Set date and time\nPublic Comment Adjourn
URL:https://beaverheadcountymt.gov/event/beaverhead-county-transportation-committee-meeting-2/
LOCATION:Commissioners’ Meeting Room\, 2 S. Pacific St\, Dillon\, MT\, 59725\, United States
CATEGORIES:Meeting
ORGANIZER;CN="Rochelle Hoerning":MAILTO:rhoerning@beaverheadcountymt.gov
END:VEVENT
BEGIN:VEVENT
DTSTART;TZID=America/Denver:20250728T090000
DTEND;TZID=America/Denver:20250728T170000
DTSTAMP:20260422T164840
CREATED:20250724T172024Z
LAST-MODIFIED:20250724T200941Z
UID:17187-1753693200-1753722000@beaverheadcountymt.gov
SUMMARY:Beaverhead County Commissioners’ Meeting
DESCRIPTION:Agenda \nMeetings will be livestreamed on YouTube live @BeaverheadcountyCommissioner \n\n9:00 A.M.\nPledge of Allegiance\nDepartment Head Meeting\nPublic Comment\nCommissioners Report\nPublic Comment \n\n12:00 P.M.\nRecess for lunch \n\n2:00 P.M.\nDiscussion & Action- Beaverhead County response to Legislative Audit Division Records Request\nPublic Comment \n\n2:30 P.M.\nNew Business / Other Topics of Discussion\nPublic Comment\nPublic Comments Under County Jurisdiction Not on Agenda\nPublic Comment\nPayment of Invoices\nPublic Comment\nAction on Previous Meeting Minutes\nPublic Comment \n\n5:00 P.M.\nAdjourn
URL:https://beaverheadcountymt.gov/event/beaverhead-county-commissioners-meeting-235/
LOCATION:Commissioners’ Meeting Room\, 2 S. Pacific St\, Dillon\, MT\, 59725\, United States
CATEGORIES:Meeting
ORGANIZER;CN="Dana Basile":MAILTO:dbasile@beaverheadcountymt.gov
END:VEVENT
BEGIN:VEVENT
DTSTART;TZID=America/Denver:20250728T180000
DTEND;TZID=America/Denver:20250728T190000
DTSTAMP:20260422T164840
CREATED:20250724T171108Z
LAST-MODIFIED:20250724T171228Z
UID:17183-1753725600-1753729200@beaverheadcountymt.gov
SUMMARY:Beaverhead County Weed Board Meeting
DESCRIPTION:Agenda: \n\nPublic Comment: Items on the Agenda\nApproval of Minutes from June 3\, 2025 meeting\nFinancial Report\nNon-Compliance\nWeed Plan Review\nProposed Action: Approve\, Amend\, or Reject: Rush-Beaverhead Post Company Minor Subdivision Noxious Weed Management and Revegetation Plan\nProposed Action: Approve\, Amend\, or Reject: Dillon Town Lot Minor Subdivision Noxious Weed Management and Revegetation Plan\nProposed Action: Approve\, Amend\, or Reject: Brundage Garage Minor Subdivision Noxious Weed Management and Revegetation Plan\nProposed Action: Approve\, Amend\, or Reject: End of the Road Minor Subdivision Noxious Weed Management and Revegetation Plan\n2025 Project Awards\nReview bid packets and information from commercial applicators. Applicators that have bid on projects will have an opportunity to make a short presentation to the board.\nProposed action: Board to award Trail Creek/Trail Ridge Fire Project\, Alder Creek Fire Project\nCoordinator/Assistant Coordinator Report\nPublic Comment: Items not on the Agenda\nAdjourn
URL:https://beaverheadcountymt.gov/event/beaverhead-county-weed-board-meeting-26/
LOCATION:Tom Welch Room\, 102 N Washington St\, Dillon\, MT\, 59725\, United States
CATEGORIES:Meeting
ORGANIZER;CN="Amber Burch":MAILTO:aburch@beaverheadcountymt.gov
END:VEVENT
END:VCALENDAR