BEGIN:VCALENDAR
VERSION:2.0
PRODID:-//Beaverhead County - ECPv6.15.20//NONSGML v1.0//EN
CALSCALE:GREGORIAN
METHOD:PUBLISH
X-ORIGINAL-URL:https://beaverheadcountymt.gov
X-WR-CALDESC:Events for Beaverhead County
REFRESH-INTERVAL;VALUE=DURATION:PT1H
X-Robots-Tag:noindex
X-PUBLISHED-TTL:PT1H
BEGIN:VTIMEZONE
TZID:America/Denver
BEGIN:DAYLIGHT
TZOFFSETFROM:-0700
TZOFFSETTO:-0600
TZNAME:MDT
DTSTART:20240310T090000
END:DAYLIGHT
BEGIN:STANDARD
TZOFFSETFROM:-0600
TZOFFSETTO:-0700
TZNAME:MST
DTSTART:20241103T080000
END:STANDARD
BEGIN:DAYLIGHT
TZOFFSETFROM:-0700
TZOFFSETTO:-0600
TZNAME:MDT
DTSTART:20250309T090000
END:DAYLIGHT
BEGIN:STANDARD
TZOFFSETFROM:-0600
TZOFFSETTO:-0700
TZNAME:MST
DTSTART:20251102T080000
END:STANDARD
BEGIN:DAYLIGHT
TZOFFSETFROM:-0700
TZOFFSETTO:-0600
TZNAME:MDT
DTSTART:20260308T090000
END:DAYLIGHT
BEGIN:STANDARD
TZOFFSETFROM:-0600
TZOFFSETTO:-0700
TZNAME:MST
DTSTART:20261101T080000
END:STANDARD
END:VTIMEZONE
BEGIN:VEVENT
DTSTART;TZID=America/Denver:20250902T090000
DTEND;TZID=America/Denver:20250902T170000
DTSTAMP:20260422T133232
CREATED:20250828T151348Z
LAST-MODIFIED:20250828T151348Z
UID:17415-1756803600-1756832400@beaverheadcountymt.gov
SUMMARY:Beaverhead County Commissioners' Meeting
DESCRIPTION:Agenda \n\n9:00 A.M.\nUpdates on County Projects\nPublic Comment\nAction on Previous Meeting Minutes\nPublic Comment\nPublic Comments on Subjects Under County Jurisdiction Not on Agenda \n\nRecess Commission Meeting for Public Hearing \n\n9:30 A.M.\nPublic Hearing – Beaverhead County Preliminary Budget for Fiscal Year 2025-26\nPublic Comment\nAdjourn \n\nReconvene Commission Meeting \n\n10:00 A.M.\nChamber Update/ City Update\nPublic Comment \n\n11:00 A.M.\nDiscussion & Action- Preliminary Plat Approval Baldy View Minor Subdivision\nPublic Comment \n\n12:00P.M.\nRecess for Lunch \n\n1:30 P.M.\nReview & Action on School Budgets – County Superintendent of Schools Mike Miller\nPublic Comment \n\n2:00 P.M.\n*Action ~ Resolution 2025-17 – Setting Elected Officials’ Salaries\nPublic Comment\n*Action ~ Resolution 2025-18 – Reallocating a One Half of One Percent Vehicle Tax\nPublic Comment\n*Action ~ PILT Distribution Fiscal Year 2025-26\nPublic Comment\n*Action ~ Entitlement Share Distribution Fiscal Year 2025-26\nPublic Comment\n*Action ~ Resolution 2025-19 – Establishing and Increasing Fees for Solid Waste\nPublic Comment\n*Action ~ Resolution 2025-20 – Setting New Maximum Levy on County Voted Levies\nPublic Comment\n*Action ~ Resolution 2025-21 – Adopt Final Budget Fiscal Year 2025-26\nPublic Comment\n*Action ~ Resolution 2025-22 – Setting Mill Levies for Fiscal Year 2025-26\nPublic Comment \n\n3:00 P.M.\nPayment of Invoices/Unfinished Business/Other Topics of Discussion\nPublic Comment \n\n5:00 P.M.\nAdjourn
URL:https://beaverheadcountymt.gov/event/beaverhead-county-commissioners-meeting-240/
LOCATION:Commissioners’ Meeting Room\, 2 S. Pacific St\, Dillon\, MT\, 59725\, United States
CATEGORIES:Meeting
ORGANIZER;CN="Dana Basile":MAILTO:dbasile@beaverheadcountymt.gov
END:VEVENT
BEGIN:VEVENT
DTSTART;TZID=America/Denver:20250904T150000
DTEND;TZID=America/Denver:20250904T160000
DTSTAMP:20260422T133232
CREATED:20250831T153023Z
LAST-MODIFIED:20250831T153023Z
UID:17449-1756998000-1757001600@beaverheadcountymt.gov
SUMMARY:Beaverhead County Study Commission Meeting
DESCRIPTION:Agenda\n*All Times Are Approximate* \n\n3:00pm\nCall Meeting to Order\nRoll Call- Establish quorum\nAction- Approval of Previous Meeting Minutes\nDiscussion & Action- Interviews with County Commissioners and Dept Heads\nDiscussion- Review of Survey\nDiscussion- Public Meetings and Fair Booth\nPublic Comments and Any Items Not Listed on the Agenda \n\n4:00pm\nAdjourn Meeting
URL:https://beaverheadcountymt.gov/event/beaverhead-county-study-commission-meeting-8/
LOCATION:Commissioners’ Meeting Room\, 2 S. Pacific St\, Dillon\, MT\, 59725\, United States
CATEGORIES:Meeting
END:VEVENT
BEGIN:VEVENT
DTSTART;TZID=America/Denver:20250908T090000
DTEND;TZID=America/Denver:20250908T170000
DTSTAMP:20260422T133232
CREATED:20250904T160924Z
LAST-MODIFIED:20250904T160924Z
UID:17494-1757322000-1757350800@beaverheadcountymt.gov
SUMMARY:Beaverhead County Commissioners’ Meeting
DESCRIPTION:Agenda \n\n9:00 A.M.\nPledge of Allegiance\nUpdate on County Projects\nPublic Comment\nCommissioners Report\nPublic Comment \n\n10:00 A.M.\nDiscussion & Action- Rick Hartz Requesting Letter of Support for Action\, Inc.\nPublic Comment \n\n11:00 A.M.\nDrought Task Force\nPublic Comment \n\n12:00 P.M.\nRecess for lunch \n\n1:30 P.M.\nNew Business / Other Topics of Discussion\nPublic Comment\nPublic Comments Under County Jurisdiction Not on Agenda\nPublic Comment\nPayment of Invoices\nPublic Comment\nAction on Previous Meeting Minutes\nPublic Comment \n\n5:00 P.M.\nAdjourn
URL:https://beaverheadcountymt.gov/event/beaverhead-county-commissioners-meeting-241/
LOCATION:Commissioners’ Meeting Room\, 2 S. Pacific St\, Dillon\, MT\, 59725\, United States
CATEGORIES:Meeting
ORGANIZER;CN="Dana Basile":MAILTO:dbasile@beaverheadcountymt.gov
END:VEVENT
BEGIN:VEVENT
DTSTART;TZID=America/Denver:20250908T190000
DTEND;TZID=America/Denver:20250908T200000
DTSTAMP:20260422T133232
CREATED:20250905T191421Z
LAST-MODIFIED:20250905T191421Z
UID:17502-1757358000-1757361600@beaverheadcountymt.gov
SUMMARY:Beaverhead County Fair Board Meeting
DESCRIPTION:Agenda \n\nCall To Order\nAmendments or Changes to Agenda\nIntroduction of Guests\nApproval of Previous Minutes\nTreasurer’s Report\nFacility Director’s After Fair Report\nEx. Director’s After Fair Report\nBoard Member After Fair Reports\nOld Business\nA. Electrical Project\nB. Mid-Way Paving\nC. Bathroom Project\nNew Business\nA. Fall Maintenance\nCorrespondence\nAdjournment
URL:https://beaverheadcountymt.gov/event/beaverhead-county-fair-board-meeting-19/
LOCATION:Fairgrounds – Fair Office\, 795 S Railroad St\, Dillon\, MT\, 59725\, United States
CATEGORIES:Meeting
ORGANIZER;CN="Keeley Fitzgerald":MAILTO:keeleyfitz@hotmail.com
END:VEVENT
BEGIN:VEVENT
DTSTART;TZID=America/Denver:20250911T120000
DTEND;TZID=America/Denver:20250911T140000
DTSTAMP:20260422T133232
CREATED:20250908T183907Z
LAST-MODIFIED:20250908T183907Z
UID:17504-1757592000-1757599200@beaverheadcountymt.gov
SUMMARY:Beaverhead County Mental Health Local Advisory Counsel Meeting
DESCRIPTION:Agenda \n\nIntroductions – Establish Quorum\nApproval of Minutes – August 14\, 2025\, meeting\nAction Items:\n1. Discuss And Action- Time Limits On Presentations\n2. Presentation on Hope Squad Seeking Funding\n3. Beaverhead Tobacco Prevention Student Presentation\nUpdates\n1. Local updates\n2. Public Health Update\nNew Business\nAdjourn
URL:https://beaverheadcountymt.gov/event/beaverhead-county-mental-health-local-advisory-counsel-meeting-5/
LOCATION:Barrett Hospital Board Room\, 600 MT Hwy 91 S\, Dillon\, MT\, 59725\, United States
CATEGORIES:Meeting
ORGANIZER;CN="Dana Basile":MAILTO:dbasile@beaverheadcountymt.gov
END:VEVENT
BEGIN:VEVENT
DTSTART;TZID=America/Denver:20250911T130000
DTEND;TZID=America/Denver:20250911T150000
DTSTAMP:20260422T133232
CREATED:20250831T152531Z
LAST-MODIFIED:20250831T152531Z
UID:17447-1757595600-1757602800@beaverheadcountymt.gov
SUMMARY:Beaverhead County Planning Board Meeting
DESCRIPTION:Agenda\n**All times are approximate** \n\n1:00 P.M.\nMinutes and Reports\n• Minutes of August 21\, 2025 meeting\n• Planning Board Member Reports\n• Planner’s Report\n• Public Comments & Questions \n\n1:30 P.M.\nDiscussion- Fire Chief\, BJ Klose (Fire District #2) Subdivision Regulations Fire Protection \n\n2:00 P.M.\nDiscussion- Subdivision Regulations Amendments & Forming a Sub-Committee \n\n2:30 P.M.\nPublic Comments & Questions of Non-Agenda Items \n\n3:00 P.M.\nAdjourn
URL:https://beaverheadcountymt.gov/event/beaverhead-county-planning-board-meeting-34/
LOCATION:Courthouse Break Room\, 2 S. Pacific St\, Dillon\, MT\, 59725\, United States
CATEGORIES:Meeting
ORGANIZER;CN="Rochelle Hoerning":MAILTO:rhoerning@beaverheadcountymt.gov
END:VEVENT
BEGIN:VEVENT
DTSTART;TZID=America/Denver:20250915T090000
DTEND;TZID=America/Denver:20250915T160000
DTSTAMP:20260422T133232
CREATED:20250911T220843Z
LAST-MODIFIED:20250911T220843Z
UID:17506-1757926800-1757952000@beaverheadcountymt.gov
SUMMARY:Beaverhead County Commissioners’ Meeting
DESCRIPTION:Agenda \n\n9:00 A.M.\nPledge of Allegiance\nUpdate on County Projects\nPublic Comment\nCommissioners Report\nPublic Comment \n\n9:30 A.M.\nNew Business / Other Topics of Discussion\nPublic Comment\nPayment of Invoices\nPublic Comment\nAction on Previous Meeting Minutes\nPublic Comment \n\n12:00 P.M.\nRecess for lunch \n\n1:30 P.M.\nPublic Comments Under County Jurisdiction Not on Agenda\nPublic Comment \n\n4:00 P.M.\nAdjourn
URL:https://beaverheadcountymt.gov/event/beaverhead-county-commissioners-meeting-242/
LOCATION:Commissioners’ Meeting Room\, 2 S. Pacific St\, Dillon\, MT\, 59725\, United States
CATEGORIES:Meeting
ORGANIZER;CN="Dana Basile":MAILTO:dbasile@beaverheadcountymt.gov
END:VEVENT
BEGIN:VEVENT
DTSTART;TZID=America/Denver:20250916T170000
DTEND;TZID=America/Denver:20250916T180000
DTSTAMP:20260422T133232
CREATED:20250915T143814Z
LAST-MODIFIED:20250915T143814Z
UID:17519-1758042000-1758045600@beaverheadcountymt.gov
SUMMARY:Beaverhead Fire District 2 Meeting
DESCRIPTION:Agenda \n\nCall to order\nApproval of Minutes from 8-19-2025 meeting\nPublic Comment\nApproval of Warrants\nPublic Comment\nOld Business\nPublic Comment\nNew Business\nPublic Comment\nChiefs Report\nPublic Comment\nPublic comment on subjects under the jurisdiction of Beaverhead Fire District #2 that is not on the agenda.\nAdjournment
URL:https://beaverheadcountymt.gov/event/beaverhead-fire-district-2-meeting/
LOCATION:Dillon Fire Hall\, 405 N Idaho St\, Dillon\, MT\, 59725\, United States
CATEGORIES:Meeting
END:VEVENT
BEGIN:VEVENT
DTSTART;TZID=America/Denver:20250918T180000
DTEND;TZID=America/Denver:20250918T190000
DTSTAMP:20260422T133232
CREATED:20250912T164646Z
LAST-MODIFIED:20250912T164646Z
UID:17511-1758218400-1758222000@beaverheadcountymt.gov
SUMMARY:Beaverhead Conservation District Meeting
DESCRIPTION:Agenda\nThe meeting will be in-person\, but we can open a conference call line if anyone is interested\, please let us know by noon the day of the meeting\, if you would like to call into the meeting. If you would like to submit written comment\, please do so by noon the day of the meeting to BeaverheadCD@gmail.com or in person at 420 Barrett St. \n\nPublic Hearing: Permissive Mill Levy Health Insurance Benefits\nCall meeting to order\nApproval of August 21st\, 2025 minutes\nFinancial report\nPartner Reports: NRCS\, SMSP\, Extension\, Range Committee\nEducation and Outreach Report\nOld 310 business\nBCD 2541 Violation\, Boat Ramp\, Big Hole River\nBCD 2542 Violation\, Irrigation Pipe buried in the road\, Alder Creek\nNew 310 Business\nBCD 2554 Big Hole Watershed Committee\, Smart Creek\, Stream Restoration\nBCD 2555 Tim Montana\, Smart Creek\, Road construction and camping sites\nBCD 2556 Greg and Donna Scharf\, Big Hole River\, Dead Tree Removal\, not our project\nBCD 2557 Double C Ranch Holdings\, Winslow Creek\, Headgate\nBCD 2558 Tyler Barrus\, Beaverhead River/Browns Ditch\, Replace Headwall and Culvert\nBCD 2559 Tyler Barrus\, Rattlesnake Creek\, Willow Removal\nBCD 2560 Tyler Barrus\, Rattlesnake Creek\, Willow Removal\nBCD 2561 Tyler Barrus\, Rattlesnake Creek\, Willow Removal\nAdministrator’s Report\nBeaverhead Watershed Committee Grant Reports\nOld Business\nNew Business\nDNRC report- Catey Bauer\nUpcoming Events\nNext meeting date – October 16th 6pm\nPublic Comment\nAdjournment \n**Please note the deadline for 310 permits is the 2nd Thursday of the month. Permits will be reviewed at the meeting on the third Thursday. Any work in streams or on streambanks requires a 310 permit per Montana Law on both private land and public land. This includes emergency work for flood control\, CLEANING OUT HEADGATES THAT ARE FED BY STREAMS\, etc. If you have questions\, please call 683-3802.
URL:https://beaverheadcountymt.gov/event/beaverhead-conservation-district-meeting-22/
LOCATION:NRCS\, 420 Barrett St\, Dillon\, MT\, 59725\, United States
CATEGORIES:Meeting
ORGANIZER;CN="Jessica Fields":MAILTO:beaverheadcd@gmail.com
END:VEVENT
BEGIN:VEVENT
DTSTART;TZID=America/Denver:20250922T090000
DTEND;TZID=America/Denver:20250922T170000
DTSTAMP:20260422T133232
CREATED:20250918T141349Z
LAST-MODIFIED:20250918T141609Z
UID:17528-1758531600-1758560400@beaverheadcountymt.gov
SUMMARY:Beaverhead County Commissioners' Meeting Agenda
DESCRIPTION:Beaverhead County Commissioners will not meet Monday\, September 22\, 2025 while attending the 2025 MACo Annual Conference in Great Falls. \nThe next Commissioner Meeting will be held Monday\, September 29\, 2025 in the Commissioners’ Room of the Beaverhead County Courthouse. \nMeetings are livestreamed at YouTube live @BeaverheadcountyCommissioner.
URL:https://beaverheadcountymt.gov/event/beaverhead-county-commissioners-meeting-agenda/
LOCATION:Commissioners’ Meeting Room\, 2 S. Pacific St\, Dillon\, MT\, 59725\, United States
CATEGORIES:Meeting
ORGANIZER;CN="Dana Basile":MAILTO:dbasile@beaverheadcountymt.gov
END:VEVENT
BEGIN:VEVENT
DTSTART;TZID=America/Denver:20250929T090000
DTEND;TZID=America/Denver:20250929T160000
DTSTAMP:20260422T133232
CREATED:20250929T142332Z
LAST-MODIFIED:20250929T142332Z
UID:17545-1759136400-1759161600@beaverheadcountymt.gov
SUMMARY:Beaverhead County Commissioners’ Meeting
DESCRIPTION:Agenda \nMeetings will be livestreamed on YouTube live @BeaverheadcountyCommissioner \n\n9:00 A.M.\nPledge of Allegiance\nUpdate on County Projects\nPublic Comment\nCommissioners Report\nPublic Comment \n\n9:30 A.M.\nDiscussion & Action- Possible Lifting County Fire Restrictions\nPublic Comment \n\n10:00 A.M.\nDiscussion & Action- Resolution 2025-23 Authorizing Participation in the Short Term Investments Pool (STIP)\nPublic Comment \n\n10:30 A.M.\nNew Business / Other Topics of Discussion\nPublic Comment\nPayment of Invoices\nPublic Comment\nAction on Previous Meeting Minutes\nPublic Comment \n\n12:00 P.M.\nRecess for lunch \n\n1:30 P.M.\nPublic Comments Under County Jurisdiction Not on Agenda\nPublic Comment \n\n4:00 P.M.\nAdjourn
URL:https://beaverheadcountymt.gov/event/beaverhead-county-commissioners-meeting-243/
LOCATION:Commissioners’ Meeting Room\, 2 S. Pacific St\, Dillon\, MT\, 59725\, United States
CATEGORIES:Meeting
ORGANIZER;CN="Dana Basile":MAILTO:dbasile@beaverheadcountymt.gov
END:VEVENT
END:VCALENDAR