BEGIN:VCALENDAR
VERSION:2.0
PRODID:-//Beaverhead County - ECPv6.15.20//NONSGML v1.0//EN
CALSCALE:GREGORIAN
METHOD:PUBLISH
X-WR-CALNAME:Beaverhead County
X-ORIGINAL-URL:https://beaverheadcountymt.gov
X-WR-CALDESC:Events for Beaverhead County
REFRESH-INTERVAL;VALUE=DURATION:PT1H
X-Robots-Tag:noindex
X-PUBLISHED-TTL:PT1H
BEGIN:VTIMEZONE
TZID:America/Denver
BEGIN:DAYLIGHT
TZOFFSETFROM:-0700
TZOFFSETTO:-0600
TZNAME:MDT
DTSTART:20240310T090000
END:DAYLIGHT
BEGIN:STANDARD
TZOFFSETFROM:-0600
TZOFFSETTO:-0700
TZNAME:MST
DTSTART:20241103T080000
END:STANDARD
BEGIN:DAYLIGHT
TZOFFSETFROM:-0700
TZOFFSETTO:-0600
TZNAME:MDT
DTSTART:20250309T090000
END:DAYLIGHT
BEGIN:STANDARD
TZOFFSETFROM:-0600
TZOFFSETTO:-0700
TZNAME:MST
DTSTART:20251102T080000
END:STANDARD
BEGIN:DAYLIGHT
TZOFFSETFROM:-0700
TZOFFSETTO:-0600
TZNAME:MDT
DTSTART:20260308T090000
END:DAYLIGHT
BEGIN:STANDARD
TZOFFSETFROM:-0600
TZOFFSETTO:-0700
TZNAME:MST
DTSTART:20261101T080000
END:STANDARD
END:VTIMEZONE
BEGIN:VEVENT
DTSTART;TZID=America/Denver:20251103T090000
DTEND;TZID=America/Denver:20251103T160000
DTSTAMP:20260422T100514
CREATED:20251030T163705Z
LAST-MODIFIED:20251030T163705Z
UID:17729-1762160400-1762185600@beaverheadcountymt.gov
SUMMARY:Beaverhead County Commissioners’ Meeting
DESCRIPTION:Agenda \nMeetings will be livestreamed on YouTube live @BeaverheadcountyCommissioner \n\n9:00 A.M.\nPledge of Allegiance\nUpdate on County Projects\nPublic Comment\nCommissioners Report\nPublic Comment \n\n10:00 A.M.\nChamber Update/ City Update\nPublic Comment \n\n12:00 P.M.\nRecess for lunch \n\n1:30 P.M.\nDiscussion – Sober Rides Reimbursement Clarification\nPublic Comment \n\n2:30 P.M.\nPublic Comments Under County Jurisdiction Not on Agenda\nPublic Comment\nNew Business / Other Topics of Discussion\nPublic Comment\nPayment of Invoices\nPublic Comment\nAction on Previous Meeting Minutes\nPublic Comment \n\n4:00 P.M.\nAdjourn
URL:https://beaverheadcountymt.gov/event/beaverhead-county-commissioners-meeting-247/
LOCATION:Commissioners’ Meeting Room\, 2 S. Pacific St\, Dillon\, MT\, 59725\, United States
CATEGORIES:Meeting
ORGANIZER;CN="Dana Basile":MAILTO:dbasile@beaverheadcountymt.gov
END:VEVENT
BEGIN:VEVENT
DTSTART;TZID=America/Denver:20251103T190000
DTEND;TZID=America/Denver:20251103T200000
DTSTAMP:20260422T100514
CREATED:20251103T151155Z
LAST-MODIFIED:20251103T153018Z
UID:17750-1762196400-1762200000@beaverheadcountymt.gov
SUMMARY:Beaverhead County Fair Board Meeting
DESCRIPTION:Agenda\nCall To Order\nAmendments or Changes to Agenda\nIntroduction of Guests\nApproval of Previous Minutes\nTreasurer’s Report\nFacility Director’s Report\nEx. Director’s Report\nBoard Member Reports\nOld Business\nA. Fall Projects\nB. Winterization\nNew Business\nA. Water Truck\nB. Winter Projects\nCorrespondence\nAdjournment
URL:https://beaverheadcountymt.gov/event/beaverhead-county-fair-board-meeting-20/
LOCATION:Commissioners’ Meeting Room\, 2 S. Pacific St\, Dillon\, MT\, 59725\, United States
CATEGORIES:Meeting
ORGANIZER;CN="Keeley Fitzgerald":MAILTO:keeleyfitz@hotmail.com
END:VEVENT
BEGIN:VEVENT
DTSTART;TZID=America/Denver:20251105T150000
DTEND;TZID=America/Denver:20251105T170000
DTSTAMP:20260422T100514
CREATED:20251103T182651Z
LAST-MODIFIED:20251103T182651Z
UID:17752-1762354800-1762362000@beaverheadcountymt.gov
SUMMARY:Solid Waste Board Meeting
DESCRIPTION:Agenda\nEstablish a quorum\nReview and Action on August 14\, 2025 meeting minutes\nLandfill Manager’s Report\nDiscussion- Dell Canister Site\nDiscussion & Action- Madison County\nDiscussion & Action- UMW Donation\nEngineers Report\nPublic Comment or other business\nNext Meeting date – January 19\, 2026\nAdjourn
URL:https://beaverheadcountymt.gov/event/solid-waste-board-meeting-5/
LOCATION:Commissioners’ Meeting Room\, 2 S. Pacific St\, Dillon\, MT\, 59725\, United States
CATEGORIES:Meeting
ORGANIZER;CN="Dana Basile":MAILTO:dbasile@beaverheadcountymt.gov
END:VEVENT
BEGIN:VEVENT
DTSTART;TZID=America/Denver:20251107T110000
DTEND;TZID=America/Denver:20251107T120000
DTSTAMP:20260422T100514
CREATED:20251105T210542Z
LAST-MODIFIED:20251105T210542Z
UID:17759-1762513200-1762516800@beaverheadcountymt.gov
SUMMARY:Beaverhead County Study Commission Meeting
DESCRIPTION:Agenda\n*all times are approximate* \n\n11:00am\nCall Meeting to Order\nRoll Call- Establish quorum\nAction- Approval of Previous Meeting Minutes\nDiscussion- County Attorney Q&A\nDiscussion- Update from Elections Administrator Regarding Timelines\nPublic Comments and Any Items Not Listed on the Agenda \n\n12:00pm\nAdjourn Meeting
URL:https://beaverheadcountymt.gov/event/beaverhead-county-study-commission-meeting-10/
LOCATION:Commissioners’ Meeting Room\, 2 S. Pacific St\, Dillon\, MT\, 59725\, United States
CATEGORIES:Meeting
ORGANIZER;CN="Dana Basile":MAILTO:dbasile@beaverheadcountymt.gov
END:VEVENT
BEGIN:VEVENT
DTSTART;TZID=America/Denver:20251110T090000
DTEND;TZID=America/Denver:20251110T160000
DTSTAMP:20260422T100514
CREATED:20251106T180902Z
LAST-MODIFIED:20251106T180902Z
UID:17766-1762765200-1762790400@beaverheadcountymt.gov
SUMMARY:Beaverhead County Commissioners’ Meeting
DESCRIPTION:Agenda \nMeetings will be livestreamed on YouTube live @BeaverheadcountyCommissioner \n\n9:00 A.M.\nPledge of Allegiance\nUpdate on County Projects\nPublic Comment\nCommissioners Report\nPublic Comment \n\n9:30 A.M.\nDiscussion & Action- Resolution 2025-24 Intent to Consolidate Coroner with Sheriff Department\nPublic Comment \n\n10:00 A.M.\nDiscussion & Action- Final Plat Approval Baldy View Minor Subdivision\nPublic Comment \n\n10:30 A.M.\nDiscussion & Action- Karli King with MACo MCT\nPublic Comment \n\n11:00 A.M.\nDiscussion- Seitz Insurance Safety Presentation\nPublic Comment \n\n12:00 P.M.\nRecess for lunch \n\n1:30 P.M.\nSafety Team Meeting\nPublic Comment \n\n2:30 P.M.\nDiscussion & Action- Emergency Speed Ordinance Pioneer Drive\nPublic Comment \n\n3:00 P.M.\nPublic Comments Under County Jurisdiction Not on Agenda\nPublic Comment\nNew Business / Other Topics of Discussion\nPublic Comment\nPayment of Invoices\nPublic Comment\nAction on Previous Meeting Minutes\nPublic Comment \n\n4:00 P.M.\nAdjourn
URL:https://beaverheadcountymt.gov/event/beaverhead-county-commissioners-meeting-248/
LOCATION:Commissioners’ Meeting Room\, 2 S. Pacific St\, Dillon\, MT\, 59725\, United States
CATEGORIES:Meeting
ORGANIZER;CN="Dana Basile":MAILTO:dbasile@beaverheadcountymt.gov
END:VEVENT
BEGIN:VEVENT
DTSTART;TZID=America/Denver:20251113T120000
DTEND;TZID=America/Denver:20251113T130000
DTSTAMP:20260422T100514
CREATED:20251117T143651Z
LAST-MODIFIED:20251117T143651Z
UID:17782-1763035200-1763038800@beaverheadcountymt.gov
SUMMARY:Beaverhead County Mental Health Local Advisory Counsel Meeting
DESCRIPTION:Agenda \n\nIntroductions – Establish Quorum\nApproval of Minutes – October 9\, 2025\, meeting\nAction Items:\nUpdates\n1. Judy Ulrich- testimonial on experiences with services\n2. Local updates\n3. Public Health Update\nNew Business\nAdjourn
URL:https://beaverheadcountymt.gov/event/beaverhead-county-mental-health-local-advisory-counsel-meeting-7/
LOCATION:Tom Welch Room\, 102 N Washington St\, Dillon\, MT\, 59725\, United States
CATEGORIES:Meeting
ORGANIZER;CN="Dana Basile":MAILTO:dbasile@beaverheadcountymt.gov
END:VEVENT
BEGIN:VEVENT
DTSTART;TZID=America/Denver:20251113T130000
DTEND;TZID=America/Denver:20251113T160000
DTSTAMP:20260422T100514
CREATED:20251030T225944Z
LAST-MODIFIED:20251030T225944Z
UID:17739-1763038800-1763049600@beaverheadcountymt.gov
SUMMARY:Beaverhead County Planning Board Meeting
DESCRIPTION:Agenda\n**All times are approximate**\n\n\n1:00 P.M.\nNon-Action Planning Board & Staff Training- Legislative updates presented by MACo Land Use Attorney\, Karen Alley\n\n\n3:00 P.M.\nMinutes and Reports \nMinutes of September 11\, 2025 Meeting\nPlanning Board Member Reports\nPlanner’s Report\nPublic Comments & Questions\n\n\n3:30 P.M.\nPublic Comments & Questions of Non-Agenda Items\n\n\n4:00 P.M.\nAdjourn
URL:https://beaverheadcountymt.gov/event/beaverhead-county-planning-board-meeting-35/
LOCATION:Commissioners’ Meeting Room\, 2 S. Pacific St\, Dillon\, MT\, 59725\, United States
CATEGORIES:Meeting
ORGANIZER;CN="Rochelle Hoerning":MAILTO:rhoerning@beaverheadcountymt.gov
END:VEVENT
BEGIN:VEVENT
DTSTART;TZID=America/Denver:20251117T090000
DTEND;TZID=America/Denver:20251117T160000
DTSTAMP:20260422T100514
CREATED:20251117T144959Z
LAST-MODIFIED:20251117T144959Z
UID:17784-1763370000-1763395200@beaverheadcountymt.gov
SUMMARY:Beaverhead County Commissioners’ Meeting
DESCRIPTION:Agenda \n\n9:00 A.M.\nPledge of Allegiance\nUpdate on County Projects\nPublic Comment\nCommissioners Report\nPublic Comment \n\n11:00 A.M.\nMunicipal Election Canvas\nPublic Comment \n\n12:00 P.M.\nRecess for lunch \n\n1:30 P.M.\nPublic Comments Under County Jurisdiction Not on Agenda\nPublic Comment\nNew Business / Other Topics of Discussion\nPublic Comment\nPayment of Invoices\nPublic Comment\nAction on Previous Meeting Minutes\nPublic Comment \n\n4:00 P.M.\nAdjourn
URL:https://beaverheadcountymt.gov/event/beaverhead-county-commissioners-meeting-249/
LOCATION:Commissioners’ Meeting Room\, 2 S. Pacific St\, Dillon\, MT\, 59725\, United States
CATEGORIES:Meeting
ORGANIZER;CN="Dana Basile":MAILTO:dbasile@beaverheadcountymt.gov
END:VEVENT
BEGIN:VEVENT
DTSTART;TZID=America/Denver:20251124T090000
DTEND;TZID=America/Denver:20251124T160000
DTSTAMP:20260422T100514
CREATED:20251120T182347Z
LAST-MODIFIED:20251120T182347Z
UID:17803-1763974800-1764000000@beaverheadcountymt.gov
SUMMARY:Beaverhead County Commissioners' Meeting
DESCRIPTION:Agenda \nMeetings will be livestreamed on YouTube live @BeaverheadcountyCommissioner \n\n9:00 A.M.\nPledge of Allegiance\nUpdate on County Projects\nPublic Comment\nCommissioners Report\nPublic Comment \n\n9:30 A.M.\nDiscussion and Action- Resolution 2025-26 Authorizing the Submission of a Montana Coal Endowment Program Infrastructure Planning Grant\nPublic Comment \n\n10:00 A.M.\nDiscussion and Action- Appoint Vacancy on Hospital Public District Board\nPublic Comment \n\n12:00 P.M.\nRecess for lunch \n\n1:30 P.M.\nPublic Comments Under County Jurisdiction Not on Agenda\nPublic Comment\nNew Business / Other Topics of Discussion\nPublic Comment\nPayment of Invoices\nPublic Comment\nAction on Previous Meeting Minutes\nPublic Comment \n\n4:00 P.M.\nAdjourn
URL:https://beaverheadcountymt.gov/event/beaverhead-county-commissioners-meeting-250/
LOCATION:Commissioners’ Meeting Room\, 2 S. Pacific St\, Dillon\, MT\, 59725\, United States
CATEGORIES:Meeting
ORGANIZER;CN="Dana Basile":MAILTO:dbasile@beaverheadcountymt.gov
END:VEVENT
END:VCALENDAR