BEGIN:VCALENDAR
VERSION:2.0
PRODID:-//Beaverhead County - ECPv6.15.20//NONSGML v1.0//EN
CALSCALE:GREGORIAN
METHOD:PUBLISH
X-WR-CALNAME:Beaverhead County
X-ORIGINAL-URL:https://beaverheadcountymt.gov
X-WR-CALDESC:Events for Beaverhead County
REFRESH-INTERVAL;VALUE=DURATION:PT1H
X-Robots-Tag:noindex
X-PUBLISHED-TTL:PT1H
BEGIN:VTIMEZONE
TZID:America/Denver
BEGIN:DAYLIGHT
TZOFFSETFROM:-0700
TZOFFSETTO:-0600
TZNAME:MDT
DTSTART:20180311T090000
END:DAYLIGHT
BEGIN:STANDARD
TZOFFSETFROM:-0600
TZOFFSETTO:-0700
TZNAME:MST
DTSTART:20181104T080000
END:STANDARD
BEGIN:DAYLIGHT
TZOFFSETFROM:-0700
TZOFFSETTO:-0600
TZNAME:MDT
DTSTART:20190310T090000
END:DAYLIGHT
BEGIN:STANDARD
TZOFFSETFROM:-0600
TZOFFSETTO:-0700
TZNAME:MST
DTSTART:20191103T080000
END:STANDARD
BEGIN:DAYLIGHT
TZOFFSETFROM:-0700
TZOFFSETTO:-0600
TZNAME:MDT
DTSTART:20200308T090000
END:DAYLIGHT
BEGIN:STANDARD
TZOFFSETFROM:-0600
TZOFFSETTO:-0700
TZNAME:MST
DTSTART:20201101T080000
END:STANDARD
BEGIN:DAYLIGHT
TZOFFSETFROM:-0700
TZOFFSETTO:-0600
TZNAME:MDT
DTSTART:20210314T090000
END:DAYLIGHT
BEGIN:STANDARD
TZOFFSETFROM:-0600
TZOFFSETTO:-0700
TZNAME:MST
DTSTART:20211107T080000
END:STANDARD
END:VTIMEZONE
BEGIN:VEVENT
DTSTART;TZID=America/Denver:20201123T103000
DTEND;TZID=America/Denver:20201123T120000
DTSTAMP:20260424T174527
CREATED:20201119T161357Z
LAST-MODIFIED:20201119T161500Z
UID:6152-1606127400-1606132800@beaverheadcountymt.gov
SUMMARY:Beaverhead County/City Board of Health
DESCRIPTION:The Board of Health\, with the assistance of the Clerk of Court\, has made this meeting available to the public via ZOOM.  If you would like to attend the meeting\, please utilize the internet link below.  Due to the current COVID-19 restrictions\, the size of the group\, and the space limitations of the facility\, only members of the Board and staff will be physically present in the room.  Public participation is encouraged and will be facilitated via ZOOM.  Thank you for your understanding and patience. \nThe ZOOM link can be utilized by going to Beaverhead County’s web page and using the District Court link: https://beaverheadcountymt.gov/departments/district-court/ \nIf you have any problems connecting with this link\, call 683-3727 for assistance. \nAGENDA \nCall meeting to order ~ Establish Quorum \n\nState of Beaverhead County Public Health\nDiscussion on Governor’s new Statewide Directives 11/17/20 effective Friday\, 11/20/20 at 4:00p.m.\nHospital Update\nPioneer Care Update\nDiscuss Proposed COVID-19 Position of City/County Health Board\nIsolation and Quarantine Orders\nPublic Education on “flattening the curve”\nCOVID-19 Vaccine\nReview of Phase II Executive Orders\n*Discussion of possible future changes and what it means for Beaverhead County\nSchool Update\n\nDISCUSSION and/or ACTION ITEMS \n\nOld Business ~ Approval of August 21 Minutes\nPublic Discussion/Comments on Subjects Under BOH Jurisdiction Not on Agenda\nMeeting Schedule ~ Next meeting Tentatively??\nNew business\nAdjourn the meeting
URL:https://beaverheadcountymt.gov/event/beaverhead-county-city-board-of-health/
LOCATION:Beaverhead County Court Room\, 2 S. Pacific St\, Dillon\, MT\, 59725\, United States
END:VEVENT
BEGIN:VEVENT
DTSTART;TZID=America/Denver:20201118T170000
DTEND;TZID=America/Denver:20201118T190000
DTSTAMP:20260424T174527
CREATED:20201113T212144Z
LAST-MODIFIED:20201113T212144Z
UID:6113-1605718800-1605726000@beaverheadcountymt.gov
SUMMARY:Beaverhead County Museum Board of Trustees Meeting
DESCRIPTION:AGENDA\n\nIntroduction of Guests\nApproval of Consent Agenda (September 2020 Minutes\, Director’s Report\, Other Documents)\nTrustees Present\nTrustees Excused Absent\n\nTreasurer Report: July 2020 – June 2021 Budget\nAssociation Report\n\n\nOld Business:\n\nGeneral accessioning\nFall/winter meeting schedule\n\n\nNew Business:\n\nAccessioning Committee (1 year)\nDeaccessioning Document Committee (1 year)\nNew computers\n\n\nOther Business:\n\nEverett Johnson discussion\nGift Shop Restocking\n\n\nPublic Comments:
URL:https://beaverheadcountymt.gov/event/beaverhead-county-museum-board-of-trustees-meeting-2/
LOCATION:Depot Theater\, 125 S. Montana St\, Dillon\, MT\, 59725\, United States
END:VEVENT
BEGIN:VEVENT
DTSTART;TZID=America/Denver:20201118T110000
DTEND;TZID=America/Denver:20201118T120000
DTSTAMP:20260424T174527
CREATED:20201113T215429Z
LAST-MODIFIED:20201113T215552Z
UID:6126-1605697200-1605700800@beaverheadcountymt.gov
SUMMARY:Special District Elected Board Meeting For Fox Run Special District
DESCRIPTION:AGENDA \n\nCall meeting to order\nSecretary’s Report\n\nApprove October 14 minutes\n\n\nOld Business\n\nSpecifications for bidding process (Dr. Madany and Russ Richardson)\n\n\nNew Business\n\nSet up account for disbursement of funds for election bill and charges for advertising bid specs in the future\n\n\nPublic Comment\nAdjournment\n\nNext Meeting: Wednesday\, December 9\, 2020
URL:https://beaverheadcountymt.gov/event/6126/
LOCATION:Treasurer’s Office\, 102 N. Washington St\, Dillon\, MT\, 59725\, United States
ORGANIZER;CN="Jill Gannon-Nagle":MAILTO:jill@jgnlawoffice.com
END:VEVENT
BEGIN:VEVENT
DTSTART;TZID=America/Denver:20201021T153000
DTEND;TZID=America/Denver:20201021T170000
DTSTAMP:20260424T174527
CREATED:20201015T155106Z
LAST-MODIFIED:20201015T155106Z
UID:6023-1603294200-1603299600@beaverheadcountymt.gov
SUMMARY:Beaverhead County Museum Board of Trustees Information Meeting
DESCRIPTION:The Beaverhead County Museum Board of Trustees will meet on the 21st of October in the Old Depot Theater at 3:30. The public is welcome to attend. \nThis is an information only meeting\, no decisions will be made at this meeting! \nMolly Kruckenberg will speak regarding potential financial support from the Montana Historical Society in Helena as well as other germane subjects pertinent to the operations of the museum. \nMs. Kruckenberg will be replacing Mr. Bruce Whittenberg in the position of Director at the Montana Historical Society in Helena. \nKruckenberg\, Molly\, Research Center 444-4787 mkruckenberg@mt.gov\nWhittenberg\, Bruce\, Director’s Office 444-5485 bwhittenberg@mt.gov
URL:https://beaverheadcountymt.gov/event/beaverhead-county-museum-board-of-trustees-information-meeting/
LOCATION:Depot Theater\, 125 S. Montana St\, Dillon\, MT\, 59725\, United States
END:VEVENT
BEGIN:VEVENT
DTSTART;TZID=America/Denver:20201020T110000
DTEND;TZID=America/Denver:20201020T120000
DTSTAMP:20260424T174527
CREATED:20201013T191430Z
LAST-MODIFIED:20201013T191430Z
UID:5997-1603191600-1603195200@beaverheadcountymt.gov
SUMMARY:West Side Canal Company Meeting
DESCRIPTION:PUBLIC NOTICE\nThe Directors of West Side Canal Company will hold a meeting on Tuesday\, October 20\, 2020 at 11:00 a.m. via telephone conference call by dialing 781-448-4382 and entering 87873 when prompted. The agenda includes adjudication issues\, water issues\, insurance issues and other matters which may properly come before the Board.
URL:https://beaverheadcountymt.gov/event/west-side-canal-company-meeting/
LOCATION:Telephone Conference
END:VEVENT
BEGIN:VEVENT
DTSTART;TZID=America/Denver:20201014T170000
DTEND;TZID=America/Denver:20201014T190000
DTSTAMP:20260424T174527
CREATED:20201013T184535Z
LAST-MODIFIED:20201013T184535Z
UID:5980-1602694800-1602702000@beaverheadcountymt.gov
SUMMARY:Beaverhead County Museum Board of Trustees Meeting
DESCRIPTION:BEAVERHEAD COUNTY MUSEUM \nBoard of Trustees Meeting \nAGENDA \nWednesday\, October 14th 2020 @ 5 PM \nDepot Theater \n15 S Montana Street Dillon\, Montana 59725 \n\nIntroduction of Guests \nApproval of Consent Agenda (September 2020 Minutes\, Director’s Report\, Other Documents)\nTrustees Present \nTrustees Excused Absent\n\nTreasurer Report: July 2020-June2021 Budget\nAssociation Report\n\n\nOld Business:\nNew Business: \n\nGeneral accessioning \nSprinkle teaching records \nFall/winter meeting schedule \nSummer patrons 2019 vs. 2020\nMuseum volunteers for Assoc. Board\n\n\nOther Business:\nPublic Comments
URL:https://beaverheadcountymt.gov/event/beaverhead-county-museum-board-of-trustees-meeting/
LOCATION:MT
END:VEVENT
BEGIN:VEVENT
DTSTART;TZID=America/Denver:20201014T110000
DTEND;TZID=America/Denver:20201014T120000
DTSTAMP:20260424T174527
CREATED:20201013T190502Z
LAST-MODIFIED:20201013T190635Z
UID:5990-1602673200-1602676800@beaverheadcountymt.gov
SUMMARY:Special District Elected Board Meeting - Fox Run
DESCRIPTION:NOTICE OF SPECIAL DISTRICT ELECTED BOARD MEETING \nFOR FOX RUN SPECIAL DISTRICT \nWEDNESDAY\, OCTOBER 14\, 2020 AT 11:00 A.M. \nLOCATION: 102 N WASHINGTON\, DILLON\, MT \nAGENDA: \n\nCall Meeting to Order\nSecretary’s Report\n\nApprove September\, 2020 Meeting Minutes\n\n\nOld Business\nNew Business\n\nRoad Department and County Commissioner Representatives\n\nWill discuss and explain process for bidding project.\n\n\n\n\nPublic Comment\nAdjournment\n\nNext Meeting: Wednesday\, November 18 due to November 11 being a Holiday.
URL:https://beaverheadcountymt.gov/event/special-district-elected-board-meeting-fox-run/
LOCATION:Treasurer’s Office\, 102 N. Washington St\, Dillon\, MT\, 59725\, United States
END:VEVENT
BEGIN:VEVENT
DTSTART;VALUE=DATE:20190928
DTEND;VALUE=DATE:20190929
DTSTAMP:20260424T174527
CREATED:20190213T213603Z
LAST-MODIFIED:20190213T213603Z
UID:3089-1569628800-1569715199@beaverheadcountymt.gov
SUMMARY:Argenta Spray Day
DESCRIPTION:8:00 AM at the Bus Turn-Around.
URL:https://beaverheadcountymt.gov/event/argenta-spray-day-3/
LOCATION:MT
END:VEVENT
BEGIN:VEVENT
DTSTART;VALUE=DATE:20190921
DTEND;VALUE=DATE:20190922
DTSTAMP:20260424T174527
CREATED:20190213T213436Z
LAST-MODIFIED:20190213T213436Z
UID:3087-1569024000-1569110399@beaverheadcountymt.gov
SUMMARY:Wise River Spray Day
DESCRIPTION:8:00 AM at the Wise River Fire Hall.
URL:https://beaverheadcountymt.gov/event/wise-river-spray-day-2/
LOCATION:MT
END:VEVENT
BEGIN:VEVENT
DTSTART;VALUE=DATE:20190813
DTEND;VALUE=DATE:20190814
DTSTAMP:20260424T174527
CREATED:20190213T213354Z
LAST-MODIFIED:20190213T213354Z
UID:3085-1565654400-1565740799@beaverheadcountymt.gov
SUMMARY:Wisdom Spray Day
DESCRIPTION:8:00 AM at the County Road Shop.
URL:https://beaverheadcountymt.gov/event/wisdom-spray-day-2/
LOCATION:MT
END:VEVENT
BEGIN:VEVENT
DTSTART;VALUE=DATE:20190807
DTEND;VALUE=DATE:20190808
DTSTAMP:20260424T174527
CREATED:20190213T213315Z
LAST-MODIFIED:20190213T213315Z
UID:3083-1565136000-1565222399@beaverheadcountymt.gov
SUMMARY:Lima Dam Spray Day
DESCRIPTION:8:00 AM Below the Lima Dam Spillway.
URL:https://beaverheadcountymt.gov/event/lima-dam-spray-day-2/
LOCATION:MT
END:VEVENT
BEGIN:VEVENT
DTSTART;VALUE=DATE:20190806
DTEND;VALUE=DATE:20190807
DTSTAMP:20260424T174527
CREATED:20190213T213233Z
LAST-MODIFIED:20190213T213233Z
UID:3081-1565049600-1565135999@beaverheadcountymt.gov
SUMMARY:Snowline Spray Day
DESCRIPTION:8:00 AM at the Snowline Gravel Pit.
URL:https://beaverheadcountymt.gov/event/snowline-spray-day-2/
LOCATION:MT
END:VEVENT
BEGIN:VEVENT
DTSTART;VALUE=DATE:20190803
DTEND;VALUE=DATE:20190804
DTSTAMP:20260424T174527
CREATED:20190213T213120Z
LAST-MODIFIED:20190213T213120Z
UID:3079-1564790400-1564876799@beaverheadcountymt.gov
SUMMARY:Grasshopper Spray Day
DESCRIPTION:8:00 AM at the Grasshopper Inn.
URL:https://beaverheadcountymt.gov/event/grasshopper-spray-day/
LOCATION:MT
END:VEVENT
BEGIN:VEVENT
DTSTART;VALUE=DATE:20190724
DTEND;VALUE=DATE:20190725
DTSTAMP:20260424T174527
CREATED:20190213T213031Z
LAST-MODIFIED:20190213T213038Z
UID:3076-1563926400-1564012799@beaverheadcountymt.gov
SUMMARY:Dyce Creek Spray Day
DESCRIPTION:8:00 AM at the Dyce Creek Turn-Off.
URL:https://beaverheadcountymt.gov/event/dyce-creek-spray-day/
LOCATION:MT
END:VEVENT
BEGIN:VEVENT
DTSTART;VALUE=DATE:20190720
DTEND;VALUE=DATE:20190721
DTSTAMP:20260424T174527
CREATED:20190213T212930Z
LAST-MODIFIED:20190213T212930Z
UID:3074-1563580800-1563667199@beaverheadcountymt.gov
SUMMARY:Wise River Pull/Deep Creek Spray Day
DESCRIPTION:8:00 AM at Ralston’s.
URL:https://beaverheadcountymt.gov/event/wise-river-pull-deep-creek-spray-day/
LOCATION:MT
END:VEVENT
BEGIN:VEVENT
DTSTART;VALUE=DATE:20190718
DTEND;VALUE=DATE:20190719
DTSTAMP:20260424T174527
CREATED:20190213T212658Z
LAST-MODIFIED:20190213T212658Z
UID:3072-1563408000-1563494399@beaverheadcountymt.gov
SUMMARY:Little Sheep Creek Spray Day
DESCRIPTION:8:00 AM at the Wide Spot Before the Y.
URL:https://beaverheadcountymt.gov/event/little-sheep-creek-spray-day/
LOCATION:MT
END:VEVENT
BEGIN:VEVENT
DTSTART;VALUE=DATE:20190717
DTEND;VALUE=DATE:20190718
DTSTAMP:20260424T174527
CREATED:20190213T212613Z
LAST-MODIFIED:20190213T212613Z
UID:3070-1563321600-1563407999@beaverheadcountymt.gov
SUMMARY:Monida Hill/Price Peat Spray Day
DESCRIPTION:8:00 AM at the Top of Monida Hill.
URL:https://beaverheadcountymt.gov/event/monida-hill-price-peat-spray-day/
LOCATION:MT
END:VEVENT
BEGIN:VEVENT
DTSTART;VALUE=DATE:20190713
DTEND;VALUE=DATE:20190714
DTSTAMP:20260424T174527
CREATED:20190213T212522Z
LAST-MODIFIED:20190213T212522Z
UID:3068-1562976000-1563062399@beaverheadcountymt.gov
SUMMARY:Beaverhead County Weed Day
DESCRIPTION:8:00 AM at the High School Parking Lot.
URL:https://beaverheadcountymt.gov/event/beaverhead-county-weed-day-2/
LOCATION:MT
END:VEVENT
BEGIN:VEVENT
DTSTART;VALUE=DATE:20190711
DTEND;VALUE=DATE:20190712
DTSTAMP:20260424T174527
CREATED:20190213T212438Z
LAST-MODIFIED:20190213T212438Z
UID:3066-1562803200-1562889599@beaverheadcountymt.gov
SUMMARY:Medicine Lodge Spray Day
DESCRIPTION:8:00 AM at the Hansen Creek Turn-Off.
URL:https://beaverheadcountymt.gov/event/medicine-lodge-spray-day/
LOCATION:MT
END:VEVENT
BEGIN:VEVENT
DTSTART;VALUE=DATE:20190710
DTEND;VALUE=DATE:20190711
DTSTAMP:20260424T174527
CREATED:20190213T212349Z
LAST-MODIFIED:20190213T212349Z
UID:3064-1562716800-1562803199@beaverheadcountymt.gov
SUMMARY:Red Rock Pass Spray Day
DESCRIPTION:9:00 AM at the Top of Red Rock Pass.
URL:https://beaverheadcountymt.gov/event/red-rock-pass-spray-day/
LOCATION:MT
END:VEVENT
BEGIN:VEVENT
DTSTART;VALUE=DATE:20190709
DTEND;VALUE=DATE:20190710
DTSTAMP:20260424T174527
CREATED:20190213T212307Z
LAST-MODIFIED:20190213T212307Z
UID:3062-1562630400-1562716799@beaverheadcountymt.gov
SUMMARY:Beaverhead/Ravalli Spray Day
DESCRIPTION:8:30 AM at the Chief Joseph Pass Turn-Off.
URL:https://beaverheadcountymt.gov/event/beaverhead-ravalli-spray-day/
LOCATION:MT
END:VEVENT
BEGIN:VEVENT
DTSTART;VALUE=DATE:20190702
DTEND;VALUE=DATE:20190703
DTSTAMP:20260424T174527
CREATED:20190213T212225Z
LAST-MODIFIED:20190213T212225Z
UID:3060-1562025600-1562111999@beaverheadcountymt.gov
SUMMARY:Snowline Spray Day
DESCRIPTION:8:00 AM at the Snowline Gravel Pit.
URL:https://beaverheadcountymt.gov/event/snowline-spray-day/
LOCATION:MT
END:VEVENT
BEGIN:VEVENT
DTSTART;VALUE=DATE:20190628
DTEND;VALUE=DATE:20190629
DTSTAMP:20260424T174527
CREATED:20190213T212143Z
LAST-MODIFIED:20190213T212143Z
UID:3058-1561680000-1561766399@beaverheadcountymt.gov
SUMMARY:Dewey Cemetery Spray Day
DESCRIPTION:8:00 AM at the Quartz Hill Turn-Off.
URL:https://beaverheadcountymt.gov/event/dewey-cemetery-spray-day/
LOCATION:MT
END:VEVENT
BEGIN:VEVENT
DTSTART;VALUE=DATE:20190627
DTEND;VALUE=DATE:20190628
DTSTAMP:20260424T174527
CREATED:20190213T212052Z
LAST-MODIFIED:20190213T212052Z
UID:3056-1561593600-1561679999@beaverheadcountymt.gov
SUMMARY:Horse Prairie Spray Day
DESCRIPTION:8:00 AM at the Shoshone Ridge Interpretive Site.
URL:https://beaverheadcountymt.gov/event/horse-prairie-spray-day/
LOCATION:MT
END:VEVENT
BEGIN:VEVENT
DTSTART;VALUE=DATE:20190626
DTEND;VALUE=DATE:20190627
DTSTAMP:20260424T174527
CREATED:20190213T212010Z
LAST-MODIFIED:20190213T212010Z
UID:3054-1561507200-1561593599@beaverheadcountymt.gov
SUMMARY:Wisdom Spray Day
DESCRIPTION:8:00 AM at the County Road Shop.
URL:https://beaverheadcountymt.gov/event/wisdom-spray-day/
LOCATION:MT
END:VEVENT
BEGIN:VEVENT
DTSTART;VALUE=DATE:20190625
DTEND;VALUE=DATE:20190626
DTSTAMP:20260424T174527
CREATED:20190213T211934Z
LAST-MODIFIED:20190213T211934Z
UID:3052-1561420800-1561507199@beaverheadcountymt.gov
SUMMARY:Wolverine Spray Day
DESCRIPTION:9:00 AM at the Wolverine Gate.
URL:https://beaverheadcountymt.gov/event/wolverine-spray-day/
LOCATION:MT
END:VEVENT
BEGIN:VEVENT
DTSTART;VALUE=DATE:20190624
DTEND;VALUE=DATE:20190625
DTSTAMP:20260424T174527
CREATED:20190213T211852Z
LAST-MODIFIED:20190213T211852Z
UID:3050-1561334400-1561420799@beaverheadcountymt.gov
SUMMARY:Blacktail Spray Day
DESCRIPTION:7:30 AM at the Rock Creek Turn-Off (DNRC Kiosk).
URL:https://beaverheadcountymt.gov/event/blacktail-spray-day/
LOCATION:MT
END:VEVENT
BEGIN:VEVENT
DTSTART;VALUE=DATE:20190622
DTEND;VALUE=DATE:20190623
DTSTAMP:20260424T174527
CREATED:20190213T211807Z
LAST-MODIFIED:20190213T211807Z
UID:3048-1561161600-1561247999@beaverheadcountymt.gov
SUMMARY:Argenta Spray Day
DESCRIPTION:8:00 AM at the Bus Turn-Around.
URL:https://beaverheadcountymt.gov/event/argenta-spray-day-2/
LOCATION:MT
END:VEVENT
BEGIN:VEVENT
DTSTART;VALUE=DATE:20190620
DTEND;VALUE=DATE:20190621
DTSTAMP:20260424T174527
CREATED:20190213T211732Z
LAST-MODIFIED:20190213T211732Z
UID:3046-1560988800-1561075199@beaverheadcountymt.gov
SUMMARY:Lima Spray Day
DESCRIPTION:7:30 AM at the Lima Rest Area.
URL:https://beaverheadcountymt.gov/event/lima-spray-day/
LOCATION:MT
END:VEVENT
BEGIN:VEVENT
DTSTART;VALUE=DATE:20190619
DTEND;VALUE=DATE:20190620
DTSTAMP:20260424T174527
CREATED:20190213T211648Z
LAST-MODIFIED:20190213T211648Z
UID:3044-1560902400-1560988799@beaverheadcountymt.gov
SUMMARY:Lima Dam Spray Day
DESCRIPTION:8:00 AM at the BLM Access (Old Taft Property).
URL:https://beaverheadcountymt.gov/event/lima-dam-spray-day/
LOCATION:MT
END:VEVENT
END:VCALENDAR