BEGIN:VCALENDAR
VERSION:2.0
PRODID:-//Beaverhead County - ECPv6.15.20//NONSGML v1.0//EN
CALSCALE:GREGORIAN
METHOD:PUBLISH
X-WR-CALNAME:Beaverhead County
X-ORIGINAL-URL:https://beaverheadcountymt.gov
X-WR-CALDESC:Events for Beaverhead County
REFRESH-INTERVAL;VALUE=DURATION:PT1H
X-Robots-Tag:noindex
X-PUBLISHED-TTL:PT1H
BEGIN:VTIMEZONE
TZID:America/Denver
BEGIN:DAYLIGHT
TZOFFSETFROM:-0700
TZOFFSETTO:-0600
TZNAME:MDT
DTSTART:20160313T090000
END:DAYLIGHT
BEGIN:STANDARD
TZOFFSETFROM:-0600
TZOFFSETTO:-0700
TZNAME:MST
DTSTART:20161106T080000
END:STANDARD
BEGIN:DAYLIGHT
TZOFFSETFROM:-0700
TZOFFSETTO:-0600
TZNAME:MDT
DTSTART:20170312T090000
END:DAYLIGHT
BEGIN:STANDARD
TZOFFSETFROM:-0600
TZOFFSETTO:-0700
TZNAME:MST
DTSTART:20171105T080000
END:STANDARD
BEGIN:DAYLIGHT
TZOFFSETFROM:-0700
TZOFFSETTO:-0600
TZNAME:MDT
DTSTART:20180311T090000
END:DAYLIGHT
BEGIN:STANDARD
TZOFFSETFROM:-0600
TZOFFSETTO:-0700
TZNAME:MST
DTSTART:20181104T080000
END:STANDARD
END:VTIMEZONE
BEGIN:VEVENT
DTSTART;VALUE=DATE:20170715
DTEND;VALUE=DATE:20170716
DTSTAMP:20260425T140614
CREATED:20170512T205219Z
LAST-MODIFIED:20170512T205219Z
UID:916-1500076800-1500163199@beaverheadcountymt.gov
SUMMARY:Wise River Weed Pull
DESCRIPTION:Community noxious weed pull in Wise River\, MT.  Meet at Stanchfield’s at 8:00 am.
URL:https://beaverheadcountymt.gov/event/wise-river-weed-pull/
LOCATION:MT
END:VEVENT
BEGIN:VEVENT
DTSTART;TZID=America/Denver:20170714T120000
DTEND;TZID=America/Denver:20170714T120000
DTSTAMP:20260425T140614
CREATED:20170426T154026Z
LAST-MODIFIED:20170426T154026Z
UID:718-1500033600-1500033600@beaverheadcountymt.gov
SUMMARY:Mental Health Local Advisory Board
DESCRIPTION:
URL:https://beaverheadcountymt.gov/event/mental-health-local-advisory-board/
LOCATION:Law Enforcement Multi-Purpose Room\, Tendoy St\, Dillon\, MT\, 59725\, United States
END:VEVENT
BEGIN:VEVENT
DTSTART;TZID=America/Denver:20170713T130000
DTEND;TZID=America/Denver:20170713T130000
DTSTAMP:20260425T140614
CREATED:20170426T153718Z
LAST-MODIFIED:20170426T153718Z
UID:716-1499950800-1499950800@beaverheadcountymt.gov
SUMMARY:Planning Board Meeting
DESCRIPTION:
URL:https://beaverheadcountymt.gov/event/planning-board-meeting-3/
LOCATION:Law Enforcement Multi-Purpose Room\, Tendoy St\, Dillon\, MT\, 59725\, United States
END:VEVENT
BEGIN:VEVENT
DTSTART;VALUE=DATE:20170713
DTEND;VALUE=DATE:20170714
DTSTAMP:20260425T140614
CREATED:20170512T205051Z
LAST-MODIFIED:20170512T205051Z
UID:914-1499904000-1499990399@beaverheadcountymt.gov
SUMMARY:Monida Cooperative Weed Day
DESCRIPTION:Community noxious weed spray day in Monida\, MT. Meet at top of Monida Hill at 8:00 am.
URL:https://beaverheadcountymt.gov/event/monida-cooperative-weed-day/
LOCATION:MT
END:VEVENT
BEGIN:VEVENT
DTSTART;VALUE=DATE:20170712
DTEND;VALUE=DATE:20170713
DTSTAMP:20260425T140614
CREATED:20170512T204959Z
LAST-MODIFIED:20170512T204959Z
UID:912-1499817600-1499903999@beaverheadcountymt.gov
SUMMARY:Red Rock Pass Cooperative Weed Day
DESCRIPTION:Noxious weed spray day in conjunction with the Centennial Valley Association.  Meet at Red Rock Pass at 8:00 am.
URL:https://beaverheadcountymt.gov/event/red-rock-pass-cooperative-weed-day/
LOCATION:MT
END:VEVENT
BEGIN:VEVENT
DTSTART;TZID=America/Denver:20170710T193000
DTEND;TZID=America/Denver:20170710T193000
DTSTAMP:20260425T140614
CREATED:20170426T153635Z
LAST-MODIFIED:20170426T153635Z
UID:714-1499715000-1499715000@beaverheadcountymt.gov
SUMMARY:4H Council
DESCRIPTION:
URL:https://beaverheadcountymt.gov/event/4h-council-3/
LOCATION:Law Enforcement Multi-Purpose Room\, Tendoy St\, Dillon\, MT\, 59725\, United States
END:VEVENT
BEGIN:VEVENT
DTSTART;TZID=America/Denver:20170710T110000
DTEND;TZID=America/Denver:20170710T110000
DTSTAMP:20260425T140614
CREATED:20170426T153554Z
LAST-MODIFIED:20170426T153554Z
UID:712-1499684400-1499684400@beaverheadcountymt.gov
SUMMARY:Drought Task Force
DESCRIPTION:
URL:https://beaverheadcountymt.gov/event/drought-task-force-3/
LOCATION:Commissioners’ Meeting Room\, 2 S. Pacific St\, Dillon\, MT\, 59725\, United States
END:VEVENT
BEGIN:VEVENT
DTSTART;TZID=America/Denver:20170710T080000
DTEND;TZID=America/Denver:20170710T170000
DTSTAMP:20260425T140614
CREATED:20170628T221637Z
LAST-MODIFIED:20170718T144316Z
UID:1198-1499673600-1499706000@beaverheadcountymt.gov
SUMMARY:Commissioners Meeting
DESCRIPTION:You may view the agenda for this meeting here. \nThe approved minutes from this meeting may be viewed here.
URL:https://beaverheadcountymt.gov/event/commissioners-meeting-10/
LOCATION:MT
END:VEVENT
BEGIN:VEVENT
DTSTART;VALUE=DATE:20170708
DTEND;VALUE=DATE:20170709
DTSTAMP:20260425T140614
CREATED:20170512T203852Z
LAST-MODIFIED:20170512T203852Z
UID:910-1499472000-1499558399@beaverheadcountymt.gov
SUMMARY:Beaverhead County Weed Day
DESCRIPTION:Beaverhead County Weed Day is an annual event for Beaverhead County Weed District.  Participants include: Beaverhead County\, Madison County\, BLM\, 4-H\, Commercial Applicators\, and other volunteers.  A BBQ with door prizes at the 4-H building will follow a days work.  Participants will receive a t-shirt.
URL:https://beaverheadcountymt.gov/event/beaverhead-county-weed-day/
LOCATION:MT
END:VEVENT
BEGIN:VEVENT
DTSTART;VALUE=DATE:20170706
DTEND;VALUE=DATE:20170707
DTSTAMP:20260425T140614
CREATED:20170512T203646Z
LAST-MODIFIED:20170512T203646Z
UID:908-1499299200-1499385599@beaverheadcountymt.gov
SUMMARY:Medicine Lodge Cooperative Weed Day
DESCRIPTION:Noxious weed spray day in Medicine Lodge area.  Meet at the Hansen Creek gate at 8:00 am.
URL:https://beaverheadcountymt.gov/event/medicine-lodge-cooperative-weed-day/
LOCATION:MT
END:VEVENT
BEGIN:VEVENT
DTSTART;VALUE=DATE:20170705
DTEND;VALUE=DATE:20170706
DTSTAMP:20260425T140614
CREATED:20170512T203528Z
LAST-MODIFIED:20170512T203528Z
UID:906-1499212800-1499299199@beaverheadcountymt.gov
SUMMARY:Beaverhead/Ravalli Cooperative Weed Day
DESCRIPTION:Noxious weed spray day in conjunction with Ravalli County Weed District.  Meet at turn-out at the top of Chief Joseph Pass at 8:00 am.
URL:https://beaverheadcountymt.gov/event/beaverheadravalli-cooperative-weed-day/
LOCATION:MT
END:VEVENT
BEGIN:VEVENT
DTSTART;VALUE=DATE:20170704
DTEND;VALUE=DATE:20170705
DTSTAMP:20260425T140614
CREATED:20170426T153438Z
LAST-MODIFIED:20170426T153438Z
UID:709-1499126400-1499212799@beaverheadcountymt.gov
SUMMARY:COURTHOUSE CLOSED - Independence Day
DESCRIPTION:
URL:https://beaverheadcountymt.gov/event/courthouse-closed-independence-day/
LOCATION:MT
END:VEVENT
BEGIN:VEVENT
DTSTART;TZID=America/Denver:20170703T080000
DTEND;TZID=America/Denver:20170703T170000
DTSTAMP:20260425T140614
CREATED:20170628T221619Z
LAST-MODIFIED:20170712T141123Z
UID:1196-1499068800-1499101200@beaverheadcountymt.gov
SUMMARY:Commissioners Meeting
DESCRIPTION:The approved minutes from this meeting can be viewed here.
URL:https://beaverheadcountymt.gov/event/commissioners-meeting-9/
LOCATION:MT
END:VEVENT
BEGIN:VEVENT
DTSTART;VALUE=DATE:20170629
DTEND;VALUE=DATE:20170630
DTSTAMP:20260425T140614
CREATED:20170512T203318Z
LAST-MODIFIED:20170512T203318Z
UID:902-1498694400-1498780799@beaverheadcountymt.gov
SUMMARY:Snowline Cooperative Weed Day
DESCRIPTION:Community noxious weed spray day in the Snowline area.  Meet at the Snowline exit at 8:00 am.
URL:https://beaverheadcountymt.gov/event/snowline-cooperative-weed-day/
LOCATION:MT
END:VEVENT
BEGIN:VEVENT
DTSTART;TZID=America/Denver:20170628T080000
DTEND;TZID=America/Denver:20170628T170000
DTSTAMP:20260425T140614
CREATED:20170628T221758Z
LAST-MODIFIED:20170628T222526Z
UID:1204-1498636800-1498669200@beaverheadcountymt.gov
SUMMARY:Planning Board Meeting
DESCRIPTION:A meeting of the Beaverhead County Planning Board will take place at 1:30 pm in the Multi-Purpose room at the Courthouse. \nThe agenda for this meeting is available here. \nThe minutes of the previous meeting (April 13th) are available here.
URL:https://beaverheadcountymt.gov/event/planning-board-meeting-9/
LOCATION:MT
END:VEVENT
BEGIN:VEVENT
DTSTART;VALUE=DATE:20170628
DTEND;VALUE=DATE:20170629
DTSTAMP:20260425T140614
CREATED:20170512T203404Z
LAST-MODIFIED:20170512T203404Z
UID:904-1498608000-1498694399@beaverheadcountymt.gov
SUMMARY:Wisdom Cooperative Weed Day
DESCRIPTION:Community noxious weed spray day in Wisdom\, MT.  Meet at the County Road Shop at 8:00 am.
URL:https://beaverheadcountymt.gov/event/wisdom-cooperative-weed-day/
LOCATION:MT
END:VEVENT
BEGIN:VEVENT
DTSTART;VALUE=DATE:20170627
DTEND;VALUE=DATE:20170628
DTSTAMP:20260425T140614
CREATED:20170512T203156Z
LAST-MODIFIED:20170512T203156Z
UID:900-1498521600-1498607999@beaverheadcountymt.gov
SUMMARY:Wolverine Cooperative Weed Day
DESCRIPTION:Cooperative noxious weed spray day in conjunction with the Centennial Valley Association.  Meet at the Wolverine gate at 8:00 am.
URL:https://beaverheadcountymt.gov/event/wolverine-cooperative-weed-day/
LOCATION:MT
END:VEVENT
BEGIN:VEVENT
DTSTART;TZID=America/Denver:20170626T080000
DTEND;TZID=America/Denver:20170626T170000
DTSTAMP:20260425T140614
CREATED:20170628T221537Z
LAST-MODIFIED:20170628T221537Z
UID:1194-1498464000-1498496400@beaverheadcountymt.gov
SUMMARY:Commissioners Meeting
DESCRIPTION:
URL:https://beaverheadcountymt.gov/event/commissioners-meeting-8/
LOCATION:MT
END:VEVENT
BEGIN:VEVENT
DTSTART;VALUE=DATE:20170623
DTEND;VALUE=DATE:20170624
DTSTAMP:20260425T140614
CREATED:20170512T203044Z
LAST-MODIFIED:20170512T203044Z
UID:898-1498176000-1498262399@beaverheadcountymt.gov
SUMMARY:Dewey Cooperative Weed Day
DESCRIPTION:Community noxious weed day and Dewey Cemetery Clean-up.  Meet at the Quartz Hill turn at 8:00 am.
URL:https://beaverheadcountymt.gov/event/dewey-cooperative-weed-day/
LOCATION:MT
END:VEVENT
BEGIN:VEVENT
DTSTART;VALUE=DATE:20170622
DTEND;VALUE=DATE:20170623
DTSTAMP:20260425T140614
CREATED:20170512T202750Z
LAST-MODIFIED:20170512T202750Z
UID:896-1498089600-1498175999@beaverheadcountymt.gov
SUMMARY:BOR Cooperative Weed Day
DESCRIPTION:Noxious weed spray day at Clark Canyon Reservoir.  Meet at the Marina camp ground at 8:00 am.
URL:https://beaverheadcountymt.gov/event/bor-cooperative-weed-day/
LOCATION:MT
END:VEVENT
BEGIN:VEVENT
DTSTART;VALUE=DATE:20170621
DTEND;VALUE=DATE:20170622
DTSTAMP:20260425T140614
CREATED:20170512T202638Z
LAST-MODIFIED:20170512T202638Z
UID:894-1498003200-1498089599@beaverheadcountymt.gov
SUMMARY:Lima Cooperative Weed Day
DESCRIPTION:Community noxious weed spray day in Lima\, MT.  Meet at the rest area at 8:00 am.
URL:https://beaverheadcountymt.gov/event/lima-cooperative-weed-day/
LOCATION:MT
END:VEVENT
BEGIN:VEVENT
DTSTART;VALUE=DATE:20170620
DTEND;VALUE=DATE:20170621
DTSTAMP:20260425T140614
CREATED:20170512T202557Z
LAST-MODIFIED:20170512T202557Z
UID:892-1497916800-1498003199@beaverheadcountymt.gov
SUMMARY:Lima Dam Cooperative Weed Day
DESCRIPTION:Noxious weed spray day in conjunction with the Centennial Valley Association.  Meet below the Lima Dam at 8:00 am.
URL:https://beaverheadcountymt.gov/event/lima-dam-cooperative-weed-day/
LOCATION:MT
END:VEVENT
BEGIN:VEVENT
DTSTART;TZID=America/Denver:20170619T133000
DTEND;TZID=America/Denver:20170619T133000
DTSTAMP:20260425T140614
CREATED:20170426T153403Z
LAST-MODIFIED:20170517T193229Z
UID:707-1497879000-1497879000@beaverheadcountymt.gov
SUMMARY:Solid Waste Meeting
DESCRIPTION:Please find the minutes for the March meeting here.
URL:https://beaverheadcountymt.gov/event/solid-waste-meeting/
LOCATION:Commissioners’ Meeting Room\, 2 S. Pacific St\, Dillon\, MT\, 59725\, United States
END:VEVENT
BEGIN:VEVENT
DTSTART;TZID=America/Denver:20170619T080000
DTEND;TZID=America/Denver:20170619T170000
DTSTAMP:20260425T140614
CREATED:20170628T221457Z
LAST-MODIFIED:20170628T221519Z
UID:1191-1497859200-1497891600@beaverheadcountymt.gov
SUMMARY:Commissioners Meeting
DESCRIPTION:Please find the approved copy of this meeting’s minutes here.
URL:https://beaverheadcountymt.gov/event/commissioners-meeting-7/
LOCATION:MT
END:VEVENT
BEGIN:VEVENT
DTSTART;VALUE=DATE:20170619
DTEND;VALUE=DATE:20170620
DTSTAMP:20260425T140614
CREATED:20170512T202334Z
LAST-MODIFIED:20170512T202334Z
UID:890-1497830400-1497916799@beaverheadcountymt.gov
SUMMARY:Bell Canyon Cooperative Weed Day
DESCRIPTION:Noxious weed spray day in Bell Canyon.  Meet at the Red Rock exit at 8:00 am.
URL:https://beaverheadcountymt.gov/event/bell-canyon-cooperative-weed-day/
LOCATION:MT
END:VEVENT
BEGIN:VEVENT
DTSTART;VALUE=DATE:20170617
DTEND;VALUE=DATE:20170618
DTSTAMP:20260425T140614
CREATED:20170512T202012Z
LAST-MODIFIED:20170512T202012Z
UID:888-1497657600-1497743999@beaverheadcountymt.gov
SUMMARY:Argenta Cooperative Weed Day
DESCRIPTION:Community noxious weed spray day in Argenta.  Meet at the school bus turn around at 8 am.
URL:https://beaverheadcountymt.gov/event/argenta-cooperative-weed-day/
LOCATION:MT
END:VEVENT
BEGIN:VEVENT
DTSTART;VALUE=DATE:20170615
DTEND;VALUE=DATE:20170616
DTSTAMP:20260425T140614
CREATED:20170512T201854Z
LAST-MODIFIED:20170512T201854Z
UID:886-1497484800-1497571199@beaverheadcountymt.gov
SUMMARY:Melrose Cooperative Weed Day
DESCRIPTION:Community noxious weed day in Melrose in coordination with Madison and Butte Silverbow Counties.  Meet outside the Melrose Bar at 8 am.
URL:https://beaverheadcountymt.gov/event/melrose-cooperative-weed-day/
LOCATION:MT
END:VEVENT
BEGIN:VEVENT
DTSTART;VALUE=DATE:20170614
DTEND;VALUE=DATE:20170615
DTSTAMP:20260425T140614
CREATED:20170512T201524Z
LAST-MODIFIED:20170512T205845Z
UID:883-1497398400-1497484799@beaverheadcountymt.gov
SUMMARY:Big Sheep Cooperative Weed Day
DESCRIPTION:Noxious weed spray day around Big Sheep Creek outside Dell\, MT.  Meet at the Sheep Pens (where Big Sheep/Medicine Lodge roads merge) at 8 am.
URL:https://beaverheadcountymt.gov/event/big-sheep-cooperative-weed-day/
LOCATION:MT
END:VEVENT
BEGIN:VEVENT
DTSTART;TZID=America/Denver:20170613T180000
DTEND;TZID=America/Denver:20170613T190000
DTSTAMP:20260425T140614
CREATED:20170524T142539Z
LAST-MODIFIED:20170524T153234Z
UID:1053-1497376800-1497380400@beaverheadcountymt.gov
SUMMARY:Pre-Disaster Mitigation Plan Final Draft Review
DESCRIPTION:The Beaverhead County PDM is nearly complete. As part of the final steps\, we need to hold public hearings in all of our rural areas. We hope to see many of you there to ask questions and address any concerns you may have. A current copy of the PDM Draft can be viewed here.
URL:https://beaverheadcountymt.gov/event/pre-disaster-mitigation-plan-final-draft-review-3/
LOCATION:Wise River Community Center
END:VEVENT
BEGIN:VEVENT
DTSTART;TZID=America/Denver:20170613T160000
DTEND;TZID=America/Denver:20170613T173000
DTSTAMP:20260425T140614
CREATED:20170524T141818Z
LAST-MODIFIED:20170524T153118Z
UID:1049-1497369600-1497375000@beaverheadcountymt.gov
SUMMARY:Pre-Disaster Mitigation Plan Final Draft Review
DESCRIPTION:The Beaverhead County PDM is nearly complete. As part of the final steps\, we need to hold public hearings in all of our rural areas. We hope to see many of you there to ask questions and address any concerns you may have. A current copy of the PDM draft can be viewed here.
URL:https://beaverheadcountymt.gov/event/pre-disaster-mitigation-plan-final-draft-review-2/
LOCATION:Wisdom Community Center
END:VEVENT
END:VCALENDAR