BEGIN:VCALENDAR
VERSION:2.0
PRODID:-//Beaverhead County - ECPv6.15.20//NONSGML v1.0//EN
CALSCALE:GREGORIAN
METHOD:PUBLISH
X-WR-CALNAME:Beaverhead County
X-ORIGINAL-URL:https://beaverheadcountymt.gov
X-WR-CALDESC:Events for Beaverhead County
REFRESH-INTERVAL;VALUE=DURATION:PT1H
X-Robots-Tag:noindex
X-PUBLISHED-TTL:PT1H
BEGIN:VTIMEZONE
TZID:America/Denver
BEGIN:DAYLIGHT
TZOFFSETFROM:-0700
TZOFFSETTO:-0600
TZNAME:MDT
DTSTART:20160313T090000
END:DAYLIGHT
BEGIN:STANDARD
TZOFFSETFROM:-0600
TZOFFSETTO:-0700
TZNAME:MST
DTSTART:20161106T080000
END:STANDARD
BEGIN:DAYLIGHT
TZOFFSETFROM:-0700
TZOFFSETTO:-0600
TZNAME:MDT
DTSTART:20170312T090000
END:DAYLIGHT
BEGIN:STANDARD
TZOFFSETFROM:-0600
TZOFFSETTO:-0700
TZNAME:MST
DTSTART:20171105T080000
END:STANDARD
BEGIN:DAYLIGHT
TZOFFSETFROM:-0700
TZOFFSETTO:-0600
TZNAME:MDT
DTSTART:20180311T090000
END:DAYLIGHT
BEGIN:STANDARD
TZOFFSETFROM:-0600
TZOFFSETTO:-0700
TZNAME:MST
DTSTART:20181104T080000
END:STANDARD
END:VTIMEZONE
BEGIN:VEVENT
DTSTART;TZID=America/Denver:20170613T130000
DTEND;TZID=America/Denver:20170613T143000
DTSTAMP:20260425T193002
CREATED:20170524T141112Z
LAST-MODIFIED:20170524T153049Z
UID:1044-1497358800-1497364200@beaverheadcountymt.gov
SUMMARY:Pre-Disaster Mitigation Plan Final Draft Review
DESCRIPTION:The Beaverhead County PDM is nearly complete. As part of the final steps\, we need to hold public hearings in all of our rural areas. We hope to see many of you there to ask questions and address any concerns you may have. A copy of the current PDM Draft can be viewed here.
URL:https://beaverheadcountymt.gov/event/pre-disaster-mitigation-plan-final-draft-review/
LOCATION:Lima City Hall\, 5 W Section Corner\, Lima\, MT\, 59739\, United States
ORGANIZER;CN="Tom Wagenknect":MAILTO:twagenknecht@beaverheadcountymt.gov
END:VEVENT
BEGIN:VEVENT
DTSTART;TZID=America/Denver:20170612T110000
DTEND;TZID=America/Denver:20170612T110000
DTSTAMP:20260425T193002
CREATED:20170426T153242Z
LAST-MODIFIED:20170517T193000Z
UID:703-1497265200-1497265200@beaverheadcountymt.gov
SUMMARY:Drought Task Force
DESCRIPTION:Please find the minutes for the May meeting here.
URL:https://beaverheadcountymt.gov/event/drought-task-force-2/
LOCATION:Commissioners’ Meeting Room\, 2 S. Pacific St\, Dillon\, MT\, 59725\, United States
END:VEVENT
BEGIN:VEVENT
DTSTART;TZID=America/Denver:20170612T080000
DTEND;TZID=America/Denver:20170612T170000
DTSTAMP:20260425T193002
CREATED:20170608T154244Z
LAST-MODIFIED:20170628T221307Z
UID:1118-1497254400-1497286800@beaverheadcountymt.gov
SUMMARY:Commissioners Meeting
DESCRIPTION:Please find the agenda for this meeting here. \nPlease find the approved minutes for this meeting here.
URL:https://beaverheadcountymt.gov/event/commissioners-meeting-5/
LOCATION:MT
END:VEVENT
BEGIN:VEVENT
DTSTART;VALUE=DATE:20170610
DTEND;VALUE=DATE:20170611
DTSTAMP:20260425T193002
CREATED:20170512T201340Z
LAST-MODIFIED:20170512T201340Z
UID:881-1497052800-1497139199@beaverheadcountymt.gov
SUMMARY:Wise River Cooperative Weed Day
DESCRIPTION:Community noxious weed spray day in Wise River\, MT.  Meet at the Wise River fire hall at 8 am.
URL:https://beaverheadcountymt.gov/event/wise-river-cooperative-weed-day/
LOCATION:MT
END:VEVENT
BEGIN:VEVENT
DTSTART;TZID=America/Denver:20170609T120000
DTEND;TZID=America/Denver:20170609T120000
DTSTAMP:20260425T193002
CREATED:20170426T153157Z
LAST-MODIFIED:20170426T153157Z
UID:701-1497009600-1497009600@beaverheadcountymt.gov
SUMMARY:Mental Health Advisory Council
DESCRIPTION:
URL:https://beaverheadcountymt.gov/event/mental-health-advisory-council/
LOCATION:Law Enforcement Multi-Purpose Room\, Tendoy St\, Dillon\, MT\, 59725\, United States
END:VEVENT
BEGIN:VEVENT
DTSTART;TZID=America/Denver:20170608T130000
DTEND;TZID=America/Denver:20170608T130000
DTSTAMP:20260425T193002
CREATED:20170426T152756Z
LAST-MODIFIED:20170628T222403Z
UID:699-1496926800-1496926800@beaverheadcountymt.gov
SUMMARY:Planning Board Meeting
DESCRIPTION:****THIS MEETING WAS CANCELLED AND RESCHEDULED FOR 6/29/17**** \nPlease find the minutes from the April planning board meeting here.
URL:https://beaverheadcountymt.gov/event/planning-board-meeting-2/
LOCATION:Law Enforcement Multi-Purpose Room\, Tendoy St\, Dillon\, MT\, 59725\, United States
END:VEVENT
BEGIN:VEVENT
DTSTART;VALUE=DATE:20170608
DTEND;VALUE=DATE:20170609
DTSTAMP:20260425T193002
CREATED:20170512T201247Z
LAST-MODIFIED:20170512T201247Z
UID:879-1496880000-1496966399@beaverheadcountymt.gov
SUMMARY:Burma Cooperative Weed Day
DESCRIPTION:Cooperative noxious weed spray day in conjunction with Madison County.  Meet at stack yard west of Pennington Bridge at 8 am.
URL:https://beaverheadcountymt.gov/event/burma-cooperative-weed-day/
LOCATION:MT
END:VEVENT
BEGIN:VEVENT
DTSTART;VALUE=DATE:20170607
DTEND;VALUE=DATE:20170608
DTSTAMP:20260425T193002
CREATED:20170512T201037Z
LAST-MODIFIED:20170512T201037Z
UID:877-1496793600-1496879999@beaverheadcountymt.gov
SUMMARY:Maiden Rock Cooperative Weed Day
DESCRIPTION:Noxious weed spray day in Maiden Rock area.  Meet at fishing access at 8 am.
URL:https://beaverheadcountymt.gov/event/maiden-rock-cooperative-weed-day/
LOCATION:MT
END:VEVENT
BEGIN:VEVENT
DTSTART;VALUE=DATE:20170606
DTEND;VALUE=DATE:20170607
DTSTAMP:20260425T193002
CREATED:20170512T200846Z
LAST-MODIFIED:20170512T200846Z
UID:875-1496707200-1496793599@beaverheadcountymt.gov
SUMMARY:Glen Cooperative Weed Day
DESCRIPTION:Community noxious weed spray day.  Meet at the Glen Bar Parking Lot at 8 am.
URL:https://beaverheadcountymt.gov/event/glen-cooperative-weed-day/
LOCATION:MT
END:VEVENT
BEGIN:VEVENT
DTSTART;TZID=America/Denver:20170605T080000
DTEND;TZID=America/Denver:20170605T170000
DTSTAMP:20260425T193002
CREATED:20170601T221747Z
LAST-MODIFIED:20170601T221903Z
UID:1084-1496649600-1496682000@beaverheadcountymt.gov
SUMMARY:Commissioners' Meeting CANCELLED!
DESCRIPTION:**Please note there will not be a Commissioner’s meeting on Monday\, June 5th (agenda). Please find the minutes from the previous meeting (5/22/17) here.
URL:https://beaverheadcountymt.gov/event/commissioners-meeting-cancelled/
LOCATION:MT
END:VEVENT
BEGIN:VEVENT
DTSTART;VALUE=DATE:20170531
DTEND;VALUE=DATE:20170601
DTSTAMP:20260425T193002
CREATED:20170426T152655Z
LAST-MODIFIED:20170426T152655Z
UID:696-1496188800-1496275199@beaverheadcountymt.gov
SUMMARY:Property Taxes Due
DESCRIPTION:
URL:https://beaverheadcountymt.gov/event/property-taxes-due/
LOCATION:Treasurer’s Office\, 102 N. Washington St\, Dillon\, MT\, 59725\, United States
END:VEVENT
BEGIN:VEVENT
DTSTART;TZID=America/Denver:20170530T080000
DTEND;TZID=America/Denver:20170530T170000
DTSTAMP:20260425T193002
CREATED:20170614T154110Z
LAST-MODIFIED:20170614T154110Z
UID:1131-1496131200-1496163600@beaverheadcountymt.gov
SUMMARY:Commissioners Meeting
DESCRIPTION:Please find the minutes from this meeting here.
URL:https://beaverheadcountymt.gov/event/commissioners-meeting-6/
LOCATION:MT
END:VEVENT
BEGIN:VEVENT
DTSTART;VALUE=DATE:20170529
DTEND;VALUE=DATE:20170530
DTSTAMP:20260425T193002
CREATED:20170426T152600Z
LAST-MODIFIED:20170426T153508Z
UID:694-1496016000-1496102399@beaverheadcountymt.gov
SUMMARY:COURTHOUSE CLOSED - Memorial Day
DESCRIPTION:
URL:https://beaverheadcountymt.gov/event/courthouse-closed-memorial-day/
LOCATION:MT
END:VEVENT
BEGIN:VEVENT
DTSTART;VALUE=DATE:20170525
DTEND;VALUE=DATE:20170526
DTSTAMP:20260425T193002
CREATED:20170426T152527Z
LAST-MODIFIED:20170426T152527Z
UID:692-1495670400-1495756799@beaverheadcountymt.gov
SUMMARY:Election Day for US Representative Special Election
DESCRIPTION:
URL:https://beaverheadcountymt.gov/event/election-day-for-us-representative-special-election/
LOCATION:MT
END:VEVENT
BEGIN:VEVENT
DTSTART;TZID=America/Denver:20170522T080000
DTEND;TZID=America/Denver:20170522T170000
DTSTAMP:20260425T193002
CREATED:20170608T154141Z
LAST-MODIFIED:20170608T154141Z
UID:1116-1495440000-1495472400@beaverheadcountymt.gov
SUMMARY:Commissioners Meeting
DESCRIPTION:Please find the approved meeting minutes here.
URL:https://beaverheadcountymt.gov/event/commissioners-meeting-4/
LOCATION:MT
END:VEVENT
BEGIN:VEVENT
DTSTART;VALUE=DATE:20170522
DTEND;VALUE=DATE:20170523
DTSTAMP:20260425T193002
CREATED:20170523T154249Z
LAST-MODIFIED:20170523T154414Z
UID:1031-1495411200-1495497599@beaverheadcountymt.gov
SUMMARY:Commission Meeting
DESCRIPTION:Please review May 15\, 2017 Commission Minutes here
URL:https://beaverheadcountymt.gov/event/commission-meeting/
LOCATION:MT
END:VEVENT
BEGIN:VEVENT
DTSTART;TZID=America/Denver:20170515T080000
DTEND;TZID=America/Denver:20170515T170000
DTSTAMP:20260425T193002
CREATED:20170608T154029Z
LAST-MODIFIED:20170608T154048Z
UID:1114-1494835200-1494867600@beaverheadcountymt.gov
SUMMARY:Commissioners Meeting
DESCRIPTION:Please find the approved minutes for this meeting here.
URL:https://beaverheadcountymt.gov/event/commissioners-meeting-3/
LOCATION:MT
END:VEVENT
BEGIN:VEVENT
DTSTART;TZID=America/Denver:20170512T120000
DTEND;TZID=America/Denver:20170512T120000
DTSTAMP:20260425T193002
CREATED:20170426T152451Z
LAST-MODIFIED:20170426T152451Z
UID:690-1494590400-1494590400@beaverheadcountymt.gov
SUMMARY:Mental Health Local Advisory Council
DESCRIPTION:
URL:https://beaverheadcountymt.gov/event/mental-health-local-advisory-council/
LOCATION:Law Enforcement Multi-Purpose Room\, Tendoy St\, Dillon\, MT\, 59725\, United States
END:VEVENT
BEGIN:VEVENT
DTSTART;TZID=America/Denver:20170511T130000
DTEND;TZID=America/Denver:20170511T130000
DTSTAMP:20260425T193002
CREATED:20170426T151203Z
LAST-MODIFIED:20170517T192031Z
UID:688-1494507600-1494507600@beaverheadcountymt.gov
SUMMARY:Planning Board Meeting
DESCRIPTION:**Planning board meeting canceled- lack of new business. See you in June!
URL:https://beaverheadcountymt.gov/event/planning-board-meeting/
LOCATION:Law Enforcement Multi-Purpose Room\, Tendoy St\, Dillon\, MT\, 59725\, United States
END:VEVENT
BEGIN:VEVENT
DTSTART;TZID=America/Denver:20170508T190000
DTEND;TZID=America/Denver:20170508T190000
DTSTAMP:20260425T193002
CREATED:20170426T151126Z
LAST-MODIFIED:20170426T151126Z
UID:686-1494270000-1494270000@beaverheadcountymt.gov
SUMMARY:4H Council
DESCRIPTION:
URL:https://beaverheadcountymt.gov/event/4h-council/
LOCATION:Law Enforcement Multi-Purpose Room\, Tendoy St\, Dillon\, MT\, 59725\, United States
END:VEVENT
BEGIN:VEVENT
DTSTART;TZID=America/Denver:20170508T110000
DTEND;TZID=America/Denver:20170508T110000
DTSTAMP:20260425T193002
CREATED:20170426T151007Z
LAST-MODIFIED:20170517T191916Z
UID:683-1494241200-1494241200@beaverheadcountymt.gov
SUMMARY:Drought Task Force
DESCRIPTION:
URL:https://beaverheadcountymt.gov/event/drought-task-force/
LOCATION:Commissioners’ Meeting Room\, 2 S. Pacific St\, Dillon\, MT\, 59725\, United States
END:VEVENT
BEGIN:VEVENT
DTSTART;TZID=America/Denver:20170508T080000
DTEND;TZID=America/Denver:20170508T170000
DTSTAMP:20260425T193002
CREATED:20170608T153936Z
LAST-MODIFIED:20170608T153936Z
UID:1112-1494230400-1494262800@beaverheadcountymt.gov
SUMMARY:Commissioners Meeting
DESCRIPTION:Please find the approved minutes of this meeting here.
URL:https://beaverheadcountymt.gov/event/commissioners-meeting-2/
LOCATION:MT
END:VEVENT
BEGIN:VEVENT
DTSTART;TZID=America/Denver:20170501T180000
DTEND;TZID=America/Denver:20170501T180000
DTSTAMP:20260425T193002
CREATED:20170426T150908Z
LAST-MODIFIED:20170426T150908Z
UID:680-1493661600-1493661600@beaverheadcountymt.gov
SUMMARY:4H Foundation & Livestock Committee
DESCRIPTION:
URL:https://beaverheadcountymt.gov/event/4h-foundation-livestock-committee/
LOCATION:Law Enforcement Multi-Purpose Room\, Tendoy St\, Dillon\, MT\, 59725\, United States
END:VEVENT
BEGIN:VEVENT
DTSTART;TZID=America/Denver:20170501T080000
DTEND;TZID=America/Denver:20170501T170000
DTSTAMP:20260425T193002
CREATED:20170608T153641Z
LAST-MODIFIED:20170608T153743Z
UID:1109-1493625600-1493658000@beaverheadcountymt.gov
SUMMARY:Commissioners Meeting
DESCRIPTION:Please find the approved minutes for this meeting here.
URL:https://beaverheadcountymt.gov/event/commissioners-meeting/
LOCATION:MT
END:VEVENT
BEGIN:VEVENT
DTSTART;VALUE=DATE:20170501
DTEND;VALUE=DATE:20170502
DTSTAMP:20260425T193002
CREATED:20170424T175128Z
LAST-MODIFIED:20170424T175128Z
UID:461-1493596800-1493683199@beaverheadcountymt.gov
SUMMARY:Absentee Ballots for US Representative Special Election will be Mailed
DESCRIPTION:
URL:https://beaverheadcountymt.gov/event/absentee-ballots-for-us-representative-special-election-will-be-mailed/
LOCATION:MT
END:VEVENT
BEGIN:VEVENT
DTSTART;TZID=America/Denver:20170427T190000
DTEND;TZID=America/Denver:20170427T190000
DTSTAMP:20260425T193002
CREATED:20170426T150716Z
LAST-MODIFIED:20170426T150716Z
UID:677-1493319600-1493319600@beaverheadcountymt.gov
SUMMARY:Farmer's Market Meeting
DESCRIPTION:
URL:https://beaverheadcountymt.gov/event/farmers-market-meeting/
LOCATION:Episcopal Church
END:VEVENT
END:VCALENDAR