BEGIN:VCALENDAR
VERSION:2.0
PRODID:-//Beaverhead County - ECPv6.15.20//NONSGML v1.0//EN
CALSCALE:GREGORIAN
METHOD:PUBLISH
X-WR-CALNAME:Beaverhead County
X-ORIGINAL-URL:https://beaverheadcountymt.gov
X-WR-CALDESC:Events for Beaverhead County
REFRESH-INTERVAL;VALUE=DURATION:PT1H
X-Robots-Tag:noindex
X-PUBLISHED-TTL:PT1H
BEGIN:VTIMEZONE
TZID:America/Denver
BEGIN:DAYLIGHT
TZOFFSETFROM:-0700
TZOFFSETTO:-0600
TZNAME:MDT
DTSTART:20160313T090000
END:DAYLIGHT
BEGIN:STANDARD
TZOFFSETFROM:-0600
TZOFFSETTO:-0700
TZNAME:MST
DTSTART:20161106T080000
END:STANDARD
BEGIN:DAYLIGHT
TZOFFSETFROM:-0700
TZOFFSETTO:-0600
TZNAME:MDT
DTSTART:20170312T090000
END:DAYLIGHT
BEGIN:STANDARD
TZOFFSETFROM:-0600
TZOFFSETTO:-0700
TZNAME:MST
DTSTART:20171105T080000
END:STANDARD
BEGIN:DAYLIGHT
TZOFFSETFROM:-0700
TZOFFSETTO:-0600
TZNAME:MDT
DTSTART:20180311T090000
END:DAYLIGHT
BEGIN:STANDARD
TZOFFSETFROM:-0600
TZOFFSETTO:-0700
TZNAME:MST
DTSTART:20181104T080000
END:STANDARD
END:VTIMEZONE
BEGIN:VEVENT
DTSTART;TZID=America/Denver:20171023T080000
DTEND;TZID=America/Denver:20171023T170000
DTSTAMP:20260425T081647
CREATED:20170822T202317Z
LAST-MODIFIED:20170822T202317Z
UID:1400-1508745600-1508778000@beaverheadcountymt.gov
SUMMARY:Commissioners Meeting
DESCRIPTION:
URL:https://beaverheadcountymt.gov/event/commissioners-meeting-25/
LOCATION:MT
END:VEVENT
BEGIN:VEVENT
DTSTART;TZID=America/Denver:20171019T190000
DTEND;TZID=America/Denver:20171019T190000
DTSTAMP:20260425T081647
CREATED:20170426T155351Z
LAST-MODIFIED:20171220T181631Z
UID:757-1508439600-1508439600@beaverheadcountymt.gov
SUMMARY:LEPC Meeting
DESCRIPTION:The agenda for this meeting is available here.
URL:https://beaverheadcountymt.gov/event/lepc-meeting-2/
LOCATION:MT
END:VEVENT
BEGIN:VEVENT
DTSTART;TZID=America/Denver:20171016T080000
DTEND;TZID=America/Denver:20171016T170000
DTSTAMP:20260425T081647
CREATED:20170822T202304Z
LAST-MODIFIED:20170822T202304Z
UID:1398-1508140800-1508173200@beaverheadcountymt.gov
SUMMARY:Commissioners Meeting
DESCRIPTION:
URL:https://beaverheadcountymt.gov/event/commissioners-meeting-24/
LOCATION:MT
END:VEVENT
BEGIN:VEVENT
DTSTART;TZID=America/Denver:20171012T130000
DTEND;TZID=America/Denver:20171012T130000
DTSTAMP:20260425T081647
CREATED:20170426T155310Z
LAST-MODIFIED:20170426T155310Z
UID:755-1507813200-1507813200@beaverheadcountymt.gov
SUMMARY:Planning Board Meeting
DESCRIPTION:
URL:https://beaverheadcountymt.gov/event/planning-board-meeting-6/
LOCATION:Law Enforcement Multi-Purpose Room\, Tendoy St\, Dillon\, MT\, 59725\, United States
END:VEVENT
BEGIN:VEVENT
DTSTART;TZID=America/Denver:20171010T080000
DTEND;TZID=America/Denver:20171010T170000
DTSTAMP:20260425T081647
CREATED:20170822T204417Z
LAST-MODIFIED:20170822T204417Z
UID:1424-1507622400-1507654800@beaverheadcountymt.gov
SUMMARY:Commissioners Meeting
DESCRIPTION:
URL:https://beaverheadcountymt.gov/event/commissioners-meeting-35/
LOCATION:MT
END:VEVENT
BEGIN:VEVENT
DTSTART;TZID=America/Denver:20171009T193000
DTEND;TZID=America/Denver:20171009T193000
DTSTAMP:20260425T081647
CREATED:20170426T155221Z
LAST-MODIFIED:20170426T155221Z
UID:753-1507577400-1507577400@beaverheadcountymt.gov
SUMMARY:4H Council
DESCRIPTION:
URL:https://beaverheadcountymt.gov/event/4h-council-5/
LOCATION:Law Enforcement Multi-Purpose Room\, Tendoy St\, Dillon\, MT\, 59725\, United States
END:VEVENT
BEGIN:VEVENT
DTSTART;TZID=America/Denver:20171009T080000
DTEND;TZID=America/Denver:20171009T170000
DTSTAMP:20260425T081647
CREATED:20170822T202253Z
LAST-MODIFIED:20170822T204525Z
UID:1396-1507536000-1507568400@beaverheadcountymt.gov
SUMMARY:Commissioners Meeting
DESCRIPTION:There will not be a commissioners meeting today\,  the courthouse will be closed in observance of Columbus Day. There will be a commissioners meeting tomorrow\, October 10th\, 2017.
URL:https://beaverheadcountymt.gov/event/commissioners-meeting-23/
LOCATION:MT
END:VEVENT
BEGIN:VEVENT
DTSTART;VALUE=DATE:20171009
DTEND;VALUE=DATE:20171010
DTSTAMP:20260425T081647
CREATED:20170426T160949Z
LAST-MODIFIED:20170426T160949Z
UID:777-1507507200-1507593599@beaverheadcountymt.gov
SUMMARY:COURTHOUSE CLOSED - Columbus Day
DESCRIPTION:
URL:https://beaverheadcountymt.gov/event/courthouse-closed-columbus-day-2/
LOCATION:MT
END:VEVENT
BEGIN:VEVENT
DTSTART;TZID=America/Denver:20171002T080000
DTEND;TZID=America/Denver:20171002T170000
DTSTAMP:20260425T081647
CREATED:20170822T202240Z
LAST-MODIFIED:20170822T202240Z
UID:1394-1506931200-1506963600@beaverheadcountymt.gov
SUMMARY:Commissioners Meeting
DESCRIPTION:
URL:https://beaverheadcountymt.gov/event/commissioners-meeting-22/
LOCATION:MT
END:VEVENT
BEGIN:VEVENT
DTSTART;TZID=America/Denver:20170925T080000
DTEND;TZID=America/Denver:20170925T170000
DTSTAMP:20260425T081647
CREATED:20170822T202228Z
LAST-MODIFIED:20170822T202228Z
UID:1392-1506326400-1506358800@beaverheadcountymt.gov
SUMMARY:Commissioners Meeting
DESCRIPTION:
URL:https://beaverheadcountymt.gov/event/commissioners-meeting-21/
LOCATION:MT
END:VEVENT
BEGIN:VEVENT
DTSTART;VALUE=DATE:20170923
DTEND;VALUE=DATE:20170924
DTSTAMP:20260425T081647
CREATED:20170512T211404Z
LAST-MODIFIED:20170512T211404Z
UID:937-1506124800-1506211199@beaverheadcountymt.gov
SUMMARY:Argenta Cooperative Weed Day
DESCRIPTION:Community noxious weed spray day in Argenta.  Meet at the school bus turn around at 8:00 am.
URL:https://beaverheadcountymt.gov/event/argenta-cooperative-weed-day-3/
LOCATION:MT
END:VEVENT
BEGIN:VEVENT
DTSTART;TZID=America/Denver:20170918T133000
DTEND;TZID=America/Denver:20170918T133000
DTSTAMP:20260425T081647
CREATED:20170426T155053Z
LAST-MODIFIED:20170426T155053Z
UID:749-1505741400-1505741400@beaverheadcountymt.gov
SUMMARY:Solid Waste Meeting
DESCRIPTION:
URL:https://beaverheadcountymt.gov/event/solid-waste-meeting-2/
LOCATION:Commissioners’ Meeting Room\, 2 S. Pacific St\, Dillon\, MT\, 59725\, United States
END:VEVENT
BEGIN:VEVENT
DTSTART;TZID=America/Denver:20170918T080000
DTEND;TZID=America/Denver:20170918T170000
DTSTAMP:20260425T081647
CREATED:20170822T202218Z
LAST-MODIFIED:20170914T171109Z
UID:1390-1505721600-1505754000@beaverheadcountymt.gov
SUMMARY:Commissioners Meeting
DESCRIPTION:You can view the agenda for this meeting here.
URL:https://beaverheadcountymt.gov/event/commissioners-meeting-20/
LOCATION:MT
END:VEVENT
BEGIN:VEVENT
DTSTART;VALUE=DATE:20170916
DTEND;VALUE=DATE:20170917
DTSTAMP:20260425T081647
CREATED:20170512T211318Z
LAST-MODIFIED:20170512T211429Z
UID:935-1505520000-1505606399@beaverheadcountymt.gov
SUMMARY:Wise River Cooperative Weed Day
DESCRIPTION:Community noxious weed spray day in Wise River\, MT.  Meet at the Wise River fire hall at 8:00 am.
URL:https://beaverheadcountymt.gov/event/wise-river-cooperative-weed-day-2/
LOCATION:MT
END:VEVENT
BEGIN:VEVENT
DTSTART;TZID=America/Denver:20170914T130000
DTEND;TZID=America/Denver:20170914T130000
DTSTAMP:20260425T081647
CREATED:20170426T155008Z
LAST-MODIFIED:20170426T155008Z
UID:747-1505394000-1505394000@beaverheadcountymt.gov
SUMMARY:Planning Board Meeting
DESCRIPTION:
URL:https://beaverheadcountymt.gov/event/planning-board-meeting-5/
LOCATION:Law Enforcement Multi-Purpose Room\, Tendoy St\, Dillon\, MT\, 59725\, United States
END:VEVENT
BEGIN:VEVENT
DTSTART;TZID=America/Denver:20170911T110000
DTEND;TZID=America/Denver:20170911T110000
DTSTAMP:20260425T081647
CREATED:20170426T154921Z
LAST-MODIFIED:20170426T154921Z
UID:745-1505127600-1505127600@beaverheadcountymt.gov
SUMMARY:Drought Task Force Meeting
DESCRIPTION:
URL:https://beaverheadcountymt.gov/event/drought-task-force-meeting/
LOCATION:Commissioners’ Meeting Room\, 2 S. Pacific St\, Dillon\, MT\, 59725\, United States
END:VEVENT
BEGIN:VEVENT
DTSTART;TZID=America/Denver:20170911T080000
DTEND;TZID=America/Denver:20170911T170000
DTSTAMP:20260425T081647
CREATED:20170822T202205Z
LAST-MODIFIED:20170822T202205Z
UID:1388-1505116800-1505149200@beaverheadcountymt.gov
SUMMARY:Commissioners Meeting
DESCRIPTION:
URL:https://beaverheadcountymt.gov/event/commissioners-meeting-19/
LOCATION:MT
END:VEVENT
BEGIN:VEVENT
DTSTART;TZID=America/Denver:20170908T120000
DTEND;TZID=America/Denver:20170908T120000
DTSTAMP:20260425T081647
CREATED:20170426T154841Z
LAST-MODIFIED:20170426T154841Z
UID:743-1504872000-1504872000@beaverheadcountymt.gov
SUMMARY:Mental Health Local Advisory Council
DESCRIPTION:
URL:https://beaverheadcountymt.gov/event/mental-health-local-advisory-council-2/
LOCATION:Law Enforcement Multi-Purpose Room\, Tendoy St\, Dillon\, MT\, 59725\, United States
END:VEVENT
BEGIN:VEVENT
DTSTART;TZID=America/Denver:20170905T080000
DTEND;TZID=America/Denver:20170905T170000
DTSTAMP:20260425T081647
CREATED:20170822T204222Z
LAST-MODIFIED:20170822T204222Z
UID:1421-1504598400-1504630800@beaverheadcountymt.gov
SUMMARY:Commissioners Meeting
DESCRIPTION:
URL:https://beaverheadcountymt.gov/event/commissioners-meeting-34/
LOCATION:MT
END:VEVENT
BEGIN:VEVENT
DTSTART;TZID=America/Denver:20170904T100000
DTEND;TZID=America/Denver:20170904T100000
DTSTAMP:20260425T081647
CREATED:20170426T154806Z
LAST-MODIFIED:20170426T154806Z
UID:740-1504519200-1504519200@beaverheadcountymt.gov
SUMMARY:Labor Day Parade
DESCRIPTION:
URL:https://beaverheadcountymt.gov/event/labor-day-parade/
LOCATION:Downtown
END:VEVENT
BEGIN:VEVENT
DTSTART;TZID=America/Denver:20170904T080000
DTEND;TZID=America/Denver:20170904T170000
DTSTAMP:20260425T081647
CREATED:20170822T202151Z
LAST-MODIFIED:20170822T204319Z
UID:1386-1504512000-1504544400@beaverheadcountymt.gov
SUMMARY:Commissioners Meeting
DESCRIPTION:There will be no commissioners meeting today in observance of Labor Day. A commissioners meeting will take place tomorrow\, September 5th\, 2017.
URL:https://beaverheadcountymt.gov/event/commissioners-meeting-18/
LOCATION:MT
END:VEVENT
BEGIN:VEVENT
DTSTART;VALUE=DATE:20170904
DTEND;VALUE=DATE:20170905
DTSTAMP:20260425T081647
CREATED:20170426T154725Z
LAST-MODIFIED:20170426T154725Z
UID:738-1504483200-1504569599@beaverheadcountymt.gov
SUMMARY:COURTHOUSE CLOSED - Labor Day
DESCRIPTION:
URL:https://beaverheadcountymt.gov/event/courthouse-closed-labor-day/
LOCATION:MT
END:VEVENT
BEGIN:VEVENT
DTSTART;VALUE=DATE:20170904
DTEND;VALUE=DATE:20170905
DTSTAMP:20260425T081647
CREATED:20170426T154659Z
LAST-MODIFIED:20170426T154659Z
UID:736-1504483200-1504569599@beaverheadcountymt.gov
SUMMARY:County Fair Ends
DESCRIPTION:
URL:https://beaverheadcountymt.gov/event/county-fair-ends/
LOCATION:Fairgrounds
END:VEVENT
BEGIN:VEVENT
DTSTART;VALUE=DATE:20170830
DTEND;VALUE=DATE:20170831
DTSTAMP:20260425T081647
CREATED:20170426T154625Z
LAST-MODIFIED:20170426T154625Z
UID:733-1504051200-1504137599@beaverheadcountymt.gov
SUMMARY:County Fair Begins
DESCRIPTION:
URL:https://beaverheadcountymt.gov/event/county-fair-begins/
LOCATION:Fairgrounds
END:VEVENT
BEGIN:VEVENT
DTSTART;TZID=America/Denver:20170828T080000
DTEND;TZID=America/Denver:20170828T170000
DTSTAMP:20260425T081647
CREATED:20170822T202127Z
LAST-MODIFIED:20170822T202127Z
UID:1384-1503907200-1503939600@beaverheadcountymt.gov
SUMMARY:Commissioners Meeting
DESCRIPTION:
URL:https://beaverheadcountymt.gov/event/commissioners-meeting-17/
LOCATION:Commissioners’ Meeting Room\, 2 S. Pacific St\, Dillon\, MT\, 59725\, United States
END:VEVENT
BEGIN:VEVENT
DTSTART;TZID=America/Denver:20170821T080000
DTEND;TZID=America/Denver:20170821T170000
DTSTAMP:20260425T081647
CREATED:20170817T153317Z
LAST-MODIFIED:20170817T153317Z
UID:1363-1503302400-1503334800@beaverheadcountymt.gov
SUMMARY:Commissioners Meeting
DESCRIPTION:The agenda for this meeting is available here.
URL:https://beaverheadcountymt.gov/event/commissioners-meeting-16/
LOCATION:MT
END:VEVENT
BEGIN:VEVENT
DTSTART;VALUE=DATE:20170815
DTEND;VALUE=DATE:20170816
DTSTAMP:20260425T081647
CREATED:20170512T211135Z
LAST-MODIFIED:20170512T211135Z
UID:933-1502755200-1502841599@beaverheadcountymt.gov
SUMMARY:Widsom Cooperative Weed Day
DESCRIPTION:Community noxious weed spray day in Wisdom\, MT.  meet at the County Road Shop at 8:00 am.
URL:https://beaverheadcountymt.gov/event/widsom-cooperative-weed-day/
LOCATION:MT
END:VEVENT
BEGIN:VEVENT
DTSTART;TZID=America/Denver:20170814T193000
DTEND;TZID=America/Denver:20170814T193000
DTSTAMP:20260425T081647
CREATED:20170426T154542Z
LAST-MODIFIED:20170426T154542Z
UID:731-1502739000-1502739000@beaverheadcountymt.gov
SUMMARY:4H Council
DESCRIPTION:
URL:https://beaverheadcountymt.gov/event/4h-council-4/
LOCATION:Law Enforcement Multi-Purpose Room\, Tendoy St\, Dillon\, MT\, 59725\, United States
END:VEVENT
BEGIN:VEVENT
DTSTART;TZID=America/Denver:20170814T110000
DTEND;TZID=America/Denver:20170814T110000
DTSTAMP:20260425T081647
CREATED:20170426T154453Z
LAST-MODIFIED:20170426T154453Z
UID:729-1502708400-1502708400@beaverheadcountymt.gov
SUMMARY:Drought Task Force
DESCRIPTION:
URL:https://beaverheadcountymt.gov/event/drought-task-force-4/
LOCATION:Commissioners’ Meeting Room\, 2 S. Pacific St\, Dillon\, MT\, 59725\, United States
END:VEVENT
BEGIN:VEVENT
DTSTART;TZID=America/Denver:20170814T080000
DTEND;TZID=America/Denver:20170814T170000
DTSTAMP:20260425T081647
CREATED:20170814T204737Z
LAST-MODIFIED:20170822T201825Z
UID:1356-1502697600-1502730000@beaverheadcountymt.gov
SUMMARY:Commissioners Meeting
DESCRIPTION:The agenda for this meeting is available here. \nThe minutes from this meeting are available here.
URL:https://beaverheadcountymt.gov/event/commissioners-meeting-15/
LOCATION:MT
END:VEVENT
END:VCALENDAR