BEGIN:VCALENDAR
VERSION:2.0
PRODID:-//Beaverhead County - ECPv6.15.20//NONSGML v1.0//EN
CALSCALE:GREGORIAN
METHOD:PUBLISH
X-WR-CALNAME:Beaverhead County
X-ORIGINAL-URL:https://beaverheadcountymt.gov
X-WR-CALDESC:Events for Beaverhead County
REFRESH-INTERVAL;VALUE=DURATION:PT1H
X-Robots-Tag:noindex
X-PUBLISHED-TTL:PT1H
BEGIN:VTIMEZONE
TZID:America/Denver
BEGIN:DAYLIGHT
TZOFFSETFROM:-0700
TZOFFSETTO:-0600
TZNAME:MDT
DTSTART:20200308T090000
END:DAYLIGHT
BEGIN:STANDARD
TZOFFSETFROM:-0600
TZOFFSETTO:-0700
TZNAME:MST
DTSTART:20201101T080000
END:STANDARD
BEGIN:DAYLIGHT
TZOFFSETFROM:-0700
TZOFFSETTO:-0600
TZNAME:MDT
DTSTART:20210314T090000
END:DAYLIGHT
BEGIN:STANDARD
TZOFFSETFROM:-0600
TZOFFSETTO:-0700
TZNAME:MST
DTSTART:20211107T080000
END:STANDARD
BEGIN:DAYLIGHT
TZOFFSETFROM:-0700
TZOFFSETTO:-0600
TZNAME:MDT
DTSTART:20220313T090000
END:DAYLIGHT
BEGIN:STANDARD
TZOFFSETFROM:-0600
TZOFFSETTO:-0700
TZNAME:MST
DTSTART:20221106T080000
END:STANDARD
END:VTIMEZONE
BEGIN:VEVENT
DTSTART;TZID=America/Denver:20210907T090000
DTEND;TZID=America/Denver:20210907T170000
DTSTAMP:20260423T074017
CREATED:20210902T175143Z
LAST-MODIFIED:20210902T175503Z
UID:7321-1631005200-1631034000@beaverheadcountymt.gov
SUMMARY:Beaverhead County Commissioners' Meeting
DESCRIPTION:AGENDA \n\n9:00 A.M.\nUpdates on County Projects\nPublic Comment\nAction on Previous Meeting Minutes\nPublic Comment\nPublic Comments on Subjects Under County Jurisdiction Not on Agenda \n\n9:15 A.M.\nCHAMBER OF COMMERCE UPDATE \n\nRecess Commission Meeting for Public Hearing \n\n9:30 A.M.\nPublic Hearing – Beaverhead County Preliminary Budget for Fiscal Year 2021-22\nPublic Comment \n\nAdjourn Hearing\, Reconvene Commission Meeting \n\n11:00 A.M.\nUnfinished Business / Other Topics of Discussion\nPublic Comment \n\n12:00P.M.\nNoon Recess \n\n1:30 P.M.\nReview & Action on School Budgets – County Superintendent of Schools Mike Miller\nPublic Comment \n\n2:00 P.M.\nAction ~ Resolution 2021-24 – Adopt Final Budget Fiscal Year 2021-22\nPublic Comment\nAction ~ Resolution 2021-25 – Setting Elected Officials’ Salaries\nPublic Comment\nAction ~ Resolution 2021-26 – Reallocating a One Half of One Percent Vehicle Tax\nPublic Comment\nAction ~ PILT Distribution Fiscal Year 2021-22\nPublic Comment\nAction ~ Entitlement Share Distribution Fiscal Year 2021-22\nPublic Comment\nAction ~ Resolution 2021-27 – Setting Mill Levies for Fiscal Year 2021-22\nPublic Comment \n\n3:00 P.M.\nPayment of Invoices\nPublic Comment \n\n5:00 P.M.\nADJOURN
URL:https://beaverheadcountymt.gov/event/beaverhead-county-commissioners-meeting-40/
LOCATION:Commissioners’ Meeting Room\, 2 S. Pacific St\, Dillon\, MT\, 59725\, United States
END:VEVENT
BEGIN:VEVENT
DTSTART;TZID=America/Denver:20210907T180000
DTEND;TZID=America/Denver:20210907T200000
DTSTAMP:20260423T074017
CREATED:20210902T180113Z
LAST-MODIFIED:20210902T180113Z
UID:7324-1631037600-1631044800@beaverheadcountymt.gov
SUMMARY:Beaverhead County Weed Board Meeting
DESCRIPTION:AGENDA \nPublic Comment: Items on the Agenda \nApproval of Minutes from August 10\, 2021 meeting \nFinancial Report \nNon-Compliance \nWeed Plan Review \nProposed Action: Approve\, Amend\, or Reject RTKC Ranch Major Subdivision Noxious Weed Management and Revegetation Plan \nCoordinator/Assistant Coordinator Report \nPublic Comment: Items not on the Agenda \nAdjourn
URL:https://beaverheadcountymt.gov/event/beaverhead-county-weed-board-meeting-6/
LOCATION:Commissioners’ Meeting Room\, 2 S. Pacific St\, Dillon\, MT\, 59725\, United States
END:VEVENT
BEGIN:VEVENT
DTSTART;TZID=America/Denver:20210913T090000
DTEND;TZID=America/Denver:20210913T150000
DTSTAMP:20260423T074017
CREATED:20210909T184634Z
LAST-MODIFIED:20210909T184634Z
UID:7339-1631523600-1631545200@beaverheadcountymt.gov
SUMMARY:Beaverhead County Commissioners' Meeting
DESCRIPTION:AGENDA \n\n9:00 A.M.\nUpdates on County Projects\nPublic Comment\nAction on Previous Meeting Minutes\nPublic Comment\nPublic Comments on Subjects Under County Jurisdiction Not on Agenda \n\n9:30 A.M.\nDiscussion & Action ~ Final Plat Approval Nissen Lane Minor Subdivision\nPublic Comment \n\n10:00 A.M.\nDiscussion & Action ~ Request for Qualification (RFQ) for On Call Engineering\nPublic Comment \n\n11:00 A.M.\nDrought Task Force\nPublic Comment \n\n12:00 P.M.\nNoon Recess \n\n1:30 P.M.\nDiscussion & Action ~ Cell Tower Application & Approval\nPublic Comment \n\n2:00 P.M.\nDiscussion ~ Be the Change 406 Coalition Drug Free Community Grant – Fiscal Agent Options\nPublic Comment \n\n2:30 P.M.\nPayment of Invoices\nPublic Comment \n\n3:00 P.M.\nAdjourn
URL:https://beaverheadcountymt.gov/event/beaverhead-county-commissioners-meeting-41/
LOCATION:Commissioners’ Meeting Room\, 2 S. Pacific St\, Dillon\, MT\, 59725\, United States
END:VEVENT
BEGIN:VEVENT
DTSTART;TZID=America/Denver:20210913T150000
DTEND;TZID=America/Denver:20210913T160000
DTSTAMP:20260423T074017
CREATED:20210909T184802Z
LAST-MODIFIED:20210909T184802Z
UID:7341-1631545200-1631548800@beaverheadcountymt.gov
SUMMARY:Beaverhead County Solid Waste Board Meeting
DESCRIPTION:3:00 P.M.\nPublic Comment
URL:https://beaverheadcountymt.gov/event/beaverhead-county-solid-waste-board-meeting/
LOCATION:Commissioners’ Meeting Room\, 2 S. Pacific St\, Dillon\, MT\, 59725\, United States
END:VEVENT
BEGIN:VEVENT
DTSTART;TZID=America/Denver:20210914T103000
DTEND;TZID=America/Denver:20210914T120000
DTSTAMP:20260423T074017
CREATED:20210910T184028Z
LAST-MODIFIED:20210910T184028Z
UID:7344-1631615400-1631620800@beaverheadcountymt.gov
SUMMARY:Beaverhead County Special Commissioners' Meeting
DESCRIPTION:AGENDA \n\n10:30 A.M.\nDiscussion & Action ~ Pre-Construction Meeting with Great West Engineering Regarding Rock Creek Bridges Project\nPublic Comment \n\n12:00 P.M.\nADJOURN
URL:https://beaverheadcountymt.gov/event/beaverhead-county-special-commissioners-meeting/
LOCATION:Commissioners’ Meeting Room\, 2 S. Pacific St\, Dillon\, MT\, 59725\, United States
END:VEVENT
BEGIN:VEVENT
DTSTART;TZID=America/Denver:20210914T190000
DTEND;TZID=America/Denver:20210914T210000
DTSTAMP:20260423T074017
CREATED:20210913T154439Z
LAST-MODIFIED:20210913T154439Z
UID:7355-1631646000-1631653200@beaverheadcountymt.gov
SUMMARY:Beaverhead County Fair Board Meeting
DESCRIPTION:Agenda \n\nCall to order \nIntroduction of guests \nFinancial report \nOld Business \n1. Fair \nA. Ex. Director Report \nB. Fair Manager Report \nC. Board Member Reports \nNew Business \n1. Fall event schedule \n2. Fall projects \nCorrespondence \nAdjournment
URL:https://beaverheadcountymt.gov/event/beaverhead-county-fair-board-meeting-4/
LOCATION:Commissioners’ Meeting Room\, 2 S. Pacific St\, Dillon\, MT\, 59725\, United States
ORGANIZER;CN="Keeley Fitzgerald":MAILTO:keeleyfitz@hotmail.com
END:VEVENT
BEGIN:VEVENT
DTSTART;TZID=America/Denver:20210916T110000
DTEND;TZID=America/Denver:20210916T150000
DTSTAMP:20260423T074017
CREATED:20210907T214833Z
LAST-MODIFIED:20210907T214833Z
UID:7337-1631790000-1631804400@beaverheadcountymt.gov
SUMMARY:Beaverhead County Planning Board Meeting
DESCRIPTION:AGENDA\n**All times are approximate** \n\n11:00 A.M.\nField Trip to RTKC Major Sub. \n\n12:00 P.M.\nLunch \n\n1:00 P.M.\nMinutes and Reports\n• Minutes of August 12th regular meeting\n• Planning Board Member Reports\n• Planner’s Report\n• Public Comments & Questions \n\n1:30 P.M.\nRTKC Ranch Major Subdivision\n• Discussion and Action on the preliminary plat\n• Public Comments and Questions \n\n2:15 P.M.\nDiscussion on County Growth Policy – Preliminary Draft \n\n3:00 P.M.\nPublic Comments & Questions of Non-Agenda Items \n\nAdjourn
URL:https://beaverheadcountymt.gov/event/beaverhead-county-planning-board-meeting-4/
LOCATION:Commissioners’ Meeting Room\, 2 S. Pacific St\, Dillon\, MT\, 59725\, United States
ORGANIZER;CN="Rochelle Hoerning":MAILTO:rhoerning@beaverheadcountymt.gov
END:VEVENT
BEGIN:VEVENT
DTSTART;TZID=America/Denver:20210920T090000
DTEND;TZID=America/Denver:20210920T170000
DTSTAMP:20260423T074017
CREATED:20210923T213753Z
LAST-MODIFIED:20210923T213753Z
UID:7397-1632128400-1632157200@beaverheadcountymt.gov
SUMMARY:Beaverhead County Commissioners' Meeting
DESCRIPTION:AGENDA \n\n9:00 A.M.\nUpdates on County Projects\nPublic Comment\nAction on Previous Meeting Minutes\nPublic Comment\nPublic Comments on Subjects Under County Jurisdiction Not on Agenda \n\n10:00 A.M.\nDiscussion & Action ~ Appointing Examining Land Surveyor & Certificate of Survey Review Committee\nDiscussion & Action ~ Resolution 2021-29 – Adopt a Process for Reviewing Exemptions from Subdivision Review\nPublic Comment \n\n11:00 A.M.\nUnfinished Business / Other Topics of Discussion\nPublic Comment \n\n12:00P.M.\nNoon Recess \n\n1:30 P.M.\nUnfinished Business / Other Topics of Discussion\nPublic Comment \n\n3:00 P.M.\nPayment of Invoices\nPublic Comment \n\n5:00 P.M.\nAdjourn
URL:https://beaverheadcountymt.gov/event/beaverhead-county-commissioners-meeting-42/
LOCATION:Commissioners’ Meeting Room\, 2 S. Pacific St\, Dillon\, MT\, 59725\, United States
END:VEVENT
BEGIN:VEVENT
DTSTART;TZID=America/Denver:20210922T170000
DTEND;TZID=America/Denver:20210922T190000
DTSTAMP:20260423T074017
CREATED:20210923T214314Z
LAST-MODIFIED:20210923T214314Z
UID:7400-1632330000-1632337200@beaverheadcountymt.gov
SUMMARY:Beaverhead County Museum Board of Trustees Meeting
DESCRIPTION:Agenda \n1. Introduction of Guests: \n2. Approval of consent agenda: \nTrustees (7): John Breen\, John Garry\, Lee Graves\, Aggie Helle\, Donna Jones\, Lorraine King\, Neal Straus \na. Director\, Present: Candi Whitworth \n3. Trustees Excused Absent: \n4. Treasurer’s Report: \na. Neal Straus \n5. Association Report: \na. Dale Giem \n6. Old Business: \na. Labor Day Weekend \nb. Flagpole \nc. Indigenous Peoples Exhibit – Ron Loge \nd. Monument equipment update – John Breen \n7. New Business: \na. Report from events/exhibit committee – Donna Jones \nb. Security at the depot \nc. Museum closing date \n8. Director’s Report: Season update\, research\, facilities\, pipe breakage at museum\, \n9. Other Business: \n10. Public Discussion: \nPublic comment on items of significant public interest not on the agenda and within the jurisdiction of the Beaverhead County Museum Board of Trustees. \n11. Set date of the next meeting: Wednesday October 20\, 2021 @5pm Depot Theatre \n12. Adjournment:
URL:https://beaverheadcountymt.gov/event/beaverhead-county-museum-board-of-trustees-meeting-10/
LOCATION:Depot Theater\, 125 S. Montana St\, Dillon\, MT\, 59725\, United States
ORGANIZER;CN="Candi Whitworth":MAILTO:bvhdmuseum@hotmail.com
END:VEVENT
BEGIN:VEVENT
DTSTART;TZID=America/Denver:20210924T100000
DTEND;TZID=America/Denver:20210924T110000
DTSTAMP:20260423T074017
CREATED:20210923T214917Z
LAST-MODIFIED:20210923T214917Z
UID:7404-1632477600-1632481200@beaverheadcountymt.gov
SUMMARY:Beaverhead Ambulance Services Special District
DESCRIPTION:AGENDA \nA. Call to Order \nB. Review and approve minutes of July 8\, 2021 meeting. \nC. Announcements \nD. Old Business \na. Review and discuss draft By-laws. \nb. Discuss requesting tax exempt entities to assist paying fees \nc. Report on ambulance progress on employee and manager job descriptions and hiring \nE. New Business \na. – \nb. – \nF. Public Comment – Public comment on items of significant public interest\, not on the Agenda and within the jurisdiction of the Beaverhead Ambulance Services Special District Board.
URL:https://beaverheadcountymt.gov/event/beaverhead-ambulance-services-special-district-2/
LOCATION:Commissioners’ Meeting Room\, 2 S. Pacific St\, Dillon\, MT\, 59725\, United States
ORGANIZER;CN="Jean Bergeson":MAILTO:jbergeson@swmtlaw.com
END:VEVENT
BEGIN:VEVENT
DTSTART;TZID=America/Denver:20210927T090000
DTEND;TZID=America/Denver:20210927T170000
DTSTAMP:20260423T074017
CREATED:20210923T214601Z
LAST-MODIFIED:20210923T214601Z
UID:7402-1632733200-1632762000@beaverheadcountymt.gov
SUMMARY:Beaverhead County Commissioners' Meeting
DESCRIPTION:THE BEAVERHEAD COUNTY COMMISSIONERS WILL NOT MEET ON \nMONDAY\, SEPTEMBER 27\, 2021 \nDUE TO THE ANNUAL MACo (Montana Association of Counties) CONFERENCE IN KALISPELL \nThe Agenda can be viewed on their website: www.mtcounties.org \nThe next Commission Meeting will be held on MONDAY\, OCTOBER 4\, 2021 in the Commissioners’ Room of the Beaverhead County Courthouse
URL:https://beaverheadcountymt.gov/event/beaverhead-county-commissioners-meeting-43/
LOCATION:Commissioners’ Meeting Room\, 2 S. Pacific St\, Dillon\, MT\, 59725\, United States
END:VEVENT
END:VCALENDAR