BEGIN:VCALENDAR
VERSION:2.0
PRODID:-//Beaverhead County - ECPv6.15.20//NONSGML v1.0//EN
CALSCALE:GREGORIAN
METHOD:PUBLISH
X-WR-CALNAME:Beaverhead County
X-ORIGINAL-URL:https://beaverheadcountymt.gov
X-WR-CALDESC:Events for Beaverhead County
REFRESH-INTERVAL;VALUE=DURATION:PT1H
X-Robots-Tag:noindex
X-PUBLISHED-TTL:PT1H
BEGIN:VTIMEZONE
TZID:America/Denver
BEGIN:DAYLIGHT
TZOFFSETFROM:-0700
TZOFFSETTO:-0600
TZNAME:MDT
DTSTART:20200308T090000
END:DAYLIGHT
BEGIN:STANDARD
TZOFFSETFROM:-0600
TZOFFSETTO:-0700
TZNAME:MST
DTSTART:20201101T080000
END:STANDARD
BEGIN:DAYLIGHT
TZOFFSETFROM:-0700
TZOFFSETTO:-0600
TZNAME:MDT
DTSTART:20210314T090000
END:DAYLIGHT
BEGIN:STANDARD
TZOFFSETFROM:-0600
TZOFFSETTO:-0700
TZNAME:MST
DTSTART:20211107T080000
END:STANDARD
BEGIN:DAYLIGHT
TZOFFSETFROM:-0700
TZOFFSETTO:-0600
TZNAME:MDT
DTSTART:20220313T090000
END:DAYLIGHT
BEGIN:STANDARD
TZOFFSETFROM:-0600
TZOFFSETTO:-0700
TZNAME:MST
DTSTART:20221106T080000
END:STANDARD
END:VTIMEZONE
BEGIN:VEVENT
DTSTART;TZID=America/Denver:20211206T080000
DTEND;TZID=America/Denver:20211206T170000
DTSTAMP:20260423T060350
CREATED:20211202T195512Z
LAST-MODIFIED:20211203T160735Z
UID:7643-1638777600-1638810000@beaverheadcountymt.gov
SUMMARY:Beaverhead County Commissioners' Meeting
DESCRIPTION:No meeting for December 6\, 2021.
URL:https://beaverheadcountymt.gov/event/beaverhead-county-commissioners-meeting-cancelled/
LOCATION:MT
CATEGORIES:Meeting
END:VEVENT
BEGIN:VEVENT
DTSTART;TZID=America/Denver:20211207T190000
DTEND;TZID=America/Denver:20211207T200000
DTSTAMP:20260423T060350
CREATED:20211203T160504Z
LAST-MODIFIED:20211203T160504Z
UID:7651-1638903600-1638907200@beaverheadcountymt.gov
SUMMARY:Beaverhead County Fair Board
DESCRIPTION:Special Meeting Agenda \n\nCall to Order \nIntroduction of Guests \nAmendments or Changes to the Agenda \nSpecial Business \nA. Water \nAdjournment
URL:https://beaverheadcountymt.gov/event/beaverhead-county-fair-board-2/
LOCATION:Commissioners’ Meeting Room\, 2 S. Pacific St\, Dillon\, MT\, 59725\, United States
CATEGORIES:Meeting
ORGANIZER;CN="Keeley Fitzgerald":MAILTO:keeleyfitz@hotmail.com
END:VEVENT
BEGIN:VEVENT
DTSTART;TZID=America/Denver:20211208T110000
DTEND;TZID=America/Denver:20211208T120000
DTSTAMP:20260423T060350
CREATED:20211202T214045Z
LAST-MODIFIED:20211202T214045Z
UID:7645-1638961200-1638964800@beaverheadcountymt.gov
SUMMARY:Fox Run Special District Meeting
DESCRIPTION:1. Call Meeting to Order \n2. Secretary’s Report/ Mary Rouse \na. Approve Minutes from May 12\, 2021 \n3. Old Business \na. Cornell Bid Review/ Update \n4. New Business \na. Referendum Review \n– Board Discussion \n– Public Comment \n5. Other Items for Discussion \na. Board Openings/ May 2022 \nb. ?? \n6. Public Comment \nNext Meeting: January 12\, 2022
URL:https://beaverheadcountymt.gov/event/fox-run-special-district-meeting-7/
LOCATION:Tom Welch Room\, 102 N Washington St\, Dillon\, MT\, 59725\, United States
END:VEVENT
BEGIN:VEVENT
DTSTART;TZID=America/Denver:20211210T100000
DTEND;TZID=America/Denver:20211210T110000
DTSTAMP:20260423T060350
CREATED:20211209T222728Z
LAST-MODIFIED:20211209T222728Z
UID:7681-1639130400-1639134000@beaverheadcountymt.gov
SUMMARY:Beaverhead Ambulance Services Special District
DESCRIPTION:AGENDA \nA. Call to Order \nB. Reading of minutes of previous meeting. \nC. Announcements \nD. Old Business \na. Review and adopt by-laws \nE. New Business \na. Date\, time and location of next meeting \nF. Public Comment – Public comment on items of significant public interest\, not on the Agenda and within the jurisdiction of the Beaverhead Ambulance Services Special District Board.
URL:https://beaverheadcountymt.gov/event/beaverhead-ambulance-services-special-district-4/
LOCATION:Commissioners’ Meeting Room\, 2 S. Pacific St\, Dillon\, MT\, 59725\, United States
CATEGORIES:Meeting
ORGANIZER;CN="Jean Bergeson":MAILTO:jbergeson@swmtlaw.com
END:VEVENT
BEGIN:VEVENT
DTSTART;TZID=America/Denver:20211213T090000
DTEND;TZID=America/Denver:20211213T150000
DTSTAMP:20260423T060350
CREATED:20211209T222000Z
LAST-MODIFIED:20211209T222000Z
UID:7678-1639386000-1639407600@beaverheadcountymt.gov
SUMMARY:Beaverhead County Commissioners' Meeting
DESCRIPTION:AGENDA \n\n9:00 A.M.\nUpdates on County Projects\nPublic Comment\nAction on Previous Meeting Minutes\nPublic Comment\nPublic Comments on Subjects Under County Jurisdiction Not on Agenda \n\n9:30 A.M.\nDiscussion & Action ~ Should County Join Statewide Opioid Settlement Agreement\nDiscussion & Action ~ Resolution 2021-30 – Reassignment of Cases for Prosecutorial Assistance\nDiscussion & Action ~ Review Letter from Sweetwater Estates HOA\nDiscussion ~ Requested Modification of Speed Limit Ordinance\nDiscussion & Action ~ Easement Boundary of Ten Mile Road in Vicinity of Proposed Solar Farms\nDiscussion ~ Report on Finalization of Easement Agreement near Fire Station in Wisdom\nDiscussion ~ Report on Easement Extinguishment Process Concerning Telecommunications Site in Centennial Valley\nPublic Comment \n\n11:00 A.M.\nDiscussion ~ Combining Precinct 8 with Central Election – Closing Grant Polling Place\nPublic Comment \n\n12:00 P.M.\nNoon Recess \n\n1:30 P.M.\nDiscussion & Action ~ New Fee Schedule for Sheriff’s Department\nPublic Comment \n\n2:00 P.M.\nTyler Caron ~ Present Eagle Project\nPublic Comment \n\n2:45 P.M.\nPayment of Invoices\nPublic Comment \n\n3:00 P.M.\nAdjourn for Solid Waste Board Meeting
URL:https://beaverheadcountymt.gov/event/beaverhead-county-commissioners-meeting-53/
LOCATION:Commissioners’ Meeting Room\, 2 S. Pacific St\, Dillon\, MT\, 59725\, United States
CATEGORIES:Meeting
END:VEVENT
BEGIN:VEVENT
DTSTART;TZID=America/Denver:20211215T170000
DTEND;TZID=America/Denver:20211215T190000
DTSTAMP:20260423T060350
CREATED:20211210T193342Z
LAST-MODIFIED:20211210T193342Z
UID:7685-1639587600-1639594800@beaverheadcountymt.gov
SUMMARY:Beaverhead County Museum Board of Trustees Meeting
DESCRIPTION:Agenda \n1. Introduction of Guests: \n2. Approval of consent agenda & minutes: \nTrustees (7): John Breen\, John Garry\, Lee Graves\, Aggie Helle\, Donna Jones\, Lorraine King\, Neal Straus \na. Director\, Present: Candi Whitworth \n3. Trustees Excused Absent: Aggie Helle \n4. Treasurer’s Report: \na. Neal Straus \n5. Association Report: \na. Dale Giem \n6. Old Business: \na. Blinds for Office & Research Room \nb. Safety Deposit Box Update \nc. Holiday Stroll & Exhibits \nd. Picnic Tables \n7. New Business: \na. Furnace \nb. Winter Office Hours \n8. Director’s Report: Candi Whitworth \n9. Other Business: \n10. Public Discussion: \nPublic comment on items of significant public interest not on the agenda and within the jurisdiction of the Beaverhead County Museum Board of Trustees. \n11. Set date of the next meeting: Wednesday January 19\, 2022 \n12. Adjournment:
URL:https://beaverheadcountymt.gov/event/beaverhead-county-museum-board-of-trustees-meeting-12/
LOCATION:Donna Jones\, 1131 E Center St\, Dillon\, MT\, 59725\, United States
CATEGORIES:Meeting
ORGANIZER;CN="Candi Whitworth":MAILTO:bvhdmuseum@hotmail.com
END:VEVENT
BEGIN:VEVENT
DTSTART;TZID=America/Denver:20211220T090000
DTEND;TZID=America/Denver:20211220T170000
DTSTAMP:20260423T060350
CREATED:20211216T213426Z
LAST-MODIFIED:20211216T213426Z
UID:7695-1639990800-1640019600@beaverheadcountymt.gov
SUMMARY:Beaverhead County Commissioners’ Meeting
DESCRIPTION:AGENDA \n\n9:00 A.M.\nUpdates on County Projects\nPublic Comment\nAction on Previous Meeting Minutes\nPublic Comment\nPublic Comments on Subjects Under County Jurisdiction Not on Agenda \n\n9:30 A.M.\nDiscussion & Action ~ New Fee Schedule for Sheriff’s Department\nPublic Comment \n\n10:00 A.M.\nDiscussion ~ Air Grids Fiber Optic\nPublic Comment \n\n11:00 A.M.\nDiscussion ~ FDA Voluntary National Retail Standards Program\nPublic Comment \n\n12:00 P.M.\nNoon Recess \n\n1:30 P.M.\nSafety & Wellness Team Meeting\nPublic Comment \n\n4:00 P.M.\nPayment of Invoices\nPublic Comment \n\n5:00 P.M.\nAdjourn
URL:https://beaverheadcountymt.gov/event/beaverhead-county-commissioners-meeting-54/
LOCATION:Commissioners’ Meeting Room\, 2 S. Pacific St\, Dillon\, MT\, 59725\, United States
CATEGORIES:Meeting
END:VEVENT
BEGIN:VEVENT
DTSTART;TZID=America/Denver:20211227T090000
DTEND;TZID=America/Denver:20211227T170000
DTSTAMP:20260423T060350
CREATED:20211223T163532Z
LAST-MODIFIED:20211223T163532Z
UID:7717-1640595600-1640624400@beaverheadcountymt.gov
SUMMARY:Beaverhead County Commissioners' Meeting
DESCRIPTION:AGENDA \n\n9:00 A.M.\nUpdates on County Projects\nPublic Comment\nAction on Previous Meeting Minutes\nPublic Comment\nPublic Comments on Subjects Under County Jurisdiction Not on Agenda \n\n9:30 A.M.\nTreasurer’s Report\nPublic Comment \n\n10:00 A.M.\nAppointments to Various County Boards\nPublic Comment \n\n10:30 A.M.\nDiscussion & Action ~ Boundary Relocation Within Platted Subdivision/Crystal Air\nPublic Comment \n\n12:00 P.M.\nNoon Recess \n\n1:30 P.M.\nUnfinished Business / Other Topics of Discussion\nPublic Comment \n\n4:00 P.M.\nPayment of Invoices\nPublic Comment \n\n5:00 P.M.\nAdjourn
URL:https://beaverheadcountymt.gov/event/beaverhead-county-commissioners-meeting-55/
LOCATION:Commissioners’ Meeting Room\, 2 S. Pacific St\, Dillon\, MT\, 59725\, United States
CATEGORIES:Meeting
END:VEVENT
END:VCALENDAR