BEGIN:VCALENDAR
VERSION:2.0
PRODID:-//Beaverhead County - ECPv6.15.20//NONSGML v1.0//EN
CALSCALE:GREGORIAN
METHOD:PUBLISH
X-WR-CALNAME:Beaverhead County
X-ORIGINAL-URL:https://beaverheadcountymt.gov
X-WR-CALDESC:Events for Beaverhead County
REFRESH-INTERVAL;VALUE=DURATION:PT1H
X-Robots-Tag:noindex
X-PUBLISHED-TTL:PT1H
BEGIN:VTIMEZONE
TZID:America/Denver
BEGIN:DAYLIGHT
TZOFFSETFROM:-0700
TZOFFSETTO:-0600
TZNAME:MDT
DTSTART:20240310T090000
END:DAYLIGHT
BEGIN:STANDARD
TZOFFSETFROM:-0600
TZOFFSETTO:-0700
TZNAME:MST
DTSTART:20241103T080000
END:STANDARD
BEGIN:DAYLIGHT
TZOFFSETFROM:-0700
TZOFFSETTO:-0600
TZNAME:MDT
DTSTART:20250309T090000
END:DAYLIGHT
BEGIN:STANDARD
TZOFFSETFROM:-0600
TZOFFSETTO:-0700
TZNAME:MST
DTSTART:20251102T080000
END:STANDARD
BEGIN:DAYLIGHT
TZOFFSETFROM:-0700
TZOFFSETTO:-0600
TZNAME:MDT
DTSTART:20260308T090000
END:DAYLIGHT
BEGIN:STANDARD
TZOFFSETFROM:-0600
TZOFFSETTO:-0700
TZNAME:MST
DTSTART:20261101T080000
END:STANDARD
END:VTIMEZONE
BEGIN:VEVENT
DTSTART;TZID=America/Denver:20250122T163000
DTEND;TZID=America/Denver:20250122T173000
DTSTAMP:20260423T140442
CREATED:20250116T223440Z
LAST-MODIFIED:20250116T224950Z
UID:16115-1737563400-1737567000@beaverheadcountymt.gov
SUMMARY:Beaverhead County Airport Board Meeting
DESCRIPTION:Introduce new board member\nEstablish a quorum\nAction on the previous meeting minutes – November 20\, 2024 meeting.\nFBO Transfer Papers (County Attorney\, Sky Jones)\nDiscuss Airport Manager\nDiscuss Notum Notices (ie Wisdom Airport closure for skijoring)\nDiscuss Annual Mechanics\nDiscuss DFS Plane for flying lessons\nDiscuss Fuel Flow\nDiscuss Pilot Log Books\nDiscuss Hangar/Land Leases ($ per square foot)\nDiscuss Insurance Certificates\nDiscuss User Donations (8 sent out)\nPublic Comment or New Business Not on Agenda\nAdjourn Meeting
URL:https://beaverheadcountymt.gov/event/beaverhead-county-airport-board-meeting-2/
LOCATION:Airport FBO\, 2400 Airport Rd\, Dillon\, MT\, 59725\, United States
CATEGORIES:Meeting
ORGANIZER;CN="Dana Basile":MAILTO:dbasile@beaverheadcountymt.gov
END:VEVENT
END:VCALENDAR