BEGIN:VCALENDAR
VERSION:2.0
PRODID:-//Beaverhead County - ECPv6.15.20//NONSGML v1.0//EN
CALSCALE:GREGORIAN
METHOD:PUBLISH
X-WR-CALNAME:Beaverhead County
X-ORIGINAL-URL:https://beaverheadcountymt.gov
X-WR-CALDESC:Events for Beaverhead County
REFRESH-INTERVAL;VALUE=DURATION:PT1H
X-Robots-Tag:noindex
X-PUBLISHED-TTL:PT1H
BEGIN:VTIMEZONE
TZID:America/Denver
BEGIN:DAYLIGHT
TZOFFSETFROM:-0700
TZOFFSETTO:-0600
TZNAME:MDT
DTSTART:20220313T090000
END:DAYLIGHT
BEGIN:STANDARD
TZOFFSETFROM:-0600
TZOFFSETTO:-0700
TZNAME:MST
DTSTART:20221106T080000
END:STANDARD
BEGIN:DAYLIGHT
TZOFFSETFROM:-0700
TZOFFSETTO:-0600
TZNAME:MDT
DTSTART:20230312T090000
END:DAYLIGHT
BEGIN:STANDARD
TZOFFSETFROM:-0600
TZOFFSETTO:-0700
TZNAME:MST
DTSTART:20231105T080000
END:STANDARD
BEGIN:DAYLIGHT
TZOFFSETFROM:-0700
TZOFFSETTO:-0600
TZNAME:MDT
DTSTART:20240310T090000
END:DAYLIGHT
BEGIN:STANDARD
TZOFFSETFROM:-0600
TZOFFSETTO:-0700
TZNAME:MST
DTSTART:20241103T080000
END:STANDARD
END:VTIMEZONE
BEGIN:VEVENT
DTSTART;TZID=America/Denver:20231020T090000
DTEND;TZID=America/Denver:20231020T103000
DTSTAMP:20260425T182311
CREATED:20231017T175836Z
LAST-MODIFIED:20231017T175836Z
UID:9968-1697792400-1697797800@beaverheadcountymt.gov
SUMMARY:Beaverhead County/City Board of Health Meeting
DESCRIPTION:Call meeting to order ~ Establish Quorum \n1. Public Health Update \n2. Vaccination updates \na. Off site clinics \n3. TTX for Foodborne Illness Summary \n4. Communication Protocol Summary \n5. Communicable Disease update \n6. NALBOH Conference report \n7. DES Update \na. Truck/Train wreck protocol review/signature \n8. Sanitarian Report \n9. Public Comment \nDISCUSSION and/or ACTION ITEMS \nA. Old Business Approval of June 30 202 3 Minutes \nB. Interlocal Agreement Final Approval \nC. Public Discussion/Comments on Subjects Under BOH Jurisdiction Not on Agenda \nD. New business \nE. Meeting Schedule Next meeting tentatively January 20 2023 at Barrett Hospital \nF. Adjourn the meeting
URL:https://beaverheadcountymt.gov/event/beaverhead-county-city-board-of-health-meeting-8/
LOCATION:Dillon City Hall\, 125 N Idaho St\, Dillon\, MT\, 59725\, United States
CATEGORIES:Meeting
END:VEVENT
END:VCALENDAR