BEGIN:VCALENDAR
VERSION:2.0
PRODID:-//Beaverhead County - ECPv6.15.20//NONSGML v1.0//EN
CALSCALE:GREGORIAN
METHOD:PUBLISH
X-ORIGINAL-URL:https://beaverheadcountymt.gov
X-WR-CALDESC:Events for Beaverhead County
REFRESH-INTERVAL;VALUE=DURATION:PT1H
X-Robots-Tag:noindex
X-PUBLISHED-TTL:PT1H
BEGIN:VTIMEZONE
TZID:America/Denver
BEGIN:DAYLIGHT
TZOFFSETFROM:-0700
TZOFFSETTO:-0600
TZNAME:MDT
DTSTART:20230312T090000
END:DAYLIGHT
BEGIN:STANDARD
TZOFFSETFROM:-0600
TZOFFSETTO:-0700
TZNAME:MST
DTSTART:20231105T080000
END:STANDARD
BEGIN:DAYLIGHT
TZOFFSETFROM:-0700
TZOFFSETTO:-0600
TZNAME:MDT
DTSTART:20240310T090000
END:DAYLIGHT
BEGIN:STANDARD
TZOFFSETFROM:-0600
TZOFFSETTO:-0700
TZNAME:MST
DTSTART:20241103T080000
END:STANDARD
BEGIN:DAYLIGHT
TZOFFSETFROM:-0700
TZOFFSETTO:-0600
TZNAME:MDT
DTSTART:20250309T090000
END:DAYLIGHT
BEGIN:STANDARD
TZOFFSETFROM:-0600
TZOFFSETTO:-0700
TZNAME:MST
DTSTART:20251102T080000
END:STANDARD
END:VTIMEZONE
BEGIN:VEVENT
DTSTART;TZID=America/Denver:20240119T090000
DTEND;TZID=America/Denver:20240119T100000
DTSTAMP:20260425T124558
CREATED:20240116T232401Z
LAST-MODIFIED:20240116T232401Z
UID:10265-1705654800-1705658400@beaverheadcountymt.gov
SUMMARY:Beaverhead County/City Board of Health Meeting
DESCRIPTION:Agenda \n\nCall meeting to order Establish Quorum \n1. Be the Change 406 Youth Coalition/Tobacco Prevention Specialist Erin Montgomery \na. Introduction of Be the Change 406 Project Coordinator – Brooke Hill \nb. Tobacco Prevention update \n2. P ublic Health Update \n3. DES Update \n4. Sanitarian Report\n5. Public Comment \nDiscussion and/or Action Items \nA. Old Business Approval of October 20 202 3 Minutes \nB. Interlocal Agreement Final Approval \nC. Public Discussion/Comments on Subjects Under BOH Jurisdiction Not on Agenda \nD. New business \nE. Meeting Schedule Next meeting tentatively April 19 2023 at B VHD County Co urthouse \nF. Adjourn the meeting
URL:https://beaverheadcountymt.gov/event/beaverhead-county-city-board-of-health-meeting-9/
LOCATION:Barrett Hospital Board Room\, 600 MT Hwy 91 S\, Dillon\, MT\, 59725\, United States
CATEGORIES:Meeting
END:VEVENT
END:VCALENDAR