BEGIN:VCALENDAR
VERSION:2.0
PRODID:-//Beaverhead County - ECPv6.15.20//NONSGML v1.0//EN
CALSCALE:GREGORIAN
METHOD:PUBLISH
X-ORIGINAL-URL:https://beaverheadcountymt.gov
X-WR-CALDESC:Events for Beaverhead County
REFRESH-INTERVAL;VALUE=DURATION:PT1H
X-Robots-Tag:noindex
X-PUBLISHED-TTL:PT1H
BEGIN:VTIMEZONE
TZID:America/Denver
BEGIN:DAYLIGHT
TZOFFSETFROM:-0700
TZOFFSETTO:-0600
TZNAME:MDT
DTSTART:20230312T090000
END:DAYLIGHT
BEGIN:STANDARD
TZOFFSETFROM:-0600
TZOFFSETTO:-0700
TZNAME:MST
DTSTART:20231105T080000
END:STANDARD
BEGIN:DAYLIGHT
TZOFFSETFROM:-0700
TZOFFSETTO:-0600
TZNAME:MDT
DTSTART:20240310T090000
END:DAYLIGHT
BEGIN:STANDARD
TZOFFSETFROM:-0600
TZOFFSETTO:-0700
TZNAME:MST
DTSTART:20241103T080000
END:STANDARD
BEGIN:DAYLIGHT
TZOFFSETFROM:-0700
TZOFFSETTO:-0600
TZNAME:MDT
DTSTART:20250309T090000
END:DAYLIGHT
BEGIN:STANDARD
TZOFFSETFROM:-0600
TZOFFSETTO:-0700
TZNAME:MST
DTSTART:20251102T080000
END:STANDARD
END:VTIMEZONE
BEGIN:VEVENT
DTSTART;TZID=America/Denver:20240419T090000
DTEND;TZID=America/Denver:20240419T100000
DTSTAMP:20260425T070312
CREATED:20240416T160042Z
LAST-MODIFIED:20240416T160232Z
UID:14994-1713517200-1713520800@beaverheadcountymt.gov
SUMMARY:Beaverhead County/City Board of Health Meeting
DESCRIPTION:Breakfast at 8:30am \nAgenda \nCall meeting to order Establish Quorum \n\nBeaverhead County Tobacco Prevention Be The Change 406 Coalition Update\nPublic Health Update\nDES Update\nSanitarian Report\nPublic Comment\n\nDISCUSSION and/or ACTION ITEMS \n\nOld Business Approval of January 19\, 2024 Minutes\nCommunicable Disease and Pandemic Flu Plan review/report\nPublic Discussion/Comments on Subjects Under BOH Jurisdiction Not on Agenda\nNew business\nMeeting Schedule Next meeting tentatively July 19\, 2024 at BVHD County Courthouse\nAdjourn the meeting
URL:https://beaverheadcountymt.gov/event/beaverhead-county-city-board-of-health-meeting-10/
LOCATION:Courthouse Break Room\, 2 S. Pacific St\, Dillon\, MT\, 59725\, United States
CATEGORIES:Meeting
END:VEVENT
END:VCALENDAR