BEGIN:VCALENDAR
VERSION:2.0
PRODID:-//Beaverhead County - ECPv6.15.20//NONSGML v1.0//EN
CALSCALE:GREGORIAN
METHOD:PUBLISH
X-WR-CALNAME:Beaverhead County
X-ORIGINAL-URL:https://beaverheadcountymt.gov
X-WR-CALDESC:Events for Beaverhead County
REFRESH-INTERVAL;VALUE=DURATION:PT1H
X-Robots-Tag:noindex
X-PUBLISHED-TTL:PT1H
BEGIN:VTIMEZONE
TZID:America/Denver
BEGIN:DAYLIGHT
TZOFFSETFROM:-0700
TZOFFSETTO:-0600
TZNAME:MDT
DTSTART:20240310T090000
END:DAYLIGHT
BEGIN:STANDARD
TZOFFSETFROM:-0600
TZOFFSETTO:-0700
TZNAME:MST
DTSTART:20241103T080000
END:STANDARD
BEGIN:DAYLIGHT
TZOFFSETFROM:-0700
TZOFFSETTO:-0600
TZNAME:MDT
DTSTART:20250309T090000
END:DAYLIGHT
BEGIN:STANDARD
TZOFFSETFROM:-0600
TZOFFSETTO:-0700
TZNAME:MST
DTSTART:20251102T080000
END:STANDARD
BEGIN:DAYLIGHT
TZOFFSETFROM:-0700
TZOFFSETTO:-0600
TZNAME:MDT
DTSTART:20260308T090000
END:DAYLIGHT
BEGIN:STANDARD
TZOFFSETFROM:-0600
TZOFFSETTO:-0700
TZNAME:MST
DTSTART:20261101T080000
END:STANDARD
END:VTIMEZONE
BEGIN:VEVENT
DTSTART;TZID=America/Denver:20250411T090000
DTEND;TZID=America/Denver:20250411T110000
DTSTAMP:20260422T100824
CREATED:20250409T161745Z
LAST-MODIFIED:20250409T161745Z
UID:16569-1744362000-1744369200@beaverheadcountymt.gov
SUMMARY:Beaverhead County/City Board of Health Meeting
DESCRIPTION:Agenda\n(Breakfast AT 8 30 A.M.) \n\n9:00a.m.\nCall meeting to order Establish Quorum \n\nReorganization of Board\nBeaverhead County Tobacco Prevention Be The Change 406 Coalition Update\nPublic Health Update\nDES Update\nSanitarian Report\nPublic Comment\n\nDiscussion and/or Action Items \n\nOld Business Approval of January 17\, 2025 Minutes\nReview COOP Plan\nPublic Discussion/Comments on Subjects Under BOH Jurisdiction Not on Agenda\nNew Business\nMeeting Schedule~ Next meeting tentatively July 18\, 2025\nAdjourn the Meeting
URL:https://beaverheadcountymt.gov/event/beaverhead-county-city-board-of-health-meeting-14/
LOCATION:Barrett Hospital Board Room\, 600 MT Hwy 91 S\, Dillon\, MT\, 59725\, United States
CATEGORIES:Meeting
ORGANIZER;CN="Dana Basile":MAILTO:dbasile@beaverheadcountymt.gov
END:VEVENT
END:VCALENDAR