BEGIN:VCALENDAR
VERSION:2.0
PRODID:-//Beaverhead County - ECPv6.15.20//NONSGML v1.0//EN
CALSCALE:GREGORIAN
METHOD:PUBLISH
X-ORIGINAL-URL:https://beaverheadcountymt.gov
X-WR-CALDESC:Events for Beaverhead County
REFRESH-INTERVAL;VALUE=DURATION:PT1H
X-Robots-Tag:noindex
X-PUBLISHED-TTL:PT1H
BEGIN:VTIMEZONE
TZID:America/Denver
BEGIN:DAYLIGHT
TZOFFSETFROM:-0700
TZOFFSETTO:-0600
TZNAME:MDT
DTSTART:20250309T090000
END:DAYLIGHT
BEGIN:STANDARD
TZOFFSETFROM:-0600
TZOFFSETTO:-0700
TZNAME:MST
DTSTART:20251102T080000
END:STANDARD
BEGIN:DAYLIGHT
TZOFFSETFROM:-0700
TZOFFSETTO:-0600
TZNAME:MDT
DTSTART:20260308T090000
END:DAYLIGHT
BEGIN:STANDARD
TZOFFSETFROM:-0600
TZOFFSETTO:-0700
TZNAME:MST
DTSTART:20261101T080000
END:STANDARD
BEGIN:DAYLIGHT
TZOFFSETFROM:-0700
TZOFFSETTO:-0600
TZNAME:MDT
DTSTART:20270314T090000
END:DAYLIGHT
BEGIN:STANDARD
TZOFFSETFROM:-0600
TZOFFSETTO:-0700
TZNAME:MST
DTSTART:20271107T080000
END:STANDARD
END:VTIMEZONE
BEGIN:VEVENT
DTSTART;TZID=America/Denver:20260312T120000
DTEND;TZID=America/Denver:20260312T140000
DTSTAMP:20260419T140500
CREATED:20260310T165755Z
LAST-MODIFIED:20260310T165755Z
UID:18370-1773316800-1773324000@beaverheadcountymt.gov
SUMMARY:Beaverhead County Mental Health Local Advisory Counsel Meeting
DESCRIPTION:Agenda\nIntroductions – Establish Quorum\nApproval of Minutes – February 12\, meeting\nAction Items:\n1. Request for Funds Early Childhood Coalition – Discussion and Action\n2. MSU Office of Rural Health presentation\n3. ACEs Task Force Request for Funding – Discussion and Action\nUpdates\n1. Local updates\nNew Business\nAdjourn
URL:https://beaverheadcountymt.gov/event/beaverhead-county-mental-health-local-advisory-counsel-meeting-11/
LOCATION:Lucy Carlson Library – UMW\, 710 S Atlantic St\, Dillon\, MT\, 59725\, United States
CATEGORIES:Meeting
ORGANIZER;CN="Dana Basile":MAILTO:dbasile@beaverheadcountymt.gov
END:VEVENT
END:VCALENDAR