BEGIN:VCALENDAR
VERSION:2.0
PRODID:-//Beaverhead County - ECPv6.15.20//NONSGML v1.0//EN
CALSCALE:GREGORIAN
METHOD:PUBLISH
X-ORIGINAL-URL:https://beaverheadcountymt.gov
X-WR-CALDESC:Events for Beaverhead County
REFRESH-INTERVAL;VALUE=DURATION:PT1H
X-Robots-Tag:noindex
X-PUBLISHED-TTL:PT1H
BEGIN:VTIMEZONE
TZID:America/Denver
BEGIN:DAYLIGHT
TZOFFSETFROM:-0700
TZOFFSETTO:-0600
TZNAME:MDT
DTSTART:20220313T090000
END:DAYLIGHT
BEGIN:STANDARD
TZOFFSETFROM:-0600
TZOFFSETTO:-0700
TZNAME:MST
DTSTART:20221106T080000
END:STANDARD
BEGIN:DAYLIGHT
TZOFFSETFROM:-0700
TZOFFSETTO:-0600
TZNAME:MDT
DTSTART:20230312T090000
END:DAYLIGHT
BEGIN:STANDARD
TZOFFSETFROM:-0600
TZOFFSETTO:-0700
TZNAME:MST
DTSTART:20231105T080000
END:STANDARD
BEGIN:DAYLIGHT
TZOFFSETFROM:-0700
TZOFFSETTO:-0600
TZNAME:MDT
DTSTART:20240310T090000
END:DAYLIGHT
BEGIN:STANDARD
TZOFFSETFROM:-0600
TZOFFSETTO:-0700
TZNAME:MST
DTSTART:20241103T080000
END:STANDARD
END:VTIMEZONE
BEGIN:VEVENT
DTSTART;TZID=America/Denver:20230117T180000
DTEND;TZID=America/Denver:20230117T190000
DTSTAMP:20260424T063721
CREATED:20230111T212505Z
LAST-MODIFIED:20230111T212550Z
UID:9038-1673978400-1673982000@beaverheadcountymt.gov
SUMMARY:Beaverhead County Weed Board Meeting
DESCRIPTION:AGENDA \n\nPublic Comment: Items on the Agenda \nRe-organization of the Board \nProposed Action: Elect Chair and Vice Chair \nApproval of Minutes from November 16\, 2022 meeting \nFinancial Report \nNon-Compliance \nSubdivision Weed Plan Review \nProposed Action: Approve\, Amend\, or Reject: Jones Family Minor Subdivision Noxious Week Management and Revegetation Plan \n2022 Project/Grant Review \nCoordinator/Assistant Coordinator Report \nPublic Comment: Items not on the Agenda \nAdjourn
URL:https://beaverheadcountymt.gov/event/beaverhead-county-weed-board-meeting-14/
LOCATION:Commissioners’ Meeting Room\, 2 S. Pacific St\, Dillon\, MT\, 59725\, United States
CATEGORIES:Meeting
ORGANIZER;CN="Amber Burch":MAILTO:aburch@beaverheadcountymt.gov
END:VEVENT
END:VCALENDAR