BEGIN:VCALENDAR
VERSION:2.0
PRODID:-//Beaverhead County - ECPv6.15.20//NONSGML v1.0//EN
CALSCALE:GREGORIAN
METHOD:PUBLISH
X-ORIGINAL-URL:https://beaverheadcountymt.gov
X-WR-CALDESC:Events for Beaverhead County
REFRESH-INTERVAL;VALUE=DURATION:PT1H
X-Robots-Tag:noindex
X-PUBLISHED-TTL:PT1H
BEGIN:VTIMEZONE
TZID:America/Denver
BEGIN:DAYLIGHT
TZOFFSETFROM:-0700
TZOFFSETTO:-0600
TZNAME:MDT
DTSTART:20220313T090000
END:DAYLIGHT
BEGIN:STANDARD
TZOFFSETFROM:-0600
TZOFFSETTO:-0700
TZNAME:MST
DTSTART:20221106T080000
END:STANDARD
BEGIN:DAYLIGHT
TZOFFSETFROM:-0700
TZOFFSETTO:-0600
TZNAME:MDT
DTSTART:20230312T090000
END:DAYLIGHT
BEGIN:STANDARD
TZOFFSETFROM:-0600
TZOFFSETTO:-0700
TZNAME:MST
DTSTART:20231105T080000
END:STANDARD
BEGIN:DAYLIGHT
TZOFFSETFROM:-0700
TZOFFSETTO:-0600
TZNAME:MDT
DTSTART:20240310T090000
END:DAYLIGHT
BEGIN:STANDARD
TZOFFSETFROM:-0600
TZOFFSETTO:-0700
TZNAME:MST
DTSTART:20241103T080000
END:STANDARD
END:VTIMEZONE
BEGIN:VEVENT
DTSTART;TZID=America/Denver:20230705T080000
DTEND;TZID=America/Denver:20230705T170000
DTSTAMP:20260423T175953
CREATED:20230216T215041Z
LAST-MODIFIED:20230223T184001Z
UID:9213-1688544000-1688576400@beaverheadcountymt.gov
SUMMARY:Little Sheep Creek Spray Day
DESCRIPTION:Below Straight Creek Cabin
URL:https://beaverheadcountymt.gov/event/little-sheep-creek-spray-day-2/
LOCATION:Straight Creek Cabin\, 5825 Little Sheep Creek Rd\, Lima\, MT\, 59739\, United States
CATEGORIES:Event
ORGANIZER;CN="Amber Burch":MAILTO:aburch@beaverheadcountymt.gov
END:VEVENT
BEGIN:VEVENT
DTSTART;TZID=America/Denver:20230706T080000
DTEND;TZID=America/Denver:20230706T170000
DTSTAMP:20260423T175953
CREATED:20230216T220055Z
LAST-MODIFIED:20230223T184545Z
UID:9215-1688630400-1688662800@beaverheadcountymt.gov
SUMMARY:Monida Hill/Price Peat Spray Day
DESCRIPTION:Top of Monida Pass
URL:https://beaverheadcountymt.gov/event/monida-hill-price-peat-spray-day-2/
LOCATION:Monida Pass Top\, 1570 South Valley Rd\, Lima\, MT\, 59739\, United States
CATEGORIES:Event
ORGANIZER;CN="Amber Burch":MAILTO:aburch@beaverheadcountymt.gov
END:VEVENT
BEGIN:VEVENT
DTSTART;TZID=America/Denver:20230708T080000
DTEND;TZID=America/Denver:20230708T170000
DTSTAMP:20260423T175953
CREATED:20230216T220158Z
LAST-MODIFIED:20230223T185001Z
UID:9217-1688803200-1688835600@beaverheadcountymt.gov
SUMMARY:Beaverhead County Weed Day
DESCRIPTION:High School Parking Lot
URL:https://beaverheadcountymt.gov/event/beaverhead-county-weed-day-3/
LOCATION:BCHS Parking Lot\, 415 Thomsen Ave\, Dillon\, MT\, 59725\, United States
CATEGORIES:Event
ORGANIZER;CN="Amber Burch":MAILTO:aburch@beaverheadcountymt.gov
END:VEVENT
BEGIN:VEVENT
DTSTART;TZID=America/Denver:20230711T080000
DTEND;TZID=America/Denver:20230711T170000
DTSTAMP:20260423T175953
CREATED:20230216T220251Z
LAST-MODIFIED:20230223T185417Z
UID:9219-1689062400-1689094800@beaverheadcountymt.gov
SUMMARY:Snowline Spray Day
DESCRIPTION:Snowline Gravel Pit
URL:https://beaverheadcountymt.gov/event/snowline-spray-day-3/
LOCATION:Snowline Gravel Pit\, I-15 MM 9\, Lima\, MT\, 59739\, United States
CATEGORIES:Event
ORGANIZER;CN="Amber Burch":MAILTO:aburch@beaverheadcountymt.gov
END:VEVENT
BEGIN:VEVENT
DTSTART;TZID=America/Denver:20230712T080000
DTEND;TZID=America/Denver:20230712T170000
DTSTAMP:20260423T175953
CREATED:20230216T220345Z
LAST-MODIFIED:20230223T192908Z
UID:9221-1689148800-1689181200@beaverheadcountymt.gov
SUMMARY:Wisdom Spray Day
DESCRIPTION:County Road Shop
URL:https://beaverheadcountymt.gov/event/wisdom-spray-day-3/
LOCATION:Wisdom Road Shop\, 109 County Rd\, Wisdom\, MT\, 59761\, United States
CATEGORIES:Event
ORGANIZER;CN="Amber Burch":MAILTO:aburch@beaverheadcountymt.gov
END:VEVENT
BEGIN:VEVENT
DTSTART;TZID=America/Denver:20230714T080000
DTEND;TZID=America/Denver:20230714T170000
DTSTAMP:20260423T175953
CREATED:20230216T220412Z
LAST-MODIFIED:20230223T193020Z
UID:9223-1689321600-1689354000@beaverheadcountymt.gov
SUMMARY:Wise River Spray Day
DESCRIPTION:Wise River Fire Hall
URL:https://beaverheadcountymt.gov/event/wise-river-spray-day-3/
LOCATION:Wise River Fire Hall\, 64845 Hwy 43\, Wise River\, MT\, 59762\, United States
CATEGORIES:Event
ORGANIZER;CN="Amber Burch":MAILTO:aburch@beaverheadcountymt.gov
END:VEVENT
BEGIN:VEVENT
DTSTART;TZID=America/Denver:20230718T083000
DTEND;TZID=America/Denver:20230718T170000
DTSTAMP:20260423T175953
CREATED:20230216T220510Z
LAST-MODIFIED:20230223T193404Z
UID:9225-1689669000-1689699600@beaverheadcountymt.gov
SUMMARY:Beaverhead/Ravalli Spray Day
DESCRIPTION:Chief Joseph Pass Turn-off
URL:https://beaverheadcountymt.gov/event/beaverhead-ravalli-spray-day-2/
LOCATION:Chief Joseph Pass\, 1 Hwy 43\, Wisdom\, MT\, 59761\, United States
CATEGORIES:Event
ORGANIZER;CN="Amber Burch":MAILTO:aburch@beaverheadcountymt.gov
END:VEVENT
BEGIN:VEVENT
DTSTART;TZID=America/Denver:20230719T080000
DTEND;TZID=America/Denver:20230719T170000
DTSTAMP:20260423T175953
CREATED:20230216T220805Z
LAST-MODIFIED:20230223T194905Z
UID:9227-1689753600-1689786000@beaverheadcountymt.gov
SUMMARY:Mussigbrod Spray Day
DESCRIPTION:Mussigbrod Turn-off
URL:https://beaverheadcountymt.gov/event/mussigbrod-spray-day/
LOCATION:Mussigbrod Lake Rd Turnoff\, 11810 Lower North Fork Rd\, Wisdom\, MT\, 59761\, United States
CATEGORIES:Event
ORGANIZER;CN="Amber Burch":MAILTO:aburch@beaverheadcountymt.gov
END:VEVENT
BEGIN:VEVENT
DTSTART;TZID=America/Denver:20230721T080000
DTEND;TZID=America/Denver:20230721T170000
DTSTAMP:20260423T175953
CREATED:20230216T220853Z
LAST-MODIFIED:20230301T160722Z
UID:9229-1689926400-1689958800@beaverheadcountymt.gov
SUMMARY:Divide Spray Day
DESCRIPTION:Divide Fishing Access
URL:https://beaverheadcountymt.gov/event/divide-spray-day/
LOCATION:Divide Fishing Access\, 74916 Hwy 43\, Divide\, MT\, 59727\, United States
CATEGORIES:Event
ORGANIZER;CN="Amber Burch":MAILTO:aburch@beaverheadcountymt.gov
END:VEVENT
BEGIN:VEVENT
DTSTART;TZID=America/Denver:20230722T080000
DTEND;TZID=America/Denver:20230722T170000
DTSTAMP:20260423T175953
CREATED:20230216T220931Z
LAST-MODIFIED:20230301T160805Z
UID:9231-1690012800-1690045200@beaverheadcountymt.gov
SUMMARY:Argenta Spray Day
DESCRIPTION:School Bus Turn Around
URL:https://beaverheadcountymt.gov/event/argenta-spray-day-5/
LOCATION:Argenta Road School Bus Turn-around\, 5345 Argenta Rd\, Dillon\, MT\, 5975\, United States
CATEGORIES:Event
ORGANIZER;CN="Amber Burch":MAILTO:aburch@beaverheadcountymt.gov
END:VEVENT
BEGIN:VEVENT
DTSTART;TZID=America/Denver:20230725T080000
DTEND;TZID=America/Denver:20230725T170000
DTSTAMP:20260423T175953
CREATED:20230216T221008Z
LAST-MODIFIED:20230301T161410Z
UID:9233-1690272000-1690304400@beaverheadcountymt.gov
SUMMARY:Medicine Lodge Spray Day
DESCRIPTION:Hansen Creek Turn-off
URL:https://beaverheadcountymt.gov/event/medicine-lodge-spray-day-2/
LOCATION:Hansen Creek Turnoff\, 5970 Medicine Lodge Rd\, Dillon\, MT\, 59725\, United States
CATEGORIES:Event
ORGANIZER;CN="Amber Burch":MAILTO:aburch@beaverheadcountymt.gov
END:VEVENT
BEGIN:VEVENT
DTSTART;TZID=America/Denver:20230726T080000
DTEND;TZID=America/Denver:20230726T170000
DTSTAMP:20260423T175953
CREATED:20230216T221039Z
LAST-MODIFIED:20230301T161904Z
UID:9235-1690358400-1690390800@beaverheadcountymt.gov
SUMMARY:Horse Prairie Spray Day
DESCRIPTION:Shoshone Ridge Interpretative Site
URL:https://beaverheadcountymt.gov/event/horse-prairie-spray-day-2/
LOCATION:Shoshone Ridge Interpretive Site\, 22305 Hwy 324\, Dillon\, MT\, 59725\, United States
CATEGORIES:Event
ORGANIZER;CN="Amber Burch":MAILTO:aburch@beaverheadcountymt.gov
END:VEVENT
BEGIN:VEVENT
DTSTART;TZID=America/Denver:20230727T080000
DTEND;TZID=America/Denver:20230727T170000
DTSTAMP:20260423T175953
CREATED:20230216T221156Z
LAST-MODIFIED:20230301T162223Z
UID:9237-1690444800-1690477200@beaverheadcountymt.gov
SUMMARY:Dyce Creek Spray Day
DESCRIPTION:Dyce Creek Turn-off
URL:https://beaverheadcountymt.gov/event/dyce-creek-spray-day-2/
LOCATION:Dyce Creek Road Turn-off\, 4350 Taylor Creek Rd\, Dillon\, MT\, 59725\, United States
CATEGORIES:Event
ORGANIZER;CN="Amber Burch":MAILTO:aburch@beaverheadcountymt.gov
END:VEVENT
BEGIN:VEVENT
DTSTART;TZID=America/Denver:20230728T080000
DTEND;TZID=America/Denver:20230728T170000
DTSTAMP:20260423T175953
CREATED:20230216T221243Z
LAST-MODIFIED:20230301T162720Z
UID:9239-1690531200-1690563600@beaverheadcountymt.gov
SUMMARY:Wise River Pull/Deep Creek
DESCRIPTION:Ralston’s
URL:https://beaverheadcountymt.gov/event/wise-river-pull-deep-creek/
LOCATION:Ralston Ranch\, 54289 Hwy 43\, Wise River\, MT\, 59762\, United States
CATEGORIES:Event
ORGANIZER;CN="Amber Burch":MAILTO:aburch@beaverheadcountymt.gov
END:VEVENT
END:VCALENDAR