BEGIN:VCALENDAR
VERSION:2.0
PRODID:-//Beaverhead County - ECPv6.15.20//NONSGML v1.0//EN
CALSCALE:GREGORIAN
METHOD:PUBLISH
X-WR-CALNAME:Beaverhead County
X-ORIGINAL-URL:https://beaverheadcountymt.gov
X-WR-CALDESC:Events for Beaverhead County
REFRESH-INTERVAL;VALUE=DURATION:PT1H
X-Robots-Tag:noindex
X-PUBLISHED-TTL:PT1H
BEGIN:VTIMEZONE
TZID:America/Denver
BEGIN:DAYLIGHT
TZOFFSETFROM:-0700
TZOFFSETTO:-0600
TZNAME:MDT
DTSTART:20220313T090000
END:DAYLIGHT
BEGIN:STANDARD
TZOFFSETFROM:-0600
TZOFFSETTO:-0700
TZNAME:MST
DTSTART:20221106T080000
END:STANDARD
BEGIN:DAYLIGHT
TZOFFSETFROM:-0700
TZOFFSETTO:-0600
TZNAME:MDT
DTSTART:20230312T090000
END:DAYLIGHT
BEGIN:STANDARD
TZOFFSETFROM:-0600
TZOFFSETTO:-0700
TZNAME:MST
DTSTART:20231105T080000
END:STANDARD
BEGIN:DAYLIGHT
TZOFFSETFROM:-0700
TZOFFSETTO:-0600
TZNAME:MDT
DTSTART:20240310T090000
END:DAYLIGHT
BEGIN:STANDARD
TZOFFSETFROM:-0600
TZOFFSETTO:-0700
TZNAME:MST
DTSTART:20241103T080000
END:STANDARD
END:VTIMEZONE
BEGIN:VEVENT
DTSTART;TZID=America/Denver:20230909T080000
DTEND;TZID=America/Denver:20230909T170000
DTSTAMP:20260423T145534
CREATED:20230216T222131Z
LAST-MODIFIED:20230302T172628Z
UID:9256-1694246400-1694278800@beaverheadcountymt.gov
SUMMARY:Wise River Spray Day
DESCRIPTION:Wise River Fire Hall
URL:https://beaverheadcountymt.gov/event/wise-river-spray-day-4/
LOCATION:Wise River Fire Hall\, 64845 Hwy 43\, Wise River\, MT\, 59762\, United States
CATEGORIES:Event
ORGANIZER;CN="Amber Burch":MAILTO:aburch@beaverheadcountymt.gov
END:VEVENT
BEGIN:VEVENT
DTSTART;TZID=America/Denver:20230916T170000
DTEND;TZID=America/Denver:20230916T220000
DTSTAMP:20260423T145534
CREATED:20230216T222221Z
LAST-MODIFIED:20230302T172708Z
UID:9258-1694883600-1694901600@beaverheadcountymt.gov
SUMMARY:Weed Whacker's Ball
DESCRIPTION:Wise River Community Building
URL:https://beaverheadcountymt.gov/event/weed-whackers-ball/
LOCATION:Wise River Community Center
CATEGORIES:Event
ORGANIZER;CN="Amber Burch":MAILTO:aburch@beaverheadcountymt.gov
END:VEVENT
END:VCALENDAR