BEGIN:VCALENDAR
VERSION:2.0
PRODID:-//Beaverhead County - ECPv6.15.20//NONSGML v1.0//EN
CALSCALE:GREGORIAN
METHOD:PUBLISH
X-WR-CALNAME:Beaverhead County
X-ORIGINAL-URL:https://beaverheadcountymt.gov
X-WR-CALDESC:Events for Beaverhead County
REFRESH-INTERVAL;VALUE=DURATION:PT1H
X-Robots-Tag:noindex
X-PUBLISHED-TTL:PT1H
BEGIN:VTIMEZONE
TZID:America/Denver
BEGIN:DAYLIGHT
TZOFFSETFROM:-0700
TZOFFSETTO:-0600
TZNAME:MDT
DTSTART:20220313T090000
END:DAYLIGHT
BEGIN:STANDARD
TZOFFSETFROM:-0600
TZOFFSETTO:-0700
TZNAME:MST
DTSTART:20221106T080000
END:STANDARD
BEGIN:DAYLIGHT
TZOFFSETFROM:-0700
TZOFFSETTO:-0600
TZNAME:MDT
DTSTART:20230312T090000
END:DAYLIGHT
BEGIN:STANDARD
TZOFFSETFROM:-0600
TZOFFSETTO:-0700
TZNAME:MST
DTSTART:20231105T080000
END:STANDARD
BEGIN:DAYLIGHT
TZOFFSETFROM:-0700
TZOFFSETTO:-0600
TZNAME:MDT
DTSTART:20240310T090000
END:DAYLIGHT
BEGIN:STANDARD
TZOFFSETFROM:-0600
TZOFFSETTO:-0700
TZNAME:MST
DTSTART:20241103T080000
END:STANDARD
END:VTIMEZONE
BEGIN:VEVENT
DTSTART;TZID=America/Denver:20231106T180000
DTEND;TZID=America/Denver:20231106T190000
DTSTAMP:20260423T112444
CREATED:20231031T225229Z
LAST-MODIFIED:20231103T134350Z
UID:10008-1699293600-1699297200@beaverheadcountymt.gov
SUMMARY:Beaverhead County Weed Board Meeting
DESCRIPTION:Agenda \n\nPublic Comment: Items on the Agenda \nApproval of Minutes from August 28\, 2023 meeting \nFinancial Report \nNon-Compliance \nWeed Plan Review \nProposed Action: Approve\, Amend\, or Reject Holland Gravel Pit Noxious Weed Management and Revegetation Plan \nProposed Action: Approve\, Amend\, or Reject Ruby Graphite Exploration Noxious Weed Management and Revegetation Plan \nCoordinator/Assistant Coordinator Report \nPublic Comment: Items not on the Agenda \nAdjourn
URL:https://beaverheadcountymt.gov/event/beaverhead-county-weed-board-meeting-18/
LOCATION:Commissioners’ Meeting Room\, 2 S. Pacific St\, Dillon\, MT\, 59725\, United States
CATEGORIES:Meeting
ORGANIZER;CN="Amber Burch":MAILTO:aburch@beaverheadcountymt.gov
END:VEVENT
END:VCALENDAR