BEGIN:VCALENDAR
VERSION:2.0
PRODID:-//Beaverhead County - ECPv6.15.20//NONSGML v1.0//EN
CALSCALE:GREGORIAN
METHOD:PUBLISH
X-WR-CALNAME:Beaverhead County
X-ORIGINAL-URL:https://beaverheadcountymt.gov
X-WR-CALDESC:Events for Beaverhead County
REFRESH-INTERVAL;VALUE=DURATION:PT1H
X-Robots-Tag:noindex
X-PUBLISHED-TTL:PT1H
BEGIN:VTIMEZONE
TZID:America/Denver
BEGIN:DAYLIGHT
TZOFFSETFROM:-0700
TZOFFSETTO:-0600
TZNAME:MDT
DTSTART:20240310T090000
END:DAYLIGHT
BEGIN:STANDARD
TZOFFSETFROM:-0600
TZOFFSETTO:-0700
TZNAME:MST
DTSTART:20241103T080000
END:STANDARD
BEGIN:DAYLIGHT
TZOFFSETFROM:-0700
TZOFFSETTO:-0600
TZNAME:MDT
DTSTART:20250309T090000
END:DAYLIGHT
BEGIN:STANDARD
TZOFFSETFROM:-0600
TZOFFSETTO:-0700
TZNAME:MST
DTSTART:20251102T080000
END:STANDARD
BEGIN:DAYLIGHT
TZOFFSETFROM:-0700
TZOFFSETTO:-0600
TZNAME:MDT
DTSTART:20260308T090000
END:DAYLIGHT
BEGIN:STANDARD
TZOFFSETFROM:-0600
TZOFFSETTO:-0700
TZNAME:MST
DTSTART:20261101T080000
END:STANDARD
END:VTIMEZONE
BEGIN:VEVENT
DTSTART;TZID=America/Denver:20250708T080000
DTEND;TZID=America/Denver:20250708T170000
DTSTAMP:20260420T015538
CREATED:20250514T191355Z
LAST-MODIFIED:20250514T191355Z
UID:16810-1751961600-1751994000@beaverheadcountymt.gov
SUMMARY:Beaverhead Weed Day - Snowline
DESCRIPTION:Beaverhead Weed Day \nSnowline Gravel Pit
URL:https://beaverheadcountymt.gov/event/beaverhead-weed-day-snowline/
LOCATION:Snowline Gravel Pit\, I-15 MM 9\, Lima\, MT\, 59739\, United States
CATEGORIES:Event
ORGANIZER;CN="Amber Burch":MAILTO:aburch@beaverheadcountymt.gov
END:VEVENT
BEGIN:VEVENT
DTSTART;TZID=America/Denver:20250709T080000
DTEND;TZID=America/Denver:20250709T170000
DTSTAMP:20260420T015538
CREATED:20250514T191515Z
LAST-MODIFIED:20250514T191515Z
UID:16812-1752048000-1752080400@beaverheadcountymt.gov
SUMMARY:Beaverhead Weed Day - Little Sheep Creek
DESCRIPTION:Beaverhead Weed Day \nLittle Sheep Creek below Straight Creek Cabin
URL:https://beaverheadcountymt.gov/event/beaverhead-weed-day-little-sheep-creek/
LOCATION:Straight Creek Cabin\, 5825 Little Sheep Creek Rd\, Lima\, MT\, 59739\, United States
CATEGORIES:Event
ORGANIZER;CN="Amber Burch":MAILTO:aburch@beaverheadcountymt.gov
END:VEVENT
BEGIN:VEVENT
DTSTART;TZID=America/Denver:20250710T080000
DTEND;TZID=America/Denver:20250710T170000
DTSTAMP:20260420T015538
CREATED:20250514T191702Z
LAST-MODIFIED:20250514T191702Z
UID:16814-1752134400-1752166800@beaverheadcountymt.gov
SUMMARY:Beaverhead Weed Day - Monida/Price Peat Creek
DESCRIPTION:Beaverhead Weed Day \nMonida/Price Peat Creek\, Top of Monida Pass
URL:https://beaverheadcountymt.gov/event/beaverhead-weed-day-monida-price-peat-creek/
LOCATION:Monida Pass Top\, 1570 South Valley Rd\, Lima\, MT\, 59739\, United States
CATEGORIES:Event
ORGANIZER;CN="Amber Burch":MAILTO:aburch@beaverheadcountymt.gov
END:VEVENT
BEGIN:VEVENT
DTSTART;TZID=America/Denver:20250712T080000
DTEND;TZID=America/Denver:20250712T170000
DTSTAMP:20260420T015538
CREATED:20250514T191818Z
LAST-MODIFIED:20250514T191818Z
UID:16816-1752307200-1752339600@beaverheadcountymt.gov
SUMMARY:Beaverhead Weed Day - Dillon
DESCRIPTION:Beaverhead Weed Day \nBCHS Parking Lot
URL:https://beaverheadcountymt.gov/event/beaverhead-weed-day-dillon/
LOCATION:BCHS Parking Lot\, 415 Thomsen Ave\, Dillon\, MT\, 59725\, United States
CATEGORIES:Event
ORGANIZER;CN="Amber Burch":MAILTO:aburch@beaverheadcountymt.gov
END:VEVENT
BEGIN:VEVENT
DTSTART;TZID=America/Denver:20250715T080000
DTEND;TZID=America/Denver:20250715T170000
DTSTAMP:20260420T015538
CREATED:20250514T191950Z
LAST-MODIFIED:20250514T191950Z
UID:16818-1752566400-1752598800@beaverheadcountymt.gov
SUMMARY:Beaverhead Weed Day - Pioneer Mtns Scenic Byway
DESCRIPTION:Beaverhead Weed Day \nPioneer Mountains Scenic Byway\, Wise River Fire Hall
URL:https://beaverheadcountymt.gov/event/beaverhead-weed-day-pioneer-mtns-scenic-byway/
LOCATION:Wise River Fire Hall\, 64845 Hwy 43\, Wise River\, MT\, 59762\, United States
CATEGORIES:Event
ORGANIZER;CN="Amber Burch":MAILTO:aburch@beaverheadcountymt.gov
END:VEVENT
BEGIN:VEVENT
DTSTART;TZID=America/Denver:20250716T080000
DTEND;TZID=America/Denver:20250716T170000
DTSTAMP:20260420T015538
CREATED:20250514T192117Z
LAST-MODIFIED:20250514T192117Z
UID:16820-1752652800-1752685200@beaverheadcountymt.gov
SUMMARY:Beaverhead Weed Day - Wisdom
DESCRIPTION:Beaverhead Weed Day \nWisdom County Road Shop
URL:https://beaverheadcountymt.gov/event/beaverhead-weed-day-wisdom/
LOCATION:Wisdom Road Shop\, 109 County Rd\, Wisdom\, MT\, 59761\, United States
CATEGORIES:Event
ORGANIZER;CN="Amber Burch":MAILTO:aburch@beaverheadcountymt.gov
END:VEVENT
BEGIN:VEVENT
DTSTART;TZID=America/Denver:20250717T080000
DTEND;TZID=America/Denver:20250717T170000
DTSTAMP:20260420T015538
CREATED:20250514T192436Z
LAST-MODIFIED:20250514T192436Z
UID:16822-1752739200-1752771600@beaverheadcountymt.gov
SUMMARY:Beaverhead Weed Day - Hwy 43
DESCRIPTION:Beaverhead Weed Day \nTrail Creek Turn-off
URL:https://beaverheadcountymt.gov/event/beaverhead-weed-day-hwy-43/
LOCATION:Trail Creek Turn-off\, 7565 MT Hwy 43\, Wisdom\, MT\, 59761\, United States
CATEGORIES:Event
ORGANIZER;CN="Amber Burch":MAILTO:aburch@beaverheadcountymt.gov
END:VEVENT
BEGIN:VEVENT
DTSTART;TZID=America/Denver:20250718T080000
DTEND;TZID=America/Denver:20250718T170000
DTSTAMP:20260420T015538
CREATED:20250514T192955Z
LAST-MODIFIED:20250514T192955Z
UID:16825-1752825600-1752858000@beaverheadcountymt.gov
SUMMARY:Beaverhead Weed Day - Wise River
DESCRIPTION:Beaverhead Weed Day \nWise River Fire Hall
URL:https://beaverheadcountymt.gov/event/beaverhead-weed-day-wise-river/
LOCATION:Wise River Fire Hall\, 64845 Hwy 43\, Wise River\, MT\, 59762\, United States
CATEGORIES:Event
ORGANIZER;CN="Amber Burch":MAILTO:aburch@beaverheadcountymt.gov
END:VEVENT
BEGIN:VEVENT
DTSTART;TZID=America/Denver:20250722T090000
DTEND;TZID=America/Denver:20250722T170000
DTSTAMP:20260420T015538
CREATED:20250514T193110Z
LAST-MODIFIED:20250514T193110Z
UID:16827-1753174800-1753203600@beaverheadcountymt.gov
SUMMARY:Beaverhead Weed Day - Ravalli
DESCRIPTION:Beaverhead Weed Day \nChief Joseph Pass Turn-off
URL:https://beaverheadcountymt.gov/event/beaverhead-weed-day-ravalli/
LOCATION:Chief Joseph Pass\, 1 Hwy 43\, Wisdom\, MT\, 59761\, United States
CATEGORIES:Event
ORGANIZER;CN="Amber Burch":MAILTO:aburch@beaverheadcountymt.gov
END:VEVENT
BEGIN:VEVENT
DTSTART;TZID=America/Denver:20250723T090000
DTEND;TZID=America/Denver:20250723T170000
DTSTAMP:20260420T015538
CREATED:20250514T193229Z
LAST-MODIFIED:20250514T193229Z
UID:16829-1753261200-1753290000@beaverheadcountymt.gov
SUMMARY:Beaverhead Weed Day - Mussigbrod
DESCRIPTION:Beaverhead Weed Day \nMussigbrod Turn-Off
URL:https://beaverheadcountymt.gov/event/beaverhead-weed-day-mussigbrod/
LOCATION:Mussigbrod Lake Rd Turnoff\, 11810 Lower North Fork Rd\, Wisdom\, MT\, 59761\, United States
CATEGORIES:Event
ORGANIZER;CN="Amber Burch":MAILTO:aburch@beaverheadcountymt.gov
END:VEVENT
BEGIN:VEVENT
DTSTART;TZID=America/Denver:20250725T080000
DTEND;TZID=America/Denver:20250725T170000
DTSTAMP:20260420T015538
CREATED:20250514T193337Z
LAST-MODIFIED:20250514T193337Z
UID:16831-1753430400-1753462800@beaverheadcountymt.gov
SUMMARY:Beaverhead Weed Day - Divide
DESCRIPTION:Beaverhead Weed Day \nDivide Bridge Fishing Access
URL:https://beaverheadcountymt.gov/event/beaverhead-weed-day-divide/
LOCATION:Divide Fishing Access\, 74916 Hwy 43\, Divide\, MT\, 59727\, United States
CATEGORIES:Event
ORGANIZER;CN="Amber Burch":MAILTO:aburch@beaverheadcountymt.gov
END:VEVENT
BEGIN:VEVENT
DTSTART;TZID=America/Denver:20250726T080000
DTEND;TZID=America/Denver:20250726T170000
DTSTAMP:20260420T015538
CREATED:20250514T193507Z
LAST-MODIFIED:20250514T193507Z
UID:16833-1753516800-1753549200@beaverheadcountymt.gov
SUMMARY:Beaverhead Weed Day - Argenta
DESCRIPTION:Beaverhead Weed Day \nArgenta Road Bus Turn Around
URL:https://beaverheadcountymt.gov/event/beaverhead-weed-day-argenta-2/
LOCATION:Argenta Road School Bus Turn-around\, 5345 Argenta Rd\, Dillon\, MT\, 5975\, United States
CATEGORIES:Event
ORGANIZER;CN="Amber Burch":MAILTO:aburch@beaverheadcountymt.gov
END:VEVENT
BEGIN:VEVENT
DTSTART;TZID=America/Denver:20250728T180000
DTEND;TZID=America/Denver:20250728T190000
DTSTAMP:20260420T015538
CREATED:20250724T171108Z
LAST-MODIFIED:20250724T171228Z
UID:17183-1753725600-1753729200@beaverheadcountymt.gov
SUMMARY:Beaverhead County Weed Board Meeting
DESCRIPTION:Agenda: \n\nPublic Comment: Items on the Agenda\nApproval of Minutes from June 3\, 2025 meeting\nFinancial Report\nNon-Compliance\nWeed Plan Review\nProposed Action: Approve\, Amend\, or Reject: Rush-Beaverhead Post Company Minor Subdivision Noxious Weed Management and Revegetation Plan\nProposed Action: Approve\, Amend\, or Reject: Dillon Town Lot Minor Subdivision Noxious Weed Management and Revegetation Plan\nProposed Action: Approve\, Amend\, or Reject: Brundage Garage Minor Subdivision Noxious Weed Management and Revegetation Plan\nProposed Action: Approve\, Amend\, or Reject: End of the Road Minor Subdivision Noxious Weed Management and Revegetation Plan\n2025 Project Awards\nReview bid packets and information from commercial applicators. Applicators that have bid on projects will have an opportunity to make a short presentation to the board.\nProposed action: Board to award Trail Creek/Trail Ridge Fire Project\, Alder Creek Fire Project\nCoordinator/Assistant Coordinator Report\nPublic Comment: Items not on the Agenda\nAdjourn
URL:https://beaverheadcountymt.gov/event/beaverhead-county-weed-board-meeting-26/
LOCATION:Tom Welch Room\, 102 N Washington St\, Dillon\, MT\, 59725\, United States
CATEGORIES:Meeting
ORGANIZER;CN="Amber Burch":MAILTO:aburch@beaverheadcountymt.gov
END:VEVENT
BEGIN:VEVENT
DTSTART;TZID=America/Denver:20250729T080000
DTEND;TZID=America/Denver:20250729T170000
DTSTAMP:20260420T015538
CREATED:20250514T193652Z
LAST-MODIFIED:20250514T193652Z
UID:16835-1753776000-1753808400@beaverheadcountymt.gov
SUMMARY:Beaverhead Weed Day - Medicine Lodge
DESCRIPTION:Beaverhead Weed Day \nHansen Creek Turn-off
URL:https://beaverheadcountymt.gov/event/beaverhead-weed-day-medicine-lodge/
LOCATION:Hansen Creek Turnoff\, 5970 Medicine Lodge Rd\, Dillon\, MT\, 59725\, United States
CATEGORIES:Event
ORGANIZER;CN="Amber Burch":MAILTO:aburch@beaverheadcountymt.gov
END:VEVENT
BEGIN:VEVENT
DTSTART;TZID=America/Denver:20250730T080000
DTEND;TZID=America/Denver:20250730T170000
DTSTAMP:20260420T015538
CREATED:20250514T193829Z
LAST-MODIFIED:20250514T193829Z
UID:16837-1753862400-1753894800@beaverheadcountymt.gov
SUMMARY:Beaverhead Weed Day - Horse Prairie
DESCRIPTION:Beaverhead Weed Day \nShoshone Ridge Interpretive Site
URL:https://beaverheadcountymt.gov/event/beaverhead-weed-day-horse-prairie/
LOCATION:Shoshone Ridge Interpretive Site\, 22305 Hwy 324\, Dillon\, MT\, 59725\, United States
CATEGORIES:Event
ORGANIZER;CN="Amber Burch":MAILTO:aburch@beaverheadcountymt.gov
END:VEVENT
BEGIN:VEVENT
DTSTART;TZID=America/Denver:20250731T080000
DTEND;TZID=America/Denver:20250731T170000
DTSTAMP:20260420T015538
CREATED:20250514T193933Z
LAST-MODIFIED:20250514T193933Z
UID:16839-1753948800-1753981200@beaverheadcountymt.gov
SUMMARY:Beaverhead Weed Day - Dyce Creek
DESCRIPTION:Beaverhead Weed Day \nDyce Creek Road Turn-off
URL:https://beaverheadcountymt.gov/event/beaverhead-weed-day-dyce-creek/
LOCATION:Dyce Creek Road Turn-off\, 4350 Taylor Creek Rd\, Dillon\, MT\, 59725\, United States
CATEGORIES:Event
ORGANIZER;CN="Amber Burch":MAILTO:aburch@beaverheadcountymt.gov
END:VEVENT
END:VCALENDAR